BOTTLE,20140909LEGIRDAG
EXPOCODE,SECT_ID,STNNBR,CASTNO,SAMPNO,BTLNBR,BTLNBR_FLAG_W,DATE,TIME,LATITUDE,LONGITUDE,DEPTH,CTDPRS,CTDTMP,CTDSAL,CTDSAL_FLAG_W,SALNTY,SALNTY_FLAG_W,CTDOXY,CTDOXY_FLAG_W,OXYGEN,OXYGEN_FLAG_W
,,,,,,,,,,,,,DBARS,ITS-90,PSS-78,,PSS-78,,UMOL/KG,,UMOL/KG,
PANDORA,,075,01,, 1,,20140120,194705, -6.6642, 149.9992, 5034,   2000.6,   2.2320,    34.6410,0,    34.6410,2,      123.1,0,      128.4,2
PANDORA,,075,01,, 2,,20140120,194705, -6.6642, 149.9992, 5034,   1735.2,   2.4970,    34.6230,0,  -999.0000,9,      120.7,0,     -999.0,9
PANDORA,,075,01,, 3,,20140120,194705, -6.6642, 149.9992, 5034,   1535.7,   2.8490,    34.6010,0,    34.6010,2,      120.1,0,      124.0,2
PANDORA,,075,01,, 4,,20140120,194705, -6.6642, 149.9992, 5034,   1336.0,   3.3550,    34.5700,0,  -999.0000,9,      123.4,0,     -999.0,9
PANDORA,,075,01,, 5,,20140120,194705, -6.6642, 149.9992, 5034,   1135.7,   3.9580,    34.5320,0,    34.5310,2,      133.5,0,      137.1,2
PANDORA,,075,01,, 6,,20140120,194705, -6.6642, 149.9992, 5034,    965.7,   4.5310,    34.5070,0,  -999.0000,9,      136.7,0,     -999.0,9
PANDORA,,075,01,, 7,,20140120,194705, -6.6642, 149.9992, 5034,    865.8,   4.9660,    34.4850,0,    34.4850,2,      147.2,0,      149.9,2
PANDORA,,075,01,, 8,,20140120,194705, -6.6642, 149.9992, 5034,    765.5,   5.4810,    34.4620,0,  -999.0000,9,      160.6,0,     -999.0,9
PANDORA,,075,01,, 9,,20140120,194705, -6.6642, 149.9992, 5034,    665.9,   6.4790,    34.4740,0,    34.4740,2,      172.2,0,      175.6,2
PANDORA,,075,01,,10,,20140120,194705, -6.6642, 149.9992, 5034,    565.0,   7.3160,    34.5170,0,  -999.0000,9,      175.2,0,     -999.0,9
PANDORA,,075,01,,11,,20140120,194705, -6.6642, 149.9992, 5034,    466.0,   8.6120,    34.6020,0,    34.6020,2,      161.8,0,      170.3,3
PANDORA,,075,01,,12,,20140120,194705, -6.6642, 149.9992, 5034,    365.7,  11.7060,    34.8680,0,  -999.0000,9,      136.8,0,     -999.0,9
PANDORA,,075,01,,13,,20140120,194705, -6.6642, 149.9992, 5034,    285.6,  16.4780,    35.3110,0,    35.3100,2,      125.2,0,      128.6,2
PANDORA,,075,01,,14,,20140120,194705, -6.6642, 149.9992, 5034,    235.7,  19.6300,    35.6080,0,  -999.0000,9,      128.1,0,     -999.0,9
PANDORA,,075,01,,15,,20140120,194705, -6.6642, 149.9992, 5034,    185.7,  22.4080,    35.7400,0,  -999.0000,9,      127.1,0,     -999.0,9
PANDORA,,075,01,,16,,20140120,194705, -6.6642, 149.9992, 5034,    136.0,  22.8120,    35.5090,0,    35.5080,2,      141.7,0,      146.0,2
PANDORA,,075,01,,17,,20140120,194705, -6.6642, 149.9992, 5034,    136.1,  22.8140,    35.5090,0,    35.5070,2,      141.5,0,      145.9,2
PANDORA,,075,01,,18,,20140120,194705, -6.6642, 149.9992, 5034,    101.1,  24.3610,    35.4490,0,  -999.0000,9,      143.6,0,     -999.0,9
PANDORA,,075,01,,19,,20140120,194705, -6.6642, 149.9992, 5034,     75.7,  26.3430,    35.2580,0,    35.2560,2,      152.5,0,      157.2,2
PANDORA,,075,01,,20,,20140120,194705, -6.6642, 149.9992, 5034,     50.1,  26.6410,    35.1860,0,  -999.0000,9,      155.9,0,     -999.0,9
PANDORA,,075,01,,21,,20140120,194705, -6.6642, 149.9992, 5034,     25.3,  28.1520,    34.8290,0,    34.8270,2,      185.3,0,      191.5,2
PANDORA,,075,01,,22,,20140120,194705, -6.6642, 149.9992, 5034,      5.4,  28.1460,    34.8290,0,  -999.0000,9,      185.9,0,     -999.0,9
PANDORA,,076,01,, 1,,20140120,231911, -6.4148, 149.9975, 1584,   1595.2,   2.8600,    34.6010,0,  -999.0000,9,      119.9,0,     -999.0,9
PANDORA,,076,01,, 2,,20140120,231911, -6.4148, 149.9975, 1584,   1501.0,   3.0250,    34.5900,0,    34.5900,2,      120.3,0,      124.7,2
PANDORA,,076,01,, 3,,20140120,231911, -6.4148, 149.9975, 1584,   1400.4,   3.2470,    34.5770,0,  -999.0000,9,      122.2,0,     -999.0,9
PANDORA,,076,01,, 4,,20140120,231911, -6.4148, 149.9975, 1584,   1300.8,   3.4790,    34.5630,0,    34.5630,2,      125.0,0,      129.4,2
PANDORA,,076,01,, 5,,20140120,231911, -6.4148, 149.9975, 1584,   1100.6,   4.0360,    34.5290,0,    34.5290,2,      133.0,0,      136.5,2
PANDORA,,076,01,, 6,,20140120,231911, -6.4148, 149.9975, 1584,    900.6,   4.7250,    34.4980,0,  -999.0000,9,      140.7,0,     -999.0,9
PANDORA,,076,01,, 7,,20140120,231911, -6.4148, 149.9975, 1584,    800.8,   5.1030,    34.4890,0,  -999.0000,9,      143.9,0,     -999.0,9
PANDORA,,076,01,, 8,,20140120,231911, -6.4148, 149.9975, 1584,    700.0,   6.3040,    34.4690,0,    34.4680,2,      170.3,0,      175.5,2
PANDORA,,076,01,, 9,,20140120,231911, -6.4148, 149.9975, 1584,    600.5,   7.2310,    34.5100,0,  -999.0000,9,      175.5,0,     -999.0,9
PANDORA,,076,01,,10,,20140120,231911, -6.4148, 149.9975, 1584,    501.0,   7.8540,    34.5540,0,    34.5530,2,      173.2,0,      178.0,2
PANDORA,,076,01,,11,,20140120,231911, -6.4148, 149.9975, 1584,    400.4,   9.9040,    34.7200,0,  -999.0000,9,      168.8,0,     -999.0,9
PANDORA,,076,01,,12,,20140120,231911, -6.4148, 149.9975, 1584,    300.8,  15.2710,    35.2070,0,    35.2060,2,      140.9,0,      144.8,2
PANDORA,,076,01,,13,,20140120,231911, -6.4148, 149.9975, 1584,    250.4,  16.8970,    35.3670,0,  -999.0000,9,      147.1,0,     -999.0,9
PANDORA,,076,01,,14,,20140120,231911, -6.4148, 149.9975, 1584,    200.5,  20.9160,    35.6120,0,  -999.0000,9,      139.2,0,     -999.0,9
PANDORA,,076,01,,15,,20140120,231911, -6.4148, 149.9975, 1584,    149.2,  22.7850,    35.5430,0,    35.5410,2,      140.0,0,      145.2,3
PANDORA,,076,01,,16,,20140120,231911, -6.4148, 149.9975, 1584,    149.5,  22.7870,    35.5430,0,  -999.0000,9,      140.0,0,     -999.0,9
PANDORA,,076,01,,17,,20140120,231911, -6.4148, 149.9975, 1584,    101.5,  24.0380,    35.5050,0,    35.5030,2,      141.3,0,      146.2,2
PANDORA,,076,01,,18,,20140120,231911, -6.4148, 149.9975, 1584,    101.8,  24.0350,    35.5070,0,  -999.0000,9,      141.1,0,     -999.0,9
PANDORA,,076,01,,19,,20140120,231911, -6.4148, 149.9975, 1584,     75.8,  25.2600,    35.4950,0,    35.4920,2,      139.3,0,      143.9,2
PANDORA,,076,01,,20,,20140120,231911, -6.4148, 149.9975, 1584,     50.4,  26.9010,    35.3280,0,  -999.0000,9,      150.1,0,     -999.0,9
PANDORA,,076,01,,21,,20140120,231911, -6.4148, 149.9975, 1584,     25.1,  28.0500,    34.8030,0,    34.8000,2,      186.6,0,      191.6,2
PANDORA,,076,01,,22,,20140120,231911, -6.4148, 149.9975, 1584,      6.3,  28.0650,    34.8050,0,  -999.0000,9,      186.6,0,     -999.0,9
PANDORA,,077,01,, 1,,20140120,073957, -5.9515, 147.6602, 1037,    983.0,   4.5420,    34.5050,0,  -999.0000,9,      140.9,0,     -999.0,9
PANDORA,,077,01,, 2,,20140120,073957, -5.9515, 147.6602, 1037,    983.5,   4.5400,    34.5050,0,  -999.0000,9,      140.6,0,     -999.0,9
PANDORA,,077,01,, 3,,20140120,073957, -5.9515, 147.6602, 1037,    804.4,   5.3990,    34.4780,0,  -999.0000,9,      152.9,0,     -999.0,9
PANDORA,,077,01,, 4,,20140120,073957, -5.9515, 147.6602, 1037,    701.1,   5.5000,    34.4770,0,  -999.0000,9,      154.7,0,     -999.0,9
PANDORA,,077,01,, 5,,20140120,073957, -5.9515, 147.6602, 1037,    701.1,   5.5000,    34.4770,0,  -999.0000,9,      154.8,0,     -999.0,9
PANDORA,,077,01,, 6,,20140120,073957, -5.9515, 147.6602, 1037,    599.4,   5.7700,    34.4730,0,  -999.0000,9,      160.5,0,     -999.0,9
PANDORA,,077,01,, 7,,20140120,073957, -5.9515, 147.6602, 1037,    501.3,   7.7450,    34.5410,0,  -999.0000,9,      175.8,0,     -999.0,9
PANDORA,,077,01,, 8,,20140120,073957, -5.9515, 147.6602, 1037,    502.0,   7.7340,    34.5410,0,  -999.0000,9,      175.5,0,     -999.0,9
PANDORA,,077,01,, 9,,20140120,073957, -5.9515, 147.6602, 1037,    400.9,  10.4010,    34.7630,0,  -999.0000,9,      159.3,0,     -999.0,9
PANDORA,,077,01,,10,,20140120,073957, -5.9515, 147.6602, 1037,    351.4,  11.8390,    34.8920,0,  -999.0000,9,      153.6,0,     -999.0,9
PANDORA,,077,01,,11,,20140120,073957, -5.9515, 147.6602, 1037,    301.0,  14.7690,    35.1650,0,  -999.0000,9,      152.1,0,     -999.0,9
PANDORA,,077,01,,12,,20140120,073957, -5.9515, 147.6602, 1037,    199.8,  19.4920,    35.5470,0,  -999.0000,9,      139.3,0,     -999.0,9
PANDORA,,077,01,,13,,20140120,073957, -5.9515, 147.6602, 1037,    180.6,  21.7840,    35.6230,0,  -999.0000,9,      136.4,0,     -999.0,9
PANDORA,,077,01,,14,,20140120,073957, -5.9515, 147.6602, 1037,    180.8,  21.7950,    35.6250,0,  -999.0000,9,      136.5,0,     -999.0,9
PANDORA,,077,01,,15,,20140120,073957, -5.9515, 147.6602, 1037,    150.1,  24.2410,    35.4720,0,  -999.0000,9,      139.9,0,     -999.0,9
PANDORA,,077,01,,16,,20140120,073957, -5.9515, 147.6602, 1037,    100.9,  26.3600,    35.1840,0,  -999.0000,9,      154.4,0,     -999.0,9
PANDORA,,077,01,,17,,20140120,073957, -5.9515, 147.6602, 1037,    101.2,  26.3650,    35.1840,0,  -999.0000,9,      154.3,0,     -999.0,9
PANDORA,,077,01,,18,,20140120,073957, -5.9515, 147.6602, 1037,     74.8,  26.4080,    35.1470,0,  -999.0000,9,      156.3,0,     -999.0,9
PANDORA,,077,01,,19,,20140120,073957, -5.9515, 147.6602, 1037,     50.6,  27.1860,    34.9480,0,  -999.0000,9,      172.9,0,     -999.0,9
PANDORA,,077,01,,20,,20140120,073957, -5.9515, 147.6602, 1037,     25.1,  27.5550,    34.7980,0,  -999.0000,9,      183.4,0,     -999.0,9
PANDORA,,077,01,,21,,20140120,073957, -5.9515, 147.6602, 1037,     25.2,  27.5470,    34.8050,0,  -999.0000,9,      183.7,0,     -999.0,9
PANDORA,,077,01,,22,,20140120,073957, -5.9515, 147.6602, 1037,      4.7,  27.5980,    34.7520,0,  -999.0000,9,      185.2,0,     -999.0,9
PANDORA,,077,03,, 1,,20140120,110007, -5.9527, 147.6638, 1045,   1015.6,   4.5080,    34.5070,0,  -999.0000,9,      139.9,0,     -999.0,9
PANDORA,,077,03,, 2,,20140120,110007, -5.9527, 147.6638, 1045,   1008.7,   4.5040,    34.5070,0,    34.5060,2,      139.8,0,      144.3,2
PANDORA,,077,03,, 3,,20140120,110007, -5.9527, 147.6638, 1045,   1008.7,   4.4990,    34.5070,0,  -999.0000,9,      139.9,0,     -999.0,9
PANDORA,,077,03,, 4,,20140120,110007, -5.9527, 147.6638, 1045,    902.3,   4.6840,    34.5010,0,    34.5010,2,      143.4,0,      150.5,3
PANDORA,,077,03,, 5,,20140120,110007, -5.9527, 147.6638, 1045,    801.0,   5.4410,    34.4760,0,  -999.0000,9,      153.5,0,     -999.0,9
PANDORA,,077,03,, 6,,20140120,110007, -5.9527, 147.6638, 1045,    701.7,   5.6380,    34.4750,0,    34.4740,2,      156.3,0,      160.4,2
PANDORA,,077,03,, 7,,20140120,110007, -5.9527, 147.6638, 1045,    601.3,   5.8780,    34.4750,0,  -999.0000,9,      161.4,0,     -999.0,9
PANDORA,,077,03,, 8,,20140120,110007, -5.9527, 147.6638, 1045,    500.9,   7.4530,    34.5240,0,    34.5230,2,      175.8,0,      180.5,2
PANDORA,,077,03,, 9,,20140120,110007, -5.9527, 147.6638, 1045,    398.1,  10.3710,    34.7620,0,  -999.0000,9,      158.1,0,     -999.0,9
PANDORA,,077,03,,10,,20140120,110007, -5.9527, 147.6638, 1045,    300.3,  14.4470,    35.1400,0,    35.1390,2,      153.2,0,      160.3,3
PANDORA,,077,03,,11,,20140120,110007, -5.9527, 147.6638, 1045,    250.7,  17.1840,    35.3750,0,  -999.0000,9,      145.1,0,     -999.0,9
PANDORA,,077,03,,12,,20140120,110007, -5.9527, 147.6638, 1045,    201.0,  20.1500,    35.6070,0,    35.6050,2,      136.4,0,      142.9,2
PANDORA,,077,03,,13,,20140120,110007, -5.9527, 147.6638, 1045,    150.6,  24.3770,    35.4540,0,    35.4520,2,      142.1,0,      147.7,2
PANDORA,,077,03,,14,,20140120,110007, -5.9527, 147.6638, 1045,    150.7,  24.3760,    35.4540,0,  -999.0000,9,      141.9,0,     -999.0,9
PANDORA,,077,03,,15,,20140120,110007, -5.9527, 147.6638, 1045,    100.3,  26.4190,    35.1680,0,    35.1660,2,      155.9,0,      161.9,2
PANDORA,,077,03,,16,,20140120,110007, -5.9527, 147.6638, 1045,    100.1,  26.4220,    35.1680,0,  -999.0000,9,      155.7,0,     -999.0,9
PANDORA,,077,03,,17,,20140120,110007, -5.9527, 147.6638, 1045,     75.3,  26.5280,    35.1280,0,    35.1260,2,      159.0,0,      164.5,2
PANDORA,,077,03,,18,,20140120,110007, -5.9527, 147.6638, 1045,     50.4,  26.6410,    35.0850,0,  -999.0000,9,      162.4,0,     -999.0,9
PANDORA,,077,03,,19,,20140120,110007, -5.9527, 147.6638, 1045,     50.6,  26.6380,    35.0860,0,  -999.0000,9,      163.1,0,     -999.0,9
PANDORA,,077,03,,20,,20140120,110007, -5.9527, 147.6638, 1045,     25.6,  27.5830,    34.7580,0,    34.7560,2,      184.9,0,      192.2,2
PANDORA,,077,03,,21,,20140120,110007, -5.9527, 147.6638, 1045,      5.8,  27.5830,    34.7480,0,    34.7460,2,      184.9,0,      192.8,2
PANDORA,,077,03,,22,,20140120,110007, -5.9527, 147.6638, 1045,      5.7,  27.5820,    34.7480,0,  -999.0000,9,      186.0,0,     -999.0,9
PANDORA,,077,04,, 1,,20140120,131542, -5.9530, 147.6647, 1045,   1019.1,   4.4520,    34.5100,0,  -999.0000,9,      138.8,0,     -999.0,9
PANDORA,,077,04,, 2,,20140120,131542, -5.9530, 147.6647, 1045,   1018.8,   4.4490,    34.5100,0,  -999.0000,9,      138.6,0,     -999.0,9
PANDORA,,077,04,, 3,,20140120,131542, -5.9530, 147.6647, 1045,   1018.7,   4.4570,    34.5100,0,  -999.0000,9,      138.7,0,     -999.0,9
PANDORA,,077,04,, 4,,20140120,131542, -5.9530, 147.6647, 1045,   1018.6,   4.4590,    34.5090,0,  -999.0000,9,      138.5,0,     -999.0,9
PANDORA,,077,04,, 5,,20140120,131542, -5.9530, 147.6647, 1045,   1018.5,   4.4610,    34.5090,0,  -999.0000,9,      139.1,0,     -999.0,9
PANDORA,,077,04,, 6,,20140120,131542, -5.9530, 147.6647, 1045,   1018.5,   4.4620,    34.5090,0,  -999.0000,9,      138.8,0,     -999.0,9
PANDORA,,077,04,, 7,,20140120,131542, -5.9530, 147.6647, 1045,   1018.7,   4.4600,    34.5090,0,  -999.0000,9,      139.0,0,     -999.0,9
PANDORA,,077,04,, 8,,20140120,131542, -5.9530, 147.6647, 1045,   1018.8,   4.4610,    34.5090,0,  -999.0000,9,      138.6,0,     -999.0,9
PANDORA,,077,04,, 9,,20140120,131542, -5.9530, 147.6647, 1045,   1018.3,   4.4620,    34.5090,0,  -999.0000,9,      139.1,0,     -999.0,9
PANDORA,,077,04,,10,,20140120,131542, -5.9530, 147.6647, 1045,   1018.2,   4.4620,    34.5090,0,  -999.0000,9,      138.8,0,     -999.0,9
PANDORA,,077,04,,11,,20140120,131542, -5.9530, 147.6647, 1045,   1018.2,   4.4620,    34.5090,0,  -999.0000,9,      138.5,0,     -999.0,9
PANDORA,,077,04,,12,,20140120,131542, -5.9530, 147.6647, 1045,    700.9,   5.6010,    34.4730,0,  -999.0000,9,      156.0,0,     -999.0,9
PANDORA,,077,04,,13,,20140120,131542, -5.9530, 147.6647, 1045,    701.4,   5.5970,    34.4730,0,  -999.0000,9,      156.4,0,     -999.0,9
PANDORA,,077,04,,14,,20140120,131542, -5.9530, 147.6647, 1045,    701.4,   5.6050,    34.4730,0,  -999.0000,9,      156.3,0,     -999.0,9
PANDORA,,077,04,,15,,20140120,131542, -5.9530, 147.6647, 1045,    701.3,   5.6040,    34.4730,0,  -999.0000,9,      156.4,0,     -999.0,9
PANDORA,,077,04,,16,,20140120,131542, -5.9530, 147.6647, 1045,    701.5,   5.6160,    34.4730,0,  -999.0000,9,      155.9,0,     -999.0,9
PANDORA,,077,04,,17,,20140120,131542, -5.9530, 147.6647, 1045,    701.5,   5.6130,    34.4740,0,  -999.0000,9,      156.3,0,     -999.0,9
PANDORA,,077,04,,18,,20140120,131542, -5.9530, 147.6647, 1045,    701.9,   5.6150,    34.4740,0,  -999.0000,9,      156.6,0,     -999.0,9
PANDORA,,077,04,,19,,20140120,131542, -5.9530, 147.6647, 1045,    701.9,   5.6120,    34.4740,0,  -999.0000,9,      156.6,0,     -999.0,9
PANDORA,,077,04,,20,,20140120,131542, -5.9530, 147.6647, 1045,    702.0,   5.6190,    34.4740,0,  -999.0000,9,      156.0,0,     -999.0,9
PANDORA,,077,04,,21,,20140120,131542, -5.9530, 147.6647, 1045,    702.1,   5.6200,    34.4740,0,  -999.0000,9,      156.2,0,     -999.0,9
PANDORA,,077,04,,22,,20140120,131542, -5.9530, 147.6647, 1045,    702.2,   5.6220,    34.4740,0,  -999.0000,9,      156.3,0,     -999.0,9
PANDORA,,077,07,, 1,,20140120,015711, -5.9538, 147.6653, 1044,    180.1,  21.2240,    35.6160,0,  -999.0000,9,      137.2,0,     -999.0,9
PANDORA,,077,07,, 2,,20140120,015711, -5.9538, 147.6653, 1044,    179.9,  21.2310,    35.6190,0,  -999.0000,9,      137.2,0,     -999.0,9
PANDORA,,077,07,, 3,,20140120,015711, -5.9538, 147.6653, 1044,    180.0,  21.2320,    35.6200,0,  -999.0000,9,      137.7,0,     -999.0,9
PANDORA,,077,07,, 4,,20140120,015711, -5.9538, 147.6653, 1044,    179.9,  21.2300,    35.6200,0,  -999.0000,9,      137.8,0,     -999.0,9
PANDORA,,077,07,, 5,,20140120,015711, -5.9538, 147.6653, 1044,    179.8,  21.2760,    35.6230,0,  -999.0000,9,      137.7,0,     -999.0,9
PANDORA,,077,07,, 6,,20140120,015711, -5.9538, 147.6653, 1044,    180.0,  21.2280,    35.6220,0,  -999.0000,9,      137.5,0,     -999.0,9
PANDORA,,077,07,, 7,,20140120,015711, -5.9538, 147.6653, 1044,    180.3,  21.2100,    35.6220,0,  -999.0000,9,      137.8,0,     -999.0,9
PANDORA,,077,07,, 8,,20140120,015711, -5.9538, 147.6653, 1044,    180.1,  21.2140,    35.6220,0,  -999.0000,9,      137.3,0,     -999.0,9
PANDORA,,077,07,, 9,,20140120,015711, -5.9538, 147.6653, 1044,    179.9,  21.2240,    35.6220,0,  -999.0000,9,      137.2,0,     -999.0,9
PANDORA,,077,07,,10,,20140120,015711, -5.9538, 147.6653, 1044,    180.0,  21.2210,    35.6210,0,  -999.0000,9,      137.4,0,     -999.0,9
PANDORA,,077,07,,11,,20140120,015711, -5.9538, 147.6653, 1044,    179.8,  21.2460,    35.6200,0,  -999.0000,9,      137.6,0,     -999.0,9
PANDORA,,077,07,,12,,20140120,015711, -5.9538, 147.6653, 1044,     20.0,  27.6680,    34.5950,0,  -999.0000,9,      188.4,0,     -999.0,9
PANDORA,,077,07,,13,,20140120,015711, -5.9538, 147.6653, 1044,     20.3,  27.6740,    34.5890,0,  -999.0000,9,      188.9,0,     -999.0,9
PANDORA,,077,07,,14,,20140120,015711, -5.9538, 147.6653, 1044,     20.2,  27.6690,    34.5930,0,  -999.0000,9,      188.6,0,     -999.0,9
PANDORA,,077,07,,15,,20140120,015711, -5.9538, 147.6653, 1044,     20.2,  27.6810,    34.5850,0,  -999.0000,9,      188.4,0,     -999.0,9
PANDORA,,077,07,,16,,20140120,015711, -5.9538, 147.6653, 1044,     20.1,  27.6890,    34.5820,0,  -999.0000,9,      189.1,0,     -999.0,9
PANDORA,,077,07,,17,,20140120,015711, -5.9538, 147.6653, 1044,     20.0,  27.6680,    34.5940,0,  -999.0000,9,      188.3,0,     -999.0,9
PANDORA,,077,07,,18,,20140120,015711, -5.9538, 147.6653, 1044,     20.0,  27.6680,    34.5950,0,  -999.0000,9,      188.3,0,     -999.0,9
PANDORA,,077,07,,19,,20140120,015711, -5.9538, 147.6653, 1044,     20.1,  27.6640,    34.6000,0,  -999.0000,9,      188.3,0,     -999.0,9
PANDORA,,077,07,,20,,20140120,015711, -5.9538, 147.6653, 1044,     20.1,  27.6710,    34.5950,0,  -999.0000,9,      188.6,0,     -999.0,9
PANDORA,,077,07,,21,,20140120,015711, -5.9538, 147.6653, 1044,     20.0,  27.6710,    34.5950,0,  -999.0000,9,      188.2,0,     -999.0,9
PANDORA,,077,07,,22,,20140120,015711, -5.9538, 147.6653, 1044,     19.9,  27.6700,    34.5960,0,  -999.0000,9,      189.2,0,     -999.0,9