BOTTLE,20140909LEGIRDAG
EXPOCODE,SECT_ID,STNNBR,CASTNO,SAMPNO,BTLNBR,BTLNBR_FLAG_W,DATE,TIME,LATITUDE,LONGITUDE,DEPTH,CTDPRS,CTDTMP,CTDSAL,CTDSAL_FLAG_W,SALNTY,SALNTY_FLAG_W,CTDOXY,CTDOXY_FLAG_W,OXYGEN,OXYGEN_FLAG_W
,,,,,,,,,,,,,DBARS,ITS-90,PSS-78,,PSS-78,,UMOL/KG,,UMOL/KG,
PANDORA,,018,01,, 1,,20140120,201716, -9.9590, 161.4943, 1888,   1805.5,   2.9490,    34.5990,0,  -999.0000,9,      132.5,0,     -999.0,9
PANDORA,,018,01,, 2,,20140120,201716, -9.9590, 161.4943, 1888,   1805.6,   2.9490,    34.5990,0,    34.5990,2,      132.7,0,      135.7,2
PANDORA,,018,01,, 3,,20140120,201716, -9.9590, 161.4943, 1888,   1664.9,   3.0320,    34.5940,0,  -999.0000,9,      132.6,0,     -999.0,9
PANDORA,,018,01,, 4,,20140120,201716, -9.9590, 161.4943, 1888,   1461.4,   3.1690,    34.5860,0,    34.5860,2,      131.7,0,      133.0,2
PANDORA,,018,01,, 5,,20140120,201716, -9.9590, 161.4943, 1888,   1266.3,   3.3870,    34.5760,0,  -999.0000,9,      131.3,0,     -999.0,9
PANDORA,,018,01,, 6,,20140120,201716, -9.9590, 161.4943, 1888,   1064.8,   3.8630,    34.5560,0,    34.5560,2,      131.3,0,      132.3,2
PANDORA,,018,01,, 7,,20140120,201716, -9.9590, 161.4943, 1888,    936.2,   4.5570,    34.5200,0,  -999.0000,9,      136.4,0,     -999.0,9
PANDORA,,018,01,, 8,,20140120,201716, -9.9590, 161.4943, 1888,    835.9,   5.1680,    34.5160,0,  -999.0000,9,      138.7,0,     -999.0,9
PANDORA,,018,01,, 9,,20140120,201716, -9.9590, 161.4943, 1888,    735.6,   5.8150,    34.5010,0,    34.5010,2,      144.1,0,      144.5,2
PANDORA,,018,01,,10,,20140120,201716, -9.9590, 161.4943, 1888,    635.8,   6.4860,    34.5030,0,  -999.0000,9,      152.4,0,     -999.0,9
PANDORA,,018,01,,11,,20140120,201716, -9.9590, 161.4943, 1888,    536.4,   7.7730,    34.5730,0,  -999.0000,9,      149.7,0,     -999.0,9
PANDORA,,018,01,,12,,20140120,201716, -9.9590, 161.4943, 1888,    435.7,   9.3600,    34.7060,0,    34.7050,2,      128.1,0,      129.1,2
PANDORA,,018,01,,13,,20140120,201716, -9.9590, 161.4943, 1888,    336.1,  12.7480,    34.9740,0,  -999.0000,9,      115.9,0,     -999.0,9
PANDORA,,018,01,,14,,20140120,201716, -9.9590, 161.4943, 1888,    265.5,  15.3550,    35.2080,0,    35.2070,2,      116.1,0,      115.9,2
PANDORA,,018,01,,15,,20140120,201716, -9.9590, 161.4943, 1888,    215.9,  19.0000,    35.5670,0,  -999.0000,9,      124.0,0,     -999.0,9
PANDORA,,018,01,,16,,20140120,201716, -9.9590, 161.4943, 1888,    151.3,  24.7950,    35.8970,0,    35.8940,2,      132.3,0,      133.3,2
PANDORA,,018,01,,17,,20140120,201716, -9.9590, 161.4943, 1888,    101.8,  28.3090,    35.0970,0,  -999.0000,9,      169.2,0,     -999.0,9
PANDORA,,018,01,,18,,20140120,201716, -9.9590, 161.4943, 1888,     74.4,  28.5350,    34.9280,0,    34.9260,2,      176.8,0,      180.1,2
PANDORA,,018,01,,19,,20140120,201716, -9.9590, 161.4943, 1888,     74.2,  28.5320,    34.9290,0,    34.9260,2,      176.4,0,      179.9,2
PANDORA,,018,01,,20,,20140120,201716, -9.9590, 161.4943, 1888,     50.1,  28.7970,    34.7980,0,  -999.0000,9,      183.8,0,     -999.0,9
PANDORA,,018,01,,21,,20140120,201716, -9.9590, 161.4943, 1888,     25.2,  28.6990,    34.6390,0,  -999.0000,9,      187.4,0,     -999.0,9
PANDORA,,018,01,,22,,20140120,201716, -9.9590, 161.4943, 1888,      5.9,  28.6820,    34.6330,0,    34.6300,2,      187.6,0,      190.7,2
PANDORA,,019,01,, 1,,20140120,005042,-10.0423, 161.1238, 1888,   1360.0,   2.7550,    34.6080,0,    34.6080,2,      134.8,0,      136.6,2
PANDORA,,019,01,, 2,,20140120,005042,-10.0423, 161.1238, 1888,   1361.4,   2.7500,    34.6080,0,    34.6080,2,      133.9,0,      140.1,3
PANDORA,,019,01,, 3,,20140120,005042,-10.0423, 161.1238, 1888,   1359.9,   2.7480,    34.6080,0,    34.6080,2,      134.3,0,      135.8,2
PANDORA,,019,01,, 4,,20140120,005042,-10.0423, 161.1238, 1888,   1201.1,   3.4950,    34.5680,0,    34.5670,2,      132.8,0,      134.5,2
PANDORA,,019,01,, 5,,20140120,005042,-10.0423, 161.1238, 1888,   1000.9,   3.9470,    34.5450,0,    34.5450,2,      134.3,0,      136.5,2
PANDORA,,019,01,, 6,,20140120,005042,-10.0423, 161.1238, 1888,    900.8,   4.2930,    34.5290,0,  -999.0000,9,      137.5,0,     -999.0,9
PANDORA,,019,01,, 7,,20140120,005042,-10.0423, 161.1238, 1888,    801.0,   4.6120,    34.5040,0,    34.5040,2,      143.5,0,      143.8,2
PANDORA,,019,01,, 8,,20140120,005042,-10.0423, 161.1238, 1888,    702.0,   4.9520,    34.4960,0,  -999.0000,9,      147.6,0,     -999.0,9
PANDORA,,019,01,, 9,,20140120,005042,-10.0423, 161.1238, 1888,    600.3,   5.6310,    34.4950,0,    34.4950,2,      150.2,0,      151.4,2
PANDORA,,019,01,,10,,20140120,005042,-10.0423, 161.1238, 1888,    501.5,   6.9870,    34.5220,0,  -999.0000,9,      157.6,0,     -999.0,9
PANDORA,,019,01,,11,,20140120,005042,-10.0423, 161.1238, 1888,    399.7,   8.7410,    34.6470,0,    34.6460,2,      141.2,0,      140.8,2
PANDORA,,019,01,,12,,20140120,005042,-10.0423, 161.1238, 1888,    300.5,  14.7830,    35.1530,0,  -999.0000,9,      110.4,0,     -999.0,9
PANDORA,,019,01,,13,,20140120,005042,-10.0423, 161.1238, 1888,    249.5,  19.2810,    35.6030,0,    35.6020,2,      118.5,0,      118.1,2
PANDORA,,019,01,,14,,20140120,005042,-10.0423, 161.1238, 1888,    201.7,  22.1380,    35.8380,0,    35.8360,2,      125.9,0,      126.4,2
PANDORA,,019,01,,15,,20140120,005042,-10.0423, 161.1238, 1888,    149.2,  25.6950,    35.7940,0,  -999.0000,9,      135.0,0,     -999.0,9
PANDORA,,019,01,,16,,20140120,005042,-10.0423, 161.1238, 1888,    100.3,  27.6850,    35.5480,0,    35.5450,2,      152.7,0,      151.8,3
PANDORA,,019,01,,17,,20140120,005042,-10.0423, 161.1238, 1888,     74.5,  28.2570,    35.4490,0,  -999.0000,9,      158.8,0,     -999.0,9
PANDORA,,019,01,,18,,20140120,005042,-10.0423, 161.1238, 1888,     50.8,  28.5820,    34.9340,0,    34.9310,2,      174.5,0,      175.2,2
PANDORA,,019,01,,19,,20140120,005042,-10.0423, 161.1238, 1888,     50.2,  28.5830,    34.9070,0,    34.9040,2,      175.7,0,      176.7,2
PANDORA,,019,01,,20,,20140120,005042,-10.0423, 161.1238, 1888,     25.5,  28.7870,    34.6850,0,  -999.0000,9,      187.0,0,     -999.0,9
PANDORA,,019,01,,21,,20140120,005042,-10.0423, 161.1238, 1888,      5.3,  28.7830,    34.6850,0,  -999.0000,9,      187.2,0,     -999.0,9
PANDORA,,019,01,,22,,20140120,005042,-10.0423, 161.1238, 1888,      2.5,  28.7810,    34.6850,0,  -999.0000,9,      188.1,0,     -999.0,9
PANDORA,,020,01,, 1,,20140120,063307, -9.9990, 160.4168, 2910,   2001.8,   2.3260,    34.6360,0,  -999.0000,9,      134.4,0,     -999.0,9
PANDORA,,020,01,, 2,,20140120,063307, -9.9990, 160.4168, 2910,   1801.2,   2.5450,    34.6180,0,  -999.0000,9,      132.4,0,     -999.0,9
PANDORA,,020,01,, 3,,20140120,063307, -9.9990, 160.4168, 2910,   1799.3,   2.5460,    34.6180,0,  -999.0000,9,      132.2,0,     -999.0,9
PANDORA,,020,01,, 4,,20140120,063307, -9.9990, 160.4168, 2910,   1600.5,   2.8540,    34.5980,0,  -999.0000,9,      131.6,0,     -999.0,9
PANDORA,,020,01,, 5,,20140120,063307, -9.9990, 160.4168, 2910,   1600.2,   2.8530,    34.5980,0,  -999.0000,9,      131.3,0,     -999.0,9
PANDORA,,020,01,, 6,,20140120,063307, -9.9990, 160.4168, 2910,   1201.5,   3.5060,    34.5570,0,  -999.0000,9,      133.4,0,     -999.0,9
PANDORA,,020,01,, 7,,20140120,063307, -9.9990, 160.4168, 2910,   1003.0,   4.4020,    34.5070,0,  -999.0000,9,      144.6,0,     -999.0,9
PANDORA,,020,01,, 8,,20140120,063307, -9.9990, 160.4168, 2910,    900.1,   4.7660,    34.4920,0,  -999.0000,9,      149.7,0,     -999.0,9
PANDORA,,020,01,, 9,,20140120,063307, -9.9990, 160.4168, 2910,    801.2,   4.9900,    34.4860,0,  -999.0000,9,      149.0,0,     -999.0,9
PANDORA,,020,01,,10,,20140120,063307, -9.9990, 160.4168, 2910,    700.4,   5.4150,    34.4810,0,  -999.0000,9,      152.4,0,     -999.0,9
PANDORA,,020,01,,11,,20140120,063307, -9.9990, 160.4168, 2910,    599.6,   5.9720,    34.4760,0,  -999.0000,9,      160.0,0,     -999.0,9
PANDORA,,020,01,,12,,20140120,063307, -9.9990, 160.4168, 2910,    598.5,   5.9730,    34.4760,0,  -999.0000,9,      159.8,0,     -999.0,9
PANDORA,,020,01,,13,,20140120,063307, -9.9990, 160.4168, 2910,    501.4,   7.0440,    34.5240,0,  -999.0000,9,      160.2,0,     -999.0,9
PANDORA,,020,01,,14,,20140120,063307, -9.9990, 160.4168, 2910,    401.9,   8.4120,    34.6110,0,  -999.0000,9,      149.9,0,     -999.0,9
PANDORA,,020,01,,15,,20140120,063307, -9.9990, 160.4168, 2910,    191.5,  23.0830,    35.8600,0,  -999.0000,9,      126.7,0,     -999.0,9
PANDORA,,020,01,,16,,20140120,063307, -9.9990, 160.4168, 2910,    191.5,  23.0850,    35.8620,0,  -999.0000,9,      127.0,0,     -999.0,9
PANDORA,,020,01,,17,,20140120,063307, -9.9990, 160.4168, 2910,    150.3,  24.1920,    35.6330,0,  -999.0000,9,      126.9,0,     -999.0,9
PANDORA,,020,01,,18,,20140120,063307, -9.9990, 160.4168, 2910,    100.5,  27.6260,    35.4470,0,  -999.0000,9,      146.5,0,     -999.0,9
PANDORA,,020,01,,19,,20140120,063307, -9.9990, 160.4168, 2910,     50.0,  28.9730,    35.0710,0,  -999.0000,9,      167.8,0,     -999.0,9
PANDORA,,020,01,,20,,20140120,063307, -9.9990, 160.4168, 2910,     24.8,  28.9060,    34.8430,0,  -999.0000,9,      185.8,0,     -999.0,9
PANDORA,,020,01,,21,,20140120,063307, -9.9990, 160.4168, 2910,     24.7,  28.9040,    34.8430,0,  -999.0000,9,      185.8,0,     -999.0,9
PANDORA,,020,01,,22,,20140120,063307, -9.9990, 160.4168, 2910,      5.7,  28.8980,    34.8420,0,  -999.0000,9,      185.7,0,     -999.0,9
PANDORA,,021,01,, 1,,20140120,085931,-10.0127, 160.3573, 3342,   3279.1,   1.8720,    34.7000,0,    34.7000,2,      158.9,0,      164.3,2
PANDORA,,021,01,, 2,,20140120,085931,-10.0127, 160.3573, 3342,   3001.3,   1.9360,    34.6880,0,  -999.0000,9,      150.2,0,     -999.0,9
PANDORA,,021,01,, 3,,20140120,085931,-10.0127, 160.3573, 3342,   2624.5,   1.9800,    34.6770,0,    34.6770,2,      146.1,0,      150.0,2
PANDORA,,021,01,, 4,,20140120,085931,-10.0127, 160.3573, 3342,   2385.9,   2.0430,    34.6660,0,    34.6660,2,      141.9,0,      145.4,2
PANDORA,,021,01,, 5,,20140120,085931,-10.0127, 160.3573, 3342,   2116.1,   2.1870,    34.6480,0,    34.6480,2,      136.8,0,      139.4,2
PANDORA,,021,01,, 6,,20140120,085931,-10.0127, 160.3573, 3342,   1865.4,   2.4300,    34.6280,0,    34.6270,2,      133.7,0,      136.2,2
PANDORA,,021,01,, 7,,20140120,085931,-10.0127, 160.3573, 3342,   1665.0,   2.5960,    34.6140,0,    34.6130,2,      132.1,0,      133.5,2
PANDORA,,021,01,, 8,,20140120,085931,-10.0127, 160.3573, 3342,   1466.7,   2.9280,    34.5930,0,    34.5920,2,      131.2,0,      132.8,2
PANDORA,,021,01,, 9,,20140120,085931,-10.0127, 160.3573, 3342,   1266.3,   3.3820,    34.5640,0,    34.5630,2,      132.5,0,      134.9,2
PANDORA,,021,01,,10,,20140120,085931,-10.0127, 160.3573, 3342,   1065.9,   4.0880,    34.5250,0,    34.5250,2,      137.1,0,      138.0,2
PANDORA,,021,01,,11,,20140120,085931,-10.0127, 160.3573, 3342,    836.4,   4.8630,    34.4890,0,    34.4890,2,      148.9,0,      149.6,2
PANDORA,,021,01,,12,,20140120,085931,-10.0127, 160.3573, 3342,    735.0,   5.0940,    34.4850,0,    34.4850,2,      150.3,0,      152.0,2
PANDORA,,021,01,,13,,20140120,085931,-10.0127, 160.3573, 3342,    635.4,   5.6600,    34.4770,0,    34.4770,2,      157.3,0,      158.2,2
PANDORA,,021,01,,14,,20140120,085931,-10.0127, 160.3573, 3342,    536.2,   6.3970,    34.4880,0,  -999.0000,9,      161.5,0,     -999.0,9
PANDORA,,021,01,,15,,20140120,085931,-10.0127, 160.3573, 3342,    435.9,   7.2650,    34.5390,0,    34.5380,2,      158.9,0,      159.4,2
PANDORA,,021,01,,16,,20140120,085931,-10.0127, 160.3573, 3342,    335.6,  10.1800,    34.7660,0,  -999.0000,9,      126.3,0,     -999.0,9
PANDORA,,021,01,,17,,20140120,085931,-10.0127, 160.3573, 3342,    236.2,  18.8480,    35.5440,0,    35.5430,2,      122.5,0,      123.1,2
PANDORA,,021,01,,18,,20140120,085931,-10.0127, 160.3573, 3342,    151.3,  24.7790,    35.6310,0,  -999.0000,9,      129.4,0,     -999.0,9
PANDORA,,021,01,,19,,20140120,085931,-10.0127, 160.3573, 3342,    115.6,  26.6840,    35.5100,0,    35.5080,2,      138.2,0,      139.8,2
PANDORA,,021,01,,20,,20140120,085931,-10.0127, 160.3573, 3342,     60.4,  28.8090,    35.1780,0,  -999.0000,9,      159.9,0,     -999.0,9
PANDORA,,021,01,,21,,20140120,085931,-10.0127, 160.3573, 3342,      5.1,  28.9010,    34.7850,0,    34.7820,2,      185.4,0,      188.4,2
PANDORA,,021,01,,22,,20140120,085931,-10.0127, 160.3573, 3342,      5.0,  28.8930,    34.7720,0,    34.7690,2,      185.9,0,      188.7,2
PANDORA,,021,02,, 1,,20140120,123023,-10.0125, 160.3578, 3342,    550.8,   6.6760,    34.4980,0,  -999.0000,9,      162.3,0,     -999.0,9
PANDORA,,021,02,, 2,,20140120,123023,-10.0125, 160.3578, 3342,    550.9,   6.6750,    34.4980,0,  -999.0000,9,      162.3,0,     -999.0,9
PANDORA,,021,02,, 3,,20140120,123023,-10.0125, 160.3578, 3342,    550.7,   6.6770,    34.4990,0,  -999.0000,9,      162.2,0,     -999.0,9
PANDORA,,021,02,, 4,,20140120,123023,-10.0125, 160.3578, 3342,    550.0,   6.6760,    34.4990,0,  -999.0000,9,      162.5,0,     -999.0,9
PANDORA,,021,02,, 5,,20140120,123023,-10.0125, 160.3578, 3342,    550.1,   6.6770,    34.4990,0,  -999.0000,9,      162.3,0,     -999.0,9
PANDORA,,021,02,, 6,,20140120,123023,-10.0125, 160.3578, 3342,    550.7,   6.6780,    34.4990,0,  -999.0000,9,      162.6,0,     -999.0,9
PANDORA,,021,02,, 7,,20140120,123023,-10.0125, 160.3578, 3342,    550.1,   6.6790,    34.4990,0,  -999.0000,9,      162.3,0,     -999.0,9
PANDORA,,021,02,, 8,,20140120,123023,-10.0125, 160.3578, 3342,    550.1,   6.6790,    34.4990,0,  -999.0000,9,      162.6,0,     -999.0,9
PANDORA,,021,02,, 9,,20140120,123023,-10.0125, 160.3578, 3342,    549.9,   6.6800,    34.4990,0,  -999.0000,9,      162.4,0,     -999.0,9
PANDORA,,021,02,,10,,20140120,123023,-10.0125, 160.3578, 3342,    549.9,   6.6830,    34.5000,0,  -999.0000,9,      162.5,0,     -999.0,9
PANDORA,,021,02,,11,,20140120,123023,-10.0125, 160.3578, 3342,    550.0,   6.6800,    34.4990,0,  -999.0000,9,      162.3,0,     -999.0,9
PANDORA,,021,02,,12,,20140120,123023,-10.0125, 160.3578, 3342,    250.9,  14.8200,    35.1450,0,  -999.0000,9,      133.2,0,     -999.0,9
PANDORA,,021,02,,13,,20140120,123023,-10.0125, 160.3578, 3342,    251.1,  15.1020,    35.1570,0,  -999.0000,9,      134.5,0,     -999.0,9
PANDORA,,021,02,,14,,20140120,123023,-10.0125, 160.3578, 3342,    250.4,  14.9510,    35.1510,0,  -999.0000,9,      133.6,0,     -999.0,9
PANDORA,,021,02,,15,,20140120,123023,-10.0125, 160.3578, 3342,    250.4,  14.9920,    35.1570,0,  -999.0000,9,      134.0,0,     -999.0,9
PANDORA,,021,02,,16,,20140120,123023,-10.0125, 160.3578, 3342,    250.2,  15.0550,    35.1640,0,  -999.0000,9,      134.0,0,     -999.0,9
PANDORA,,021,02,,17,,20140120,123023,-10.0125, 160.3578, 3342,    250.6,  15.0430,    35.1500,0,  -999.0000,9,      134.3,0,     -999.0,9
PANDORA,,021,02,,18,,20140120,123023,-10.0125, 160.3578, 3342,    250.0,  15.0900,    35.1660,0,  -999.0000,9,      134.3,0,     -999.0,9
PANDORA,,021,02,,19,,20140120,123023,-10.0125, 160.3578, 3342,    250.3,  15.1280,    35.1720,0,  -999.0000,9,      134.3,0,     -999.0,9
PANDORA,,021,02,,20,,20140120,123023,-10.0125, 160.3578, 3342,    250.2,  15.1720,    35.1730,0,  -999.0000,9,      134.3,0,     -999.0,9
PANDORA,,021,02,,21,,20140120,123023,-10.0125, 160.3578, 3342,    250.4,  15.1560,    35.1740,0,  -999.0000,9,      134.6,0,     -999.0,9
PANDORA,,021,02,,22,,20140120,123023,-10.0125, 160.3578, 3342,    250.4,  15.1610,    35.1730,0,  -999.0000,9,      134.4,0,     -999.0,9
PANDORA,,021,03,, 1,,20140120,142954,-10.0148, 160.3598, 3369,    251.0,  16.2100,    35.2760,0,  -999.0000,9,      135.9,0,     -999.0,9
PANDORA,,021,03,, 2,,20140120,142954,-10.0148, 160.3598, 3369,    251.4,  16.2160,    35.2770,0,  -999.0000,9,      135.6,0,     -999.0,9
PANDORA,,021,03,, 3,,20140120,142954,-10.0148, 160.3598, 3369,    250.8,  16.2110,    35.2770,0,  -999.0000,9,      135.5,0,     -999.0,9
PANDORA,,021,03,, 4,,20140120,142954,-10.0148, 160.3598, 3369,    250.7,  16.2030,    35.2770,0,  -999.0000,9,      135.8,0,     -999.0,9
PANDORA,,021,03,, 5,,20140120,142954,-10.0148, 160.3598, 3369,    250.6,  16.2000,    35.2770,0,  -999.0000,9,      135.8,0,     -999.0,9
PANDORA,,021,03,, 6,,20140120,142954,-10.0148, 160.3598, 3369,    251.3,  16.2020,    35.2770,0,  -999.0000,9,      135.5,0,     -999.0,9
PANDORA,,021,03,, 7,,20140120,142954,-10.0148, 160.3598, 3369,    251.0,  16.2030,    35.2770,0,  -999.0000,9,      135.8,0,     -999.0,9
PANDORA,,021,03,, 8,,20140120,142954,-10.0148, 160.3598, 3369,    250.9,  16.2040,    35.2770,0,  -999.0000,9,      135.6,0,     -999.0,9
PANDORA,,021,03,, 9,,20140120,142954,-10.0148, 160.3598, 3369,    250.6,  16.2030,    35.2770,0,  -999.0000,9,      135.7,0,     -999.0,9
PANDORA,,021,03,,10,,20140120,142954,-10.0148, 160.3598, 3369,    250.7,  16.1990,    35.2770,0,  -999.0000,9,      135.3,0,     -999.0,9
PANDORA,,021,03,,11,,20140120,142954,-10.0148, 160.3598, 3369,    250.8,  16.1980,    35.2770,0,  -999.0000,9,      135.9,0,     -999.0,9
PANDORA,,021,03,,12,,20140120,142954,-10.0148, 160.3598, 3369,    100.7,  27.8500,    35.3860,0,  -999.0000,9,      148.0,0,     -999.0,9
PANDORA,,021,03,,13,,20140120,142954,-10.0148, 160.3598, 3369,    100.8,  27.8520,    35.3860,0,  -999.0000,9,      147.9,0,     -999.0,9
PANDORA,,021,03,,14,,20140120,142954,-10.0148, 160.3598, 3369,    101.0,  27.8490,    35.3870,0,  -999.0000,9,      148.2,0,     -999.0,9
PANDORA,,021,03,,15,,20140120,142954,-10.0148, 160.3598, 3369,    101.2,  27.8470,    35.3870,0,  -999.0000,9,      148.0,0,     -999.0,9
PANDORA,,021,03,,16,,20140120,142954,-10.0148, 160.3598, 3369,    101.6,  27.8480,    35.3880,0,  -999.0000,9,      147.5,0,     -999.0,9
PANDORA,,021,03,,17,,20140120,142954,-10.0148, 160.3598, 3369,    101.5,  27.8470,    35.3880,0,  -999.0000,9,      147.3,0,     -999.0,9
PANDORA,,021,03,,18,,20140120,142954,-10.0148, 160.3598, 3369,    101.6,  27.8490,    35.3880,0,  -999.0000,9,      148.0,0,     -999.0,9
PANDORA,,021,03,,19,,20140120,142954,-10.0148, 160.3598, 3369,    100.9,  27.8450,    35.3870,0,  -999.0000,9,      147.4,0,     -999.0,9
PANDORA,,021,03,,20,,20140120,142954,-10.0148, 160.3598, 3369,    101.0,  27.8450,    35.3880,0,  -999.0000,9,      148.0,0,     -999.0,9
PANDORA,,021,03,,21,,20140120,142954,-10.0148, 160.3598, 3369,    100.9,  27.8460,    35.3870,0,  -999.0000,9,      148.2,0,     -999.0,9
PANDORA,,021,03,,22,,20140120,142954,-10.0148, 160.3598, 3369,    101.0,  27.8540,    35.3880,0,  -999.0000,9,      147.9,0,     -999.0,9