BOTTLE,20140909LEGIRDAG
EXPOCODE,SECT_ID,STNNBR,CASTNO,SAMPNO,BTLNBR,BTLNBR_FLAG_W,DATE,TIME,LATITUDE,LONGITUDE,DEPTH,CTDPRS,CTDTMP,CTDSAL,CTDSAL_FLAG_W,SALNTY,SALNTY_FLAG_W,CTDOXY,CTDOXY_FLAG_W,OXYGEN,OXYGEN_FLAG_W
,,,,,,,,,,,,,DBARS,ITS-90,PSS-78,,PSS-78,,UMOL/KG,,UMOL/KG,
PANDORA,,013,02,, 1,,20140120,230805, -9.0027, 162.9995, 3853,   2002.4,   2.1610,    34.6410,0,  -999.0000,9,      130.2,0,     -999.0,9
PANDORA,,013,02,, 2,,20140120,230805, -9.0027, 162.9995, 3853,   1736.4,   2.4130,    34.6210,0,    34.6210,2,      129.8,0,      131.6,2
PANDORA,,013,02,, 3,,20140120,230805, -9.0027, 162.9995, 3853,   1536.5,   2.7750,    34.5970,0,  -999.0000,9,      127.5,0,     -999.0,9
PANDORA,,013,02,, 4,,20140120,230805, -9.0027, 162.9995, 3853,   1335.8,   3.1550,    34.5750,0,  -999.0000,9,      126.7,0,     -999.0,9
PANDORA,,013,02,, 5,,20140120,230805, -9.0027, 162.9995, 3853,   1135.8,   3.5890,    34.5560,0,    34.5550,2,      123.1,0,      123.9,2
PANDORA,,013,02,, 6,,20140120,230805, -9.0027, 162.9995, 3853,    967.4,   4.0940,    34.5330,0,  -999.0000,9,      126.2,0,     -999.0,9
PANDORA,,013,02,, 7,,20140120,230805, -9.0027, 162.9995, 3853,    865.1,   4.5210,    34.5190,0,    34.5190,2,      128.5,0,      129.5,2
PANDORA,,013,02,, 8,,20140120,230805, -9.0027, 162.9995, 3853,    765.6,   5.0100,    34.5080,0,    34.5070,2,      131.1,0,      132.3,2
PANDORA,,013,02,, 9,,20140120,230805, -9.0027, 162.9995, 3853,    685.1,   5.5030,    34.5020,0,    34.5020,2,      135.6,0,      135.8,2
PANDORA,,013,02,,10,,20140120,230805, -9.0027, 162.9995, 3853,    601.4,   6.1670,    34.5130,0,  -999.0000,9,      136.9,0,     -999.0,9
PANDORA,,013,02,,11,,20140120,230805, -9.0027, 162.9995, 3853,    565.3,   6.4830,    34.5230,0,  -999.0000,9,      137.1,0,     -999.0,9
PANDORA,,013,02,,12,,20140120,230805, -9.0027, 162.9995, 3853,    465.7,   7.6730,    34.5790,0,    34.5780,2,      133.6,0,      133.7,2
PANDORA,,013,02,,13,,20140120,230805, -9.0027, 162.9995, 3853,    365.3,  11.9270,    34.8920,0,  -999.0000,9,      107.1,0,     -999.0,9
PANDORA,,013,02,,14,,20140120,230805, -9.0027, 162.9995, 3853,    365.7,  11.9420,    34.8950,0,    34.8940,2,      107.0,0,      106.6,2
PANDORA,,013,02,,15,,20140120,230805, -9.0027, 162.9995, 3853,    300.7,  16.4980,    35.2980,0,  -999.0000,9,      110.3,0,     -999.0,9
PANDORA,,013,02,,16,,20140120,230805, -9.0027, 162.9995, 3853,    285.4,  17.0660,    35.3730,0,    35.3710,2,      116.9,0,      116.5,2
PANDORA,,013,02,,17,,20140120,230805, -9.0027, 162.9995, 3853,    236.7,  20.7350,    35.7570,0,  -999.0000,9,      121.8,0,     -999.0,9
PANDORA,,013,02,,18,,20140120,230805, -9.0027, 162.9995, 3853,    186.0,  21.9370,    35.8340,0,    35.8320,2,      124.2,0,      125.6,2
PANDORA,,013,02,,19,,20140120,230805, -9.0027, 162.9995, 3853,    151.4,  23.0860,    35.8580,0,  -999.0000,9,      127.1,0,     -999.0,9
PANDORA,,013,02,,20,,20140120,230805, -9.0027, 162.9995, 3853,    102.0,  26.3630,    35.6380,0,    35.6350,2,      135.7,0,      138.4,2
PANDORA,,013,02,,21,,20140120,230805, -9.0027, 162.9995, 3853,     50.2,  29.0270,    35.2220,0,  -999.0000,9,      178.5,0,     -999.0,9
PANDORA,,013,02,,22,,20140120,230805, -9.0027, 162.9995, 3853,      7.4,  29.1610,    34.6460,0,    34.6430,2,      184.7,0,      185.6,3
PANDORA,,013,04,, 1,,20140120,020925, -9.0000, 163.0008, 2686,    160.7,  24.1020,    35.8350,0,  -999.0000,9,      128.0,0,     -999.0,9
PANDORA,,013,04,, 2,,20140120,020925, -9.0000, 163.0008, 2686,    161.3,  24.0940,    35.8350,0,  -999.0000,9,      128.0,0,     -999.0,9
PANDORA,,013,04,, 3,,20140120,020925, -9.0000, 163.0008, 2686,    150.2,  24.5730,    35.8160,0,  -999.0000,9,      128.1,0,     -999.0,9
PANDORA,,013,04,, 4,,20140120,020925, -9.0000, 163.0008, 2686,    149.5,  24.7410,    35.8040,0,  -999.0000,9,      128.2,0,     -999.0,9
PANDORA,,013,04,, 5,,20140120,020925, -9.0000, 163.0008, 2686,    100.3,  27.2140,    35.5510,0,  -999.0000,9,      139.1,0,     -999.0,9
PANDORA,,013,04,, 6,,20140120,020925, -9.0000, 163.0008, 2686,    100.3,  27.2350,    35.5510,0,  -999.0000,9,      139.8,0,     -999.0,9
PANDORA,,013,04,, 7,,20140120,020925, -9.0000, 163.0008, 2686,     50.5,  28.7860,    35.2720,0,  -999.0000,9,      175.4,0,     -999.0,9
PANDORA,,013,04,, 8,,20140120,020925, -9.0000, 163.0008, 2686,     49.8,  28.8100,    35.2650,0,  -999.0000,9,      176.3,0,     -999.0,9
PANDORA,,013,04,, 9,,20140120,020925, -9.0000, 163.0008, 2686,     39.8,  29.1700,    34.7020,0,  -999.0000,9,      186.7,0,     -999.0,9
PANDORA,,013,04,,10,,20140120,020925, -9.0000, 163.0008, 2686,     39.8,  29.1720,    34.6770,0,  -999.0000,9,      187.1,0,     -999.0,9
PANDORA,,013,04,,11,,20140120,020925, -9.0000, 163.0008, 2686,      5.5,  29.1890,    34.6500,0,  -999.0000,9,      186.4,0,     -999.0,9
PANDORA,,013,04,,12,,20140120,020925, -9.0000, 163.0008, 2686,      4.9,  29.1870,    34.6510,0,  -999.0000,9,      186.9,0,     -999.0,9
PANDORA,,013,04,,13,,20140120,020925, -9.0000, 163.0008, 2686,      6.2,  29.1940,    34.6510,0,  -999.0000,9,      186.9,0,     -999.0,9
PANDORA,,014,01,, 1,,20140120,045759, -9.1878, 162.6877, 2459,   1999.8,   2.2300,    34.6360,0,  -999.0000,9,      130.3,0,     -999.0,9
PANDORA,,014,01,, 2,,20140120,045759, -9.1878, 162.6877, 2459,   1800.3,   2.3790,    34.6240,0,    34.6240,2,      129.8,0,      133.8,2
PANDORA,,014,01,, 3,,20140120,045759, -9.1878, 162.6877, 2459,   1600.6,   2.6660,    34.6050,0,  -999.0000,9,      127.8,0,     -999.0,9
PANDORA,,014,01,, 4,,20140120,045759, -9.1878, 162.6877, 2459,   1401.7,   3.0390,    34.5820,0,  -999.0000,9,      126.5,0,     -999.0,9
PANDORA,,014,01,, 5,,20140120,045759, -9.1878, 162.6877, 2459,   1200.1,   3.4040,    34.5620,0,  -999.0000,9,      126.1,0,     -999.0,9
PANDORA,,014,01,, 6,,20140120,045759, -9.1878, 162.6877, 2459,   1001.1,   4.0600,    34.5350,0,    34.5350,2,      124.4,0,      125.5,2
PANDORA,,014,01,, 7,,20140120,045759, -9.1878, 162.6877, 2459,    901.3,   4.3890,    34.5220,0,  -999.0000,9,      126.7,0,     -999.0,9
PANDORA,,014,01,, 8,,20140120,045759, -9.1878, 162.6877, 2459,    799.9,   4.9610,    34.5080,0,    34.5070,2,      131.5,0,      132.2,2
PANDORA,,014,01,, 9,,20140120,045759, -9.1878, 162.6877, 2459,    700.8,   5.4250,    34.5020,0,  -999.0000,9,      135.1,0,     -999.0,9
PANDORA,,014,01,,10,,20140120,045759, -9.1878, 162.6877, 2459,    600.1,   6.2240,    34.5150,0,    34.5150,2,      136.8,0,      135.9,2
PANDORA,,014,01,,11,,20140120,045759, -9.1878, 162.6877, 2459,    498.6,   7.0770,    34.5470,0,  -999.0000,9,      136.3,0,     -999.0,9
PANDORA,,014,01,,12,,20140120,045759, -9.1878, 162.6877, 2459,    397.0,   8.9050,    34.6570,0,    34.6570,2,      128.6,0,      128.6,2
PANDORA,,014,01,,13,,20140120,045759, -9.1878, 162.6877, 2459,    303.7,  12.9880,    34.9950,0,  -999.0000,9,      117.2,0,     -999.0,9
PANDORA,,014,01,,14,,20140120,045759, -9.1878, 162.6877, 2459,    252.4,  18.2880,    35.5010,0,    35.4990,2,      121.2,0,      122.3,2
PANDORA,,014,01,,15,,20140120,045759, -9.1878, 162.6877, 2459,    252.9,  18.2420,    35.4980,0,    35.4970,2,      120.8,0,      121.1,2
PANDORA,,014,01,,16,,20140120,045759, -9.1878, 162.6877, 2459,    200.8,  21.9080,    35.8280,0,  -999.0000,9,      124.5,0,     -999.0,9
PANDORA,,014,01,,17,,20140120,045759, -9.1878, 162.6877, 2459,    150.0,  24.4470,    35.8850,0,  -999.0000,9,      124.4,0,     -999.0,9
PANDORA,,014,01,,18,,20140120,045759, -9.1878, 162.6877, 2459,    101.1,  27.6360,    35.5540,0,  -999.0000,9,      148.5,0,     -999.0,9
PANDORA,,014,01,,19,,20140120,045759, -9.1878, 162.6877, 2459,     76.4,  28.8810,    35.2210,0,    35.2180,2,      178.1,0,      180.5,2
PANDORA,,014,01,,20,,20140120,045759, -9.1878, 162.6877, 2459,     50.3,  29.0840,    34.9100,0,  -999.0000,9,      186.1,0,     -999.0,9
PANDORA,,014,01,,21,,20140120,045759, -9.1878, 162.6877, 2459,     25.0,  29.0660,    34.6730,0,  -999.0000,9,      186.4,0,     -999.0,9
PANDORA,,014,01,,22,,20140120,045759, -9.1878, 162.6877, 2459,      5.1,  29.1010,    34.6720,0,  -999.0000,9,      186.5,0,     -999.0,9
PANDORA,,015,01,, 1,,20140120,090456, -9.3795, 162.3790, 3791,   2001.3,   2.1930,    34.6390,0,  -999.0000,9,      128.1,0,     -999.0,9
PANDORA,,015,01,, 2,,20140120,090456, -9.3795, 162.3790, 3791,   1899.7,   2.2790,    34.6330,0,    34.6320,2,      127.5,0,      132.8,3
PANDORA,,015,01,, 3,,20140120,090456, -9.3795, 162.3790, 3791,   1665.9,   2.6110,    34.6080,0,  -999.0000,9,      127.6,0,     -999.0,9
PANDORA,,015,01,, 4,,20140120,090456, -9.3795, 162.3790, 3791,   1464.7,   2.9780,    34.5850,0,    34.5850,2,      129.5,0,      133.5,3
PANDORA,,015,01,, 5,,20140120,090456, -9.3795, 162.3790, 3791,   1265.4,   3.3660,    34.5660,0,  -999.0000,9,      124.1,0,     -999.0,9
PANDORA,,015,01,, 6,,20140120,090456, -9.3795, 162.3790, 3791,   1065.1,   3.8380,    34.5460,0,    34.5450,2,      122.0,0,      123.4,2
PANDORA,,015,01,, 7,,20140120,090456, -9.3795, 162.3790, 3791,    935.8,   4.3650,    34.5250,0,  -999.0000,9,      124.4,0,     -999.0,9
PANDORA,,015,01,, 8,,20140120,090456, -9.3795, 162.3790, 3791,    835.5,   4.7650,    34.5150,0,  -999.0000,9,      127.5,0,     -999.0,9
PANDORA,,015,01,, 9,,20140120,090456, -9.3795, 162.3790, 3791,    736.0,   5.1870,    34.5120,0,    34.5120,2,      128.6,0,      129.6,2
PANDORA,,015,01,,10,,20140120,090456, -9.3795, 162.3790, 3791,    634.6,   5.9400,    34.5130,0,  -999.0000,9,      131.5,0,     -999.0,9
PANDORA,,015,01,,11,,20140120,090456, -9.3795, 162.3790, 3791,    536.4,   6.8720,    34.5410,0,  -999.0000,9,      133.5,0,     -999.0,9
PANDORA,,015,01,,12,,20140120,090456, -9.3795, 162.3790, 3791,    435.1,   8.5620,    34.6320,0,    34.6310,2,      131.7,0,      131.9,2
PANDORA,,015,01,,13,,20140120,090456, -9.3795, 162.3790, 3791,    334.8,  12.2730,    34.9180,0,  -999.0000,9,      109.8,0,     -999.0,9
PANDORA,,015,01,,14,,20140120,090456, -9.3795, 162.3790, 3791,    265.2,  16.2610,    35.2890,0,  -999.0000,9,      112.5,0,     -999.0,9
PANDORA,,015,01,,15,,20140120,090456, -9.3795, 162.3790, 3791,    216.1,  20.1160,    35.6820,0,    35.6800,2,      121.9,0,      122.4,2
PANDORA,,015,01,,16,,20140120,090456, -9.3795, 162.3790, 3791,    216.3,  20.1660,    35.6860,0,    35.6840,2,      121.5,0,      122.6,2
PANDORA,,015,01,,17,,20140120,090456, -9.3795, 162.3790, 3791,    151.3,  25.9060,    35.8410,0,  -999.0000,9,      129.7,0,     -999.0,9
PANDORA,,015,01,,18,,20140120,090456, -9.3795, 162.3790, 3791,    100.3,  27.8160,    35.4100,0,    35.4070,2,      155.6,0,      154.3,3
PANDORA,,015,01,,19,,20140120,090456, -9.3795, 162.3790, 3791,     75.1,  28.3290,    35.1630,0,  -999.0000,9,      165.7,0,     -999.0,9
PANDORA,,015,01,,20,,20140120,090456, -9.3795, 162.3790, 3791,     50.3,  28.9150,    34.7250,0,    34.7220,2,      186.8,0,      189.1,2
PANDORA,,015,01,,21,,20140120,090456, -9.3795, 162.3790, 3791,     24.8,  28.9020,    34.6950,0,  -999.0000,9,      187.5,0,     -999.0,9
PANDORA,,015,01,,22,,20140120,090456, -9.3795, 162.3790, 3791,      4.3,  28.8970,    34.6950,0,    34.6930,2,      187.5,0,      189.5,2
PANDORA,,016,01,, 1,,20140120,125429, -9.5638, 162.0670, 3791,   2000.9,   2.2390,    34.6360,0,  -999.0000,9,      128.6,0,     -999.0,9
PANDORA,,016,01,, 2,,20140120,125429, -9.5638, 162.0670, 3791,   1735.7,   2.5150,    34.6150,0,    34.6150,2,      131.0,0,      131.6,2
PANDORA,,016,01,, 3,,20140120,125429, -9.5638, 162.0670, 3791,   1535.9,   2.8620,    34.5930,0,  -999.0000,9,      127.0,0,     -999.0,9
PANDORA,,016,01,, 4,,20140120,125429, -9.5638, 162.0670, 3791,   1335.6,   3.2730,    34.5710,0,    34.5700,2,      125.4,0,      127.1,2
PANDORA,,016,01,, 5,,20140120,125429, -9.5638, 162.0670, 3791,   1135.2,   3.7550,    34.5470,0,  -999.0000,9,      124.7,0,     -999.0,9
PANDORA,,016,01,, 6,,20140120,125429, -9.5638, 162.0670, 3791,    965.8,   4.3970,    34.5230,0,    34.5220,2,      125.5,0,      125.8,2
PANDORA,,016,01,, 7,,20140120,125429, -9.5638, 162.0670, 3791,    866.0,   4.8660,    34.5130,0,  -999.0000,9,      128.1,0,     -999.0,9
PANDORA,,016,01,, 8,,20140120,125429, -9.5638, 162.0670, 3791,    865.8,   4.8640,    34.5120,0,  -999.0000,9,      127.9,0,     -999.0,9
PANDORA,,016,01,, 9,,20140120,125429, -9.5638, 162.0670, 3791,    663.9,   5.8680,    34.5080,0,    34.5080,2,      133.0,0,      132.6,2
PANDORA,,016,01,,10,,20140120,125429, -9.5638, 162.0670, 3791,    565.7,   6.7760,    34.5320,0,  -999.0000,9,      136.0,0,     -999.0,9
PANDORA,,016,01,,11,,20140120,125429, -9.5638, 162.0670, 3791,    565.8,   6.7800,    34.5320,0,  -999.0000,9,      136.0,0,     -999.0,9
PANDORA,,016,01,,12,,20140120,125429, -9.5638, 162.0670, 3791,    366.1,  10.4130,    34.7710,0,    34.7700,2,      105.8,0,      104.9,2
PANDORA,,016,01,,13,,20140120,125429, -9.5638, 162.0670, 3791,    366.0,  10.4250,    34.7740,0,  -999.0000,9,      105.4,0,     -999.0,9
PANDORA,,016,01,,14,,20140120,125429, -9.5638, 162.0670, 3791,    235.9,  17.1170,    35.3770,0,    35.3750,2,      112.7,0,      110.5,3
PANDORA,,016,01,,15,,20140120,125429, -9.5638, 162.0670, 3791,    236.0,  17.1580,    35.3900,0,  -999.0000,9,      113.0,0,     -999.0,9
PANDORA,,016,01,,16,,20140120,125429, -9.5638, 162.0670, 3791,    150.8,  23.7190,    35.8720,0,    35.8700,2,      124.5,0,      125.8,2
PANDORA,,016,01,,17,,20140120,125429, -9.5638, 162.0670, 3791,    150.6,  23.7450,    35.8730,0,    35.8710,2,      124.8,0,      125.8,2
PANDORA,,016,01,,18,,20140120,125429, -9.5638, 162.0670, 3791,     75.7,  27.7600,    35.4600,0,  -999.0000,9,      154.0,0,     -999.0,9
PANDORA,,016,01,,19,,20140120,125429, -9.5638, 162.0670, 3791,     75.6,  27.7730,    35.4590,0,  -999.0000,9,      154.0,0,     -999.0,9
PANDORA,,016,01,,20,,20140120,125429, -9.5638, 162.0670, 3791,     49.8,  28.9850,    34.7210,0,    34.7180,2,      186.0,0,      190.0,2
PANDORA,,016,01,,21,,20140120,125429, -9.5638, 162.0670, 3791,     25.3,  28.9320,    34.6860,0,  -999.0000,9,      187.5,0,     -999.0,9
PANDORA,,016,01,,22,,20140120,125429, -9.5638, 162.0670, 3791,      4.9,  28.8690,    34.6550,0,    34.6520,2,      187.8,0,      190.4,2
PANDORA,,017,01,, 1,,20140120,165321, -9.7510, 161.7495, 1477,   1401.6,   3.1200,    34.5880,0,  -999.0000,9,      130.8,0,     -999.0,9
PANDORA,,017,01,, 2,,20140120,165321, -9.7510, 161.7495, 1477,   1401.4,   3.1190,    34.5880,0,    34.5870,2,      130.8,0,      132.9,2
PANDORA,,017,01,, 3,,20140120,165321, -9.7510, 161.7495, 1477,   1402.1,   3.1180,    34.5880,0,  -999.0000,9,      130.5,0,     -999.0,9
PANDORA,,017,01,, 4,,20140120,165321, -9.7510, 161.7495, 1477,   1401.5,   3.1150,    34.5880,0,    34.5870,2,      130.5,0,      132.3,2
PANDORA,,017,01,, 5,,20140120,165321, -9.7510, 161.7495, 1477,   1200.8,   3.3260,    34.5750,0,  -999.0000,9,      129.3,0,     -999.0,9
PANDORA,,017,01,, 6,,20140120,165321, -9.7510, 161.7495, 1477,   1000.7,   4.0420,    34.5420,0,    34.5420,2,      130.3,0,      131.4,2
PANDORA,,017,01,, 7,,20140120,165321, -9.7510, 161.7495, 1477,    900.8,   4.3920,    34.5290,0,  -999.0000,9,      136.8,0,     -999.0,9
PANDORA,,017,01,, 8,,20140120,165321, -9.7510, 161.7495, 1477,    800.7,   5.3960,    34.5110,0,  -999.0000,9,      144.6,0,     -999.0,9
PANDORA,,017,01,, 9,,20140120,165321, -9.7510, 161.7495, 1477,    700.7,   6.1880,    34.5200,0,    34.5190,2,      145.9,0,      146.6,2
PANDORA,,017,01,,10,,20140120,165321, -9.7510, 161.7495, 1477,    600.0,   7.1190,    34.5490,0,  -999.0000,9,      146.6,0,     -999.0,9
PANDORA,,017,01,,11,,20140120,165321, -9.7510, 161.7495, 1477,    499.3,   8.2620,    34.6130,0,  -999.0000,9,      139.5,0,     -999.0,9
PANDORA,,017,01,,12,,20140120,165321, -9.7510, 161.7495, 1477,    401.7,   9.9870,    34.7360,0,    34.7350,2,      123.5,0,      123.3,2
PANDORA,,017,01,,13,,20140120,165321, -9.7510, 161.7495, 1477,    301.3,  14.0510,    35.0800,0,  -999.0000,9,      110.2,0,     -999.0,9
PANDORA,,017,01,,14,,20140120,165321, -9.7510, 161.7495, 1477,    249.9,  15.8280,    35.2470,0,  -999.0000,9,      122.9,0,     -999.0,9
PANDORA,,017,01,,15,,20140120,165321, -9.7510, 161.7495, 1477,    200.9,  20.3690,    35.7010,0,    35.6990,2,      124.9,0,      125.9,2
PANDORA,,017,01,,16,,20140120,165321, -9.7510, 161.7495, 1477,    150.1,  22.9630,    35.8800,0,  -999.0000,9,      124.6,0,     -999.0,9
PANDORA,,017,01,,17,,20140120,165321, -9.7510, 161.7495, 1477,    101.3,  25.8680,    35.7440,0,    35.7410,2,      133.4,0,      134.5,2
PANDORA,,017,01,,18,,20140120,165321, -9.7510, 161.7495, 1477,    101.1,  25.8610,    35.7440,0,    35.7420,2,      132.7,0,      134.8,2
PANDORA,,017,01,,19,,20140120,165321, -9.7510, 161.7495, 1477,     75.6,  27.1950,    35.5350,0,  -999.0000,9,      147.5,0,     -999.0,9
PANDORA,,017,01,,20,,20140120,165321, -9.7510, 161.7495, 1477,     50.4,  28.5430,    34.8380,0,    34.8360,2,      179.0,0,      180.8,2
PANDORA,,017,01,,21,,20140120,165321, -9.7510, 161.7495, 1477,     25.0,  28.7820,    34.6990,0,  -999.0000,9,      185.0,0,     -999.0,9
PANDORA,,017,01,,22,,20140120,165321, -9.7510, 161.7495, 1477,      4.9,  28.7070,    34.5670,0,    34.5640,2,      186.6,0,      190.2,2