BOTTLE,20140909LEGIRDAG
EXPOCODE,SECT_ID,STNNBR,CASTNO,SAMPNO,BTLNBR,BTLNBR_FLAG_W,DATE,TIME,LATITUDE,LONGITUDE,DEPTH,CTDPRS,CTDTMP,CTDSAL,CTDSAL_FLAG_W,SALNTY,SALNTY_FLAG_W,CTDOXY,CTDOXY_FLAG_W,OXYGEN,OXYGEN_FLAG_W
,,,,,,,,,,,,,DBARS,ITS-90,PSS-78,,PSS-78,,UMOL/KG,,UMOL/KG,
PANDORA,,071,09,, 1,,20140120,205735, -8.3425, 151.2858, 1550,    397.0,  12.8380,    34.9960,0,  -999.0000,9,      160.0,0,     -999.0,9
PANDORA,,071,09,, 2,,20140120,205735, -8.3425, 151.2858, 1550,    396.4,  12.8430,    34.9970,0,  -999.0000,9,      160.1,0,     -999.0,9
PANDORA,,071,09,, 3,,20140120,205735, -8.3425, 151.2858, 1550,    396.0,  12.8430,    34.9970,0,  -999.0000,9,      160.3,0,     -999.0,9
PANDORA,,071,09,, 4,,20140120,205735, -8.3425, 151.2858, 1550,    395.3,  12.8450,    34.9970,0,  -999.0000,9,      160.2,0,     -999.0,9
PANDORA,,071,09,, 5,,20140120,205735, -8.3425, 151.2858, 1550,    395.1,  12.8510,    34.9980,0,  -999.0000,9,      160.0,0,     -999.0,9
PANDORA,,071,09,, 6,,20140120,205735, -8.3425, 151.2858, 1550,    394.8,  12.8550,    34.9980,0,  -999.0000,9,      160.1,0,     -999.0,9
PANDORA,,071,09,, 7,,20140120,205735, -8.3425, 151.2858, 1550,    394.4,  12.8650,    34.9990,0,  -999.0000,9,      160.4,0,     -999.0,9
PANDORA,,071,09,, 8,,20140120,205735, -8.3425, 151.2858, 1550,    393.9,  12.8780,    35.0000,0,  -999.0000,9,      160.1,0,     -999.0,9
PANDORA,,071,09,, 9,,20140120,205735, -8.3425, 151.2858, 1550,    393.7,  12.8810,    35.0000,0,  -999.0000,9,      160.3,0,     -999.0,9
PANDORA,,071,09,,10,,20140120,205735, -8.3425, 151.2858, 1550,    393.2,  12.8840,    35.0000,0,  -999.0000,9,      160.7,0,     -999.0,9
PANDORA,,071,09,,11,,20140120,205735, -8.3425, 151.2858, 1550,    392.9,  12.8830,    35.0000,0,  -999.0000,9,      160.2,0,     -999.0,9
PANDORA,,071,09,,12,,20140120,205735, -8.3425, 151.2858, 1550,    392.6,  12.8860,    35.0010,0,  -999.0000,9,      160.4,0,     -999.0,9
PANDORA,,071,09,,13,,20140120,205735, -8.3425, 151.2858, 1550,    392.6,  12.8830,    35.0010,0,  -999.0000,9,      159.8,0,     -999.0,9
PANDORA,,071,09,,14,,20140120,205735, -8.3425, 151.2858, 1550,    392.4,  12.8840,    35.0010,0,  -999.0000,9,      160.2,0,     -999.0,9
PANDORA,,071,09,,15,,20140120,205735, -8.3425, 151.2858, 1550,    392.2,  12.8850,    35.0010,0,  -999.0000,9,      160.6,0,     -999.0,9
PANDORA,,071,09,,16,,20140120,205735, -8.3425, 151.2858, 1550,    392.1,  12.8840,    35.0010,0,  -999.0000,9,      160.3,0,     -999.0,9
PANDORA,,071,09,,17,,20140120,205735, -8.3425, 151.2858, 1550,    392.0,  12.8870,    35.0010,0,  -999.0000,9,      160.2,0,     -999.0,9
PANDORA,,071,09,,18,,20140120,205735, -8.3425, 151.2858, 1550,    391.7,  12.8910,    35.0010,0,  -999.0000,9,      160.4,0,     -999.0,9
PANDORA,,071,09,,19,,20140120,205735, -8.3425, 151.2858, 1550,    391.7,  12.8900,    35.0010,0,  -999.0000,9,      160.4,0,     -999.0,9
PANDORA,,071,09,,20,,20140120,205735, -8.3425, 151.2858, 1550,    391.7,  12.8950,    35.0020,0,  -999.0000,9,      160.0,0,     -999.0,9
PANDORA,,071,09,,21,,20140120,205735, -8.3425, 151.2858, 1550,    391.5,  12.8900,    35.0010,0,  -999.0000,9,      160.0,0,     -999.0,9
PANDORA,,071,09,,22,,20140120,205735, -8.3425, 151.2858, 1550,    391.2,  12.9000,    35.0020,0,  -999.0000,9,      159.9,0,     -999.0,9
PANDORA,,071,10,, 1,,20140120,214800, -8.3382, 151.2900, 1417,    161.2,  23.1690,    35.7880,0,  -999.0000,9,      126.4,0,     -999.0,9
PANDORA,,071,10,, 2,,20140120,214800, -8.3382, 151.2900, 1417,    161.7,  23.1480,    35.7870,0,  -999.0000,9,      126.4,0,     -999.0,9
PANDORA,,071,10,, 3,,20140120,214800, -8.3382, 151.2900, 1417,    161.8,  23.1550,    35.7870,0,  -999.0000,9,      125.8,0,     -999.0,9
PANDORA,,071,10,, 4,,20140120,214800, -8.3382, 151.2900, 1417,    162.1,  23.1440,    35.7870,0,  -999.0000,9,      126.4,0,     -999.0,9
PANDORA,,071,10,, 5,,20140120,214800, -8.3382, 151.2900, 1417,    162.4,  23.1180,    35.7880,0,  -999.0000,9,      126.0,0,     -999.0,9
PANDORA,,071,10,, 6,,20140120,214800, -8.3382, 151.2900, 1417,    162.4,  23.1110,    35.7880,0,  -999.0000,9,      125.8,0,     -999.0,9
PANDORA,,071,10,, 7,,20140120,214800, -8.3382, 151.2900, 1417,    162.9,  22.9520,    35.8000,0,  -999.0000,9,      125.4,0,     -999.0,9
PANDORA,,071,10,, 8,,20140120,214800, -8.3382, 151.2900, 1417,    163.1,  22.9430,    35.7980,0,  -999.0000,9,      125.3,0,     -999.0,9
PANDORA,,071,10,, 9,,20140120,214800, -8.3382, 151.2900, 1417,    163.2,  22.9610,    35.7970,0,  -999.0000,9,      124.9,0,     -999.0,9
PANDORA,,071,10,,10,,20140120,214800, -8.3382, 151.2900, 1417,    163.5,  22.9190,    35.7990,0,  -999.0000,9,      125.3,0,     -999.0,9
PANDORA,,071,10,,11,,20140120,214800, -8.3382, 151.2900, 1417,    163.4,  22.9670,    35.7960,0,  -999.0000,9,      125.3,0,     -999.0,9
PANDORA,,071,10,,12,,20140120,214800, -8.3382, 151.2900, 1417,    164.0,  22.9350,    35.7980,0,  -999.0000,9,      124.4,0,     -999.0,9
PANDORA,,071,10,,13,,20140120,214800, -8.3382, 151.2900, 1417,    164.3,  22.8480,    35.8010,0,  -999.0000,9,      124.3,0,     -999.0,9
PANDORA,,071,10,,14,,20140120,214800, -8.3382, 151.2900, 1417,    164.6,  22.8160,    35.8040,0,  -999.0000,9,      124.9,0,     -999.0,9
PANDORA,,071,10,,15,,20140120,214800, -8.3382, 151.2900, 1417,    164.6,  22.8130,    35.8040,0,  -999.0000,9,      124.6,0,     -999.0,9
PANDORA,,071,10,,16,,20140120,214800, -8.3382, 151.2900, 1417,    164.6,  22.8270,    35.8020,0,  -999.0000,9,      124.7,0,     -999.0,9
PANDORA,,071,10,,17,,20140120,214800, -8.3382, 151.2900, 1417,    164.6,  22.8670,    35.7990,0,  -999.0000,9,      124.7,0,     -999.0,9
PANDORA,,071,10,,18,,20140120,214800, -8.3382, 151.2900, 1417,    164.8,  22.8450,    35.8000,0,  -999.0000,9,      124.2,0,     -999.0,9
PANDORA,,071,10,,19,,20140120,214800, -8.3382, 151.2900, 1417,    165.2,  22.7740,    35.8100,0,  -999.0000,9,      124.2,0,     -999.0,9
PANDORA,,071,10,,20,,20140120,214800, -8.3382, 151.2900, 1417,    165.2,  22.7610,    35.8090,0,  -999.0000,9,      124.2,0,     -999.0,9
PANDORA,,071,10,,21,,20140120,214800, -8.3382, 151.2900, 1417,    165.2,  22.7320,    35.8090,0,  -999.0000,9,      123.6,0,     -999.0,9
PANDORA,,071,10,,22,,20140120,214800, -8.3382, 151.2900, 1417,    164.9,  22.8090,    35.8030,0,  -999.0000,9,      123.8,0,     -999.0,9
PANDORA,,072,01,, 1,,20140120,074236, -7.4160, 149.9985, 4820,   2001.1,   2.2170,    34.6420,0,    34.6420,2,      123.3,0,      128.2,2
PANDORA,,072,01,, 2,,20140120,074236, -7.4160, 149.9985, 4820,   1735.4,   2.5740,    34.6180,0,  -999.0000,9,      120.6,0,     -999.0,9
PANDORA,,072,01,, 3,,20140120,074236, -7.4160, 149.9985, 4820,   1535.9,   2.9430,    34.5950,0,    34.5950,2,      121.2,0,      124.9,2
PANDORA,,072,01,, 4,,20140120,074236, -7.4160, 149.9985, 4820,   1335.9,   3.3410,    34.5690,0,  -999.0000,9,      126.9,0,     -999.0,9
PANDORA,,072,01,, 5,,20140120,074236, -7.4160, 149.9985, 4820,   1136.0,   4.0770,    34.5250,0,    34.5250,2,      134.9,0,      138.2,2
PANDORA,,072,01,, 6,,20140120,074236, -7.4160, 149.9985, 4820,    965.3,   4.5950,    34.4860,0,  -999.0000,9,      151.4,0,     -999.0,9
PANDORA,,072,01,, 7,,20140120,074236, -7.4160, 149.9985, 4820,    865.5,   5.1390,    34.4670,0,    34.4670,2,      156.0,0,      159.6,2
PANDORA,,072,01,, 8,,20140120,074236, -7.4160, 149.9985, 4820,    765.6,   5.5200,    34.4580,0,  -999.0000,9,      164.2,0,     -999.0,9
PANDORA,,072,01,, 9,,20140120,074236, -7.4160, 149.9985, 4820,    665.7,   6.1290,    34.4590,0,    34.4590,2,      173.5,0,      178.0,2
PANDORA,,072,01,,10,,20140120,074236, -7.4160, 149.9985, 4820,    565.6,   7.5700,    34.5230,0,  -999.0000,9,      166.1,0,     -999.0,9
PANDORA,,072,01,,11,,20140120,074236, -7.4160, 149.9985, 4820,    465.7,  11.3620,    34.8470,0,    34.8460,2,      157.7,0,      159.4,2
PANDORA,,072,01,,12,,20140120,074236, -7.4160, 149.9985, 4820,    366.0,  13.5160,    35.0550,0,  -999.0000,9,      156.6,0,     -999.0,9
PANDORA,,072,01,,13,,20140120,074236, -7.4160, 149.9985, 4820,    285.2,  15.5420,    35.2390,0,    35.2380,2,      151.8,0,      156.4,2
PANDORA,,072,01,,14,,20140120,074236, -7.4160, 149.9985, 4820,    285.5,  15.5500,    35.2380,0,    35.2370,2,      152.0,0,      156.1,2
PANDORA,,072,01,,15,,20140120,074236, -7.4160, 149.9985, 4820,    236.3,  19.3310,    35.5570,0,  -999.0000,9,      136.2,0,     -999.0,9
PANDORA,,072,01,,16,,20140120,074236, -7.4160, 149.9985, 4820,    186.0,  21.3450,    35.6080,0,    35.6060,2,      136.8,0,      140.1,2
PANDORA,,072,01,,17,,20140120,074236, -7.4160, 149.9985, 4820,    135.3,  22.8440,    35.5310,0,  -999.0000,9,      141.5,0,     -999.0,9
PANDORA,,072,01,,18,,20140120,074236, -7.4160, 149.9985, 4820,    101.0,  26.0480,    35.4060,0,    35.4040,2,      135.6,0,      139.0,2
PANDORA,,072,01,,19,,20140120,074236, -7.4160, 149.9985, 4820,     75.6,  27.5550,    34.7920,0,  -999.0000,9,      182.8,0,     -999.0,9
PANDORA,,072,01,,20,,20140120,074236, -7.4160, 149.9985, 4820,     51.2,  27.7530,    34.7240,0,    34.7220,2,      187.8,0,      196.1,2
PANDORA,,072,01,,21,,20140120,074236, -7.4160, 149.9985, 4820,     25.8,  27.7810,    34.7220,0,  -999.0000,9,      189.6,0,     -999.0,9
PANDORA,,072,01,,22,,20140120,074236, -7.4160, 149.9985, 4820,      6.1,  27.7690,    34.7220,0,    34.7200,2,      189.4,0,      193.9,2
PANDORA,,073,01,, 1,,20140120,110130, -7.1660, 149.9987,  NaN,   1650.5,   2.7220,    34.6090,0,  -999.0000,9,      118.8,0,     -999.0,9
PANDORA,,073,01,, 2,,20140120,110130, -7.1660, 149.9987,  NaN,   1651.1,   2.7210,    34.6100,0,  -999.0000,9,      118.8,0,     -999.0,9
PANDORA,,073,01,, 3,,20140120,110130, -7.1660, 149.9987,  NaN,   1650.8,   2.7210,    34.6100,0,  -999.0000,9,      118.7,0,     -999.0,9
PANDORA,,073,01,, 4,,20140120,110130, -7.1660, 149.9987,  NaN,   1650.8,   2.7210,    34.6090,0,  -999.0000,9,      119.0,0,     -999.0,9
PANDORA,,073,01,, 5,,20140120,110130, -7.1660, 149.9987,  NaN,   1650.8,   2.7210,    34.6090,0,  -999.0000,9,      119.0,0,     -999.0,9
PANDORA,,073,01,, 6,,20140120,110130, -7.1660, 149.9987,  NaN,   1651.0,   2.7210,    34.6100,0,  -999.0000,9,      118.8,0,     -999.0,9
PANDORA,,073,01,, 7,,20140120,110130, -7.1660, 149.9987,  NaN,   1651.2,   2.7210,    34.6100,0,  -999.0000,9,      118.8,0,     -999.0,9
PANDORA,,073,01,, 8,,20140120,110130, -7.1660, 149.9987,  NaN,   1651.3,   2.7210,    34.6090,0,  -999.0000,9,      118.7,0,     -999.0,9
PANDORA,,073,01,, 9,,20140120,110130, -7.1660, 149.9987,  NaN,   1651.3,   2.7210,    34.6090,0,  -999.0000,9,      118.6,0,     -999.0,9
PANDORA,,073,01,,10,,20140120,110130, -7.1660, 149.9987,  NaN,   1650.8,   2.7210,    34.6090,0,  -999.0000,9,      119.0,0,     -999.0,9
PANDORA,,073,01,,11,,20140120,110130, -7.1660, 149.9987,  NaN,    702.1,   5.9440,    34.4730,0,  -999.0000,9,      165.5,0,     -999.0,9
PANDORA,,073,01,,12,,20140120,110130, -7.1660, 149.9987,  NaN,    201.0,  21.2450,    35.6050,0,  -999.0000,9,      138.1,0,     -999.0,9
PANDORA,,073,01,,13,,20140120,110130, -7.1660, 149.9987,  NaN,    171.7,  21.7000,    35.5840,0,  -999.0000,9,      138.2,0,     -999.0,9
PANDORA,,073,01,,14,,20140120,110130, -7.1660, 149.9987,  NaN,    151.2,  22.2330,    35.5530,0,  -999.0000,9,      140.1,0,     -999.0,9
PANDORA,,073,01,,15,,20140120,110130, -7.1660, 149.9987,  NaN,    151.4,  22.2370,    35.5520,0,  -999.0000,9,      140.2,0,     -999.0,9
PANDORA,,073,01,,16,,20140120,110130, -7.1660, 149.9987,  NaN,    101.4,  24.7730,    35.4470,0,  -999.0000,9,      138.6,0,     -999.0,9
PANDORA,,073,01,,17,,20140120,110130, -7.1660, 149.9987,  NaN,    101.7,  24.7450,    35.4490,0,  -999.0000,9,      139.2,0,     -999.0,9
PANDORA,,073,01,,18,,20140120,110130, -7.1660, 149.9987,  NaN,     50.7,  27.4120,    35.0930,0,  -999.0000,9,      162.7,0,     -999.0,9
PANDORA,,073,01,,19,,20140120,110130, -7.1660, 149.9987,  NaN,     50.7,  27.4120,    35.0920,0,  -999.0000,9,      162.6,0,     -999.0,9
PANDORA,,073,01,,20,,20140120,110130, -7.1660, 149.9987,  NaN,     50.6,  27.4100,    35.0880,0,  -999.0000,9,      161.9,0,     -999.0,9
PANDORA,,073,01,,21,,20140120,110130, -7.1660, 149.9987,  NaN,      5.7,  28.0180,    34.7430,0,  -999.0000,9,      186.9,0,     -999.0,9
PANDORA,,073,01,,22,,20140120,110130, -7.1660, 149.9987,  NaN,      5.9,  28.0210,    34.7420,0,  -999.0000,9,      187.4,0,     -999.0,9
PANDORA,,073,02,, 1,,20140120,130129, -7.1665, 149.9997, 5253,   2000.5,   2.2010,    34.6430,0,    34.6430,2,      123.8,0,      129.8,2
PANDORA,,073,02,, 2,,20140120,130129, -7.1665, 149.9997, 5253,   1800.1,   2.4590,    34.6260,0,  -999.0000,9,      122.8,0,     -999.0,9
PANDORA,,073,02,, 3,,20140120,130129, -7.1665, 149.9997, 5253,   1600.6,   2.7900,    34.6050,0,    34.6040,2,      120.8,0,      124.3,2
PANDORA,,073,02,, 4,,20140120,130129, -7.1665, 149.9997, 5253,   1400.5,   3.2810,    34.5740,0,  -999.0000,9,      123.8,0,     -999.0,9
PANDORA,,073,02,, 5,,20140120,130129, -7.1665, 149.9997, 5253,   1200.5,   3.8250,    34.5370,0,    34.5360,2,      134.8,0,      138.7,2
PANDORA,,073,02,, 6,,20140120,130129, -7.1665, 149.9997, 5253,   1000.8,   4.5490,    34.4970,0,  -999.0000,9,      144.7,0,     -999.0,9
PANDORA,,073,02,, 7,,20140120,130129, -7.1665, 149.9997, 5253,    900.8,   4.9880,    34.4760,0,    34.4760,2,      153.5,0,      158.0,2
PANDORA,,073,02,, 8,,20140120,130129, -7.1665, 149.9997, 5253,    800.1,   5.3840,    34.4620,0,  -999.0000,9,      161.8,0,     -999.0,9
PANDORA,,073,02,, 9,,20140120,130129, -7.1665, 149.9997, 5253,    700.5,   5.8680,    34.4550,0,    34.4550,2,      170.0,0,      174.1,2
PANDORA,,073,02,,10,,20140120,130129, -7.1665, 149.9997, 5253,    595.6,   6.8910,    34.4880,0,  -999.0000,9,      171.4,0,     -999.0,9
PANDORA,,073,02,,11,,20140120,130129, -7.1665, 149.9997, 5253,    500.8,   8.9910,    34.6270,0,    34.6270,2,      165.2,0,      168.6,2
PANDORA,,073,02,,12,,20140120,130129, -7.1665, 149.9997, 5253,    400.9,  12.4820,    34.9580,0,  -999.0000,9,      161.0,0,     -999.0,9
PANDORA,,073,02,,13,,20140120,130129, -7.1665, 149.9997, 5253,    300.9,  13.8700,    35.0890,0,    35.0880,2,      157.9,0,      160.7,2
PANDORA,,073,02,,14,,20140120,130129, -7.1665, 149.9997, 5253,    250.9,  18.5670,    35.4870,0,  -999.0000,9,      144.1,0,     -999.0,9
PANDORA,,073,02,,15,,20140120,130129, -7.1665, 149.9997, 5253,    251.5,  18.5500,    35.4870,0,    35.4860,2,      144.4,0,      146.6,3
PANDORA,,073,02,,16,,20140120,130129, -7.1665, 149.9997, 5253,    201.1,  21.4300,    35.6330,0,  -999.0000,9,      136.7,0,     -999.0,9
PANDORA,,073,02,,17,,20140120,130129, -7.1665, 149.9997, 5253,    151.5,  22.1640,    35.5600,0,    35.5590,2,      140.3,0,      142.4,2
PANDORA,,073,02,,18,,20140120,130129, -7.1665, 149.9997, 5253,    101.7,  24.8230,    35.4410,0,  -999.0000,9,      139.4,0,     -999.0,9
PANDORA,,073,02,,19,,20140120,130129, -7.1665, 149.9997, 5253,     74.8,  27.0340,    35.1840,0,    35.1820,2,      156.3,0,      157.3,2
PANDORA,,073,02,,20,,20140120,130129, -7.1665, 149.9997, 5253,     50.1,  27.2540,    35.1100,0,  -999.0000,9,      162.9,0,     -999.0,9
PANDORA,,073,02,,21,,20140120,130129, -7.1665, 149.9997, 5253,     24.8,  27.8320,    34.7740,0,    34.7710,2,      187.5,0,      192.5,2
PANDORA,,073,02,,22,,20140120,130129, -7.1665, 149.9997, 5253,      5.0,  28.0100,    34.7300,0,  -999.0000,9,      187.0,0,     -999.0,9
PANDORA,,074,01,, 1,,20140120,161841, -6.9163, 149.9992, 6341,   2000.5,   2.2000,    34.6430,0,    34.6430,2,      123.8,0,      127.8,2
PANDORA,,074,01,, 2,,20140120,161841, -6.9163, 149.9992, 6341,   1900.1,   2.3020,    34.6360,0,  -999.0000,9,      122.5,0,     -999.0,9
PANDORA,,074,01,, 3,,20140120,161841, -6.9163, 149.9992, 6341,   1664.9,   2.5830,    34.6170,0,    34.6170,2,      120.3,0,      124.4,2
PANDORA,,074,01,, 4,,20140120,161841, -6.9163, 149.9992, 6341,   1465.4,   3.0900,    34.5870,0,    34.5870,2,      121.0,0,      123.8,2
PANDORA,,074,01,, 5,,20140120,161841, -6.9163, 149.9992, 6341,   1265.8,   3.6470,    34.5510,0,  -999.0000,9,      128.2,0,     -999.0,9
PANDORA,,074,01,, 6,,20140120,161841, -6.9163, 149.9992, 6341,   1065.6,   4.2890,    34.5150,0,    34.5150,2,      136.8,0,      140.3,2
PANDORA,,074,01,, 7,,20140120,161841, -6.9163, 149.9992, 6341,    934.9,   4.6650,    34.4970,0,    34.4970,2,      143.8,0,      146.5,2
PANDORA,,074,01,, 8,,20140120,161841, -6.9163, 149.9992, 6341,    836.1,   5.0680,    34.4770,0,  -999.0000,9,      153.1,0,     -999.0,9
PANDORA,,074,01,, 9,,20140120,161841, -6.9163, 149.9992, 6341,    735.0,   5.6600,    34.4630,0,    34.4620,2,      163.7,0,      166.1,2
PANDORA,,074,01,,10,,20140120,161841, -6.9163, 149.9992, 6341,    635.0,   6.6680,    34.4840,0,  -999.0000,9,      174.6,0,     -999.0,9
PANDORA,,074,01,,11,,20140120,161841, -6.9163, 149.9992, 6341,    535.6,   7.2450,    34.5110,0,    34.5110,2,      176.8,0,      180.1,2
PANDORA,,074,01,,12,,20140120,161841, -6.9163, 149.9992, 6341,    435.0,  10.1180,    34.7320,0,    34.7310,2,      148.1,0,      151.1,2
PANDORA,,074,01,,13,,20140120,161841, -6.9163, 149.9992, 6341,    334.8,  14.2730,    35.1270,0,  -999.0000,9,      155.8,0,     -999.0,9
PANDORA,,074,01,,14,,20140120,161841, -6.9163, 149.9992, 6341,    265.3,  15.5270,    35.2420,0,    35.2400,2,      152.2,0,      155.1,2
PANDORA,,074,01,,15,,20140120,161841, -6.9163, 149.9992, 6341,    214.9,  19.8660,    35.6060,0,  -999.0000,9,      133.3,0,     -999.0,9
PANDORA,,074,01,,16,,20140120,161841, -6.9163, 149.9992, 6341,    215.4,  19.8680,    35.6070,0,    35.6050,2,      134.0,0,      139.8,2
PANDORA,,074,01,,17,,20140120,161841, -6.9163, 149.9992, 6341,    155.1,  22.2990,    35.5470,0,  -999.0000,9,      141.0,0,     -999.0,9
PANDORA,,074,01,,18,,20140120,161841, -6.9163, 149.9992, 6341,    101.0,  24.4440,    35.4650,0,  -999.0000,9,      142.5,0,     -999.0,9
PANDORA,,074,01,,19,,20140120,161841, -6.9163, 149.9992, 6341,     74.6,  26.7800,    35.2170,0,    35.2150,2,      155.7,0,      156.1,3
PANDORA,,074,01,,20,,20140120,161841, -6.9163, 149.9992, 6341,     51.0,  27.5830,    34.9810,0,  -999.0000,9,      174.8,0,     -999.0,9
PANDORA,,074,01,,21,,20140120,161841, -6.9163, 149.9992, 6341,     26.0,  28.1130,    34.7360,0,    34.7340,2,      188.5,0,      192.2,2
PANDORA,,074,01,,22,,20140120,161841, -6.9163, 149.9992, 6341,      5.2,  28.0980,    34.7370,0,  -999.0000,9,      188.6,0,     -999.0,9