BOTTLE,20140909LEGIRDAG
EXPOCODE,SECT_ID,STNNBR,CASTNO,SAMPNO,BTLNBR,BTLNBR_FLAG_W,DATE,TIME,LATITUDE,LONGITUDE,DEPTH,CTDPRS,CTDTMP,CTDSAL,CTDSAL_FLAG_W,SALNTY,SALNTY_FLAG_W,CTDOXY,CTDOXY_FLAG_W,OXYGEN,OXYGEN_FLAG_W
,,,,,,,,,,,,,DBARS,ITS-90,PSS-78,,PSS-78,,UMOL/KG,,UMOL/KG,
PANDORA,,049,01,, 1,,20140120,143022, -4.9393, 153.9525, 3501,   3451.5,   1.9410,    34.6910,0,    34.6910,2,      147.8,0,      154.5,2
PANDORA,,049,01,, 2,,20140120,143022, -4.9393, 153.9525, 3501,   3250.5,   1.9100,    34.6850,0,    34.6850,2,      143.2,0,      150.5,2
PANDORA,,049,01,, 3,,20140120,143022, -4.9393, 153.9525, 3501,   3000.8,   1.8780,    34.6740,0,    34.6730,2,      135.2,0,      140.8,2
PANDORA,,049,01,, 4,,20140120,143022, -4.9393, 153.9525, 3501,   2625.8,   1.9220,    34.6600,0,    34.6590,2,      126.4,0,      131.6,2
PANDORA,,049,01,, 5,,20140120,143022, -4.9393, 153.9525, 3501,   2299.8,   2.0990,    34.6500,0,    34.6500,2,      124.4,0,      128.0,2
PANDORA,,049,01,, 6,,20140120,143022, -4.9393, 153.9525, 3501,   2000.1,   2.2820,    34.6370,0,    34.6370,2,      121.5,0,      126.1,2
PANDORA,,049,01,, 7,,20140120,143022, -4.9393, 153.9525, 3501,   1800.4,   2.4750,    34.6250,0,    34.6250,2,      121.2,0,      123.7,2
PANDORA,,049,01,, 8,,20140120,143022, -4.9393, 153.9525, 3501,   1600.0,   2.8450,    34.6030,0,    34.6030,2,      120.2,0,      122.6,2
PANDORA,,049,01,, 9,,20140120,143022, -4.9393, 153.9525, 3501,   1400.7,   3.3110,    34.5740,0,    34.5740,2,      124.2,0,      126.2,2
PANDORA,,049,01,,10,,20140120,143022, -4.9393, 153.9525, 3501,   1200.6,   3.8190,    34.5430,0,    34.5430,2,      129.6,0,      132.4,2
PANDORA,,049,01,,11,,20140120,143022, -4.9393, 153.9525, 3501,   1000.9,   4.2290,    34.5200,0,    34.5190,2,      136.1,0,      138.3,2
PANDORA,,049,01,,12,,20140120,143022, -4.9393, 153.9525, 3501,    800.2,   5.1270,    34.4840,0,    34.4840,2,      148.4,0,      151.5,2
PANDORA,,049,01,,13,,20140120,143022, -4.9393, 153.9525, 3501,    600.4,   6.1440,    34.4810,0,    34.4810,2,      160.5,0,      162.7,2
PANDORA,,049,01,,14,,20140120,143022, -4.9393, 153.9525, 3501,    500.0,   6.7950,    34.5040,0,  -999.0000,9,      158.5,0,     -999.0,9
PANDORA,,049,01,,15,,20140120,143022, -4.9393, 153.9525, 3501,    401.0,   8.5090,    34.6080,0,    34.6080,2,      157.1,0,      157.0,3
PANDORA,,049,01,,16,,20140120,143022, -4.9393, 153.9525, 3501,    300.1,  11.4680,    34.8630,0,  -999.0000,9,      113.7,0,     -999.0,9
PANDORA,,049,01,,17,,20140120,143022, -4.9393, 153.9525, 3501,    200.5,  19.3840,    35.5620,0,    35.5610,2,      125.5,0,      129.1,2
PANDORA,,049,01,,18,,20140120,143022, -4.9393, 153.9525, 3501,    150.7,  23.6540,    35.6580,0,    35.6570,2,      136.1,0,      138.4,2
PANDORA,,049,01,,19,,20140120,143022, -4.9393, 153.9525, 3501,    100.3,  28.4970,    35.4830,0,    35.4800,2,      157.1,0,      160.2,2
PANDORA,,049,01,,20,,20140120,143022, -4.9393, 153.9525, 3501,     50.2,  29.3690,    34.7630,0,  -999.0000,9,      186.2,0,     -999.0,9
PANDORA,,049,01,,21,,20140120,143022, -4.9393, 153.9525, 3501,     50.2,  29.3710,    34.7640,0,  -999.0000,9,      186.5,0,     -999.0,9
PANDORA,,049,01,,22,,20140120,143022, -4.9393, 153.9525, 3501,      4.6,  29.4060,    34.5790,0,  -999.0000,9,      187.4,0,     -999.0,9
PANDORA,,050,01,, 1,,20140120,190550, -4.9398, 153.6012, 4375,   3500.6,   1.9490,    34.6930,0,    34.6930,2,      149.0,0,      155.3,2
PANDORA,,050,01,, 2,,20140120,190550, -4.9398, 153.6012, 4375,   3165.1,   1.9080,    34.6870,0,    34.6870,2,      144.6,0,      151.8,2
PANDORA,,050,01,, 3,,20140120,190550, -4.9398, 153.6012, 4375,   2935.1,   1.8590,    34.6700,0,    34.6700,2,      133.6,0,      138.5,2
PANDORA,,050,01,, 4,,20140120,190550, -4.9398, 153.6012, 4375,   2625.4,   1.9190,    34.6600,0,    34.6600,2,      126.6,0,      131.5,2
PANDORA,,050,01,, 5,,20140120,190550, -4.9398, 153.6012, 4375,   2386.3,   1.9750,    34.6540,0,    34.6530,2,      123.5,0,      127.1,2
PANDORA,,050,01,, 6,,20140120,190550, -4.9398, 153.6012, 4375,   2386.8,   1.9760,    34.6540,0,    34.6530,2,      123.6,0,      127.1,2
PANDORA,,050,01,, 7,,20140120,190550, -4.9398, 153.6012, 4375,   2114.5,   2.1910,    34.6430,0,    34.6420,2,      122.3,0,      125.9,2
PANDORA,,050,01,, 8,,20140120,190550, -4.9398, 153.6012, 4375,   1865.5,   2.4370,    34.6280,0,    34.6270,2,      120.9,0,      124.5,2
PANDORA,,050,01,, 9,,20140120,190550, -4.9398, 153.6012, 4375,   1664.7,   2.7380,    34.6090,0,    34.6090,2,      113.5,0,      115.7,2
PANDORA,,050,01,,10,,20140120,190550, -4.9398, 153.6012, 4375,   1467.4,   3.1160,    34.5860,0,    34.5860,2,      122.3,0,      124.8,2
PANDORA,,050,01,,11,,20140120,190550, -4.9398, 153.6012, 4375,   1265.8,   3.6430,    34.5530,0,    34.5530,2,      128.3,0,      131.0,2
PANDORA,,050,01,,12,,20140120,190550, -4.9398, 153.6012, 4375,   1065.6,   4.1400,    34.5250,0,    34.5240,2,      134.6,0,      138.0,2
PANDORA,,050,01,,13,,20140120,190550, -4.9398, 153.6012, 4375,    836.0,   4.9040,    34.4940,0,    34.4930,2,      144.2,0,      146.4,2
PANDORA,,050,01,,14,,20140120,190550, -4.9398, 153.6012, 4375,    636.5,   5.9980,    34.4740,0,    34.4740,2,      162.8,0,      165.7,2
PANDORA,,050,01,,15,,20140120,190550, -4.9398, 153.6012, 4375,    435.6,   7.7370,    34.5670,0,    34.5660,2,      148.1,0,      148.3,3
PANDORA,,050,01,,16,,20140120,190550, -4.9398, 153.6012, 4375,    235.4,  15.5510,    35.2220,0,    35.2210,2,      124.5,0,      126.2,2
PANDORA,,050,01,,17,,20140120,190550, -4.9398, 153.6012, 4375,    151.0,  22.4450,    35.6060,0,  -999.0000,9,      139.3,0,     -999.0,9
PANDORA,,050,01,,18,,20140120,190550, -4.9398, 153.6012, 4375,    100.3,  27.1270,    35.4700,0,    35.4680,2,      146.3,0,      149.4,2
PANDORA,,050,01,,19,,20140120,190550, -4.9398, 153.6012, 4375,    100.0,  27.2080,    35.4720,0,  -999.0000,9,      145.8,0,     -999.0,9
PANDORA,,050,01,,20,,20140120,190550, -4.9398, 153.6012, 4375,     48.5,  29.2570,    34.9570,0,  -999.0000,9,      182.6,0,     -999.0,9
PANDORA,,050,01,,21,,20140120,190550, -4.9398, 153.6012, 4375,      4.9,  29.4740,    34.7120,0,  -999.0000,9,      186.5,0,     -999.0,9
PANDORA,,050,01,,22,,20140120,190550, -4.9398, 153.6012, 4375,      4.9,  29.4750,    34.7120,0,    34.7100,2,      186.4,0,      191.8,2
PANDORA,,051,01,, 1,,20140120,234629, -4.9402, 153.2495, 3342,   3300.7,   1.9140,    34.6840,0,  -999.0000,9,      142.4,0,     -999.0,9
PANDORA,,051,01,, 2,,20140120,234629, -4.9402, 153.2495, 3342,   3240.1,   1.9050,    34.6810,0,    34.6800,2,      140.5,0,      146.5,2
PANDORA,,051,01,, 3,,20140120,234629, -4.9402, 153.2495, 3342,   3140.2,   1.8920,    34.6760,0,  -999.0000,9,      137.2,0,     -999.0,9
PANDORA,,051,01,, 4,,20140120,234629, -4.9402, 153.2495, 3342,   3040.8,   1.8870,    34.6760,0,    34.6750,2,      137.0,0,      143.6,2
PANDORA,,051,01,, 5,,20140120,234629, -4.9402, 153.2495, 3342,   2876.2,   1.8720,    34.6680,0,  -999.0000,9,      131.5,0,     -999.0,9
PANDORA,,051,01,, 6,,20140120,234629, -4.9402, 153.2495, 3342,   2500.1,   1.9670,    34.6550,0,    34.6550,2,      124.3,0,      129.0,2
PANDORA,,051,01,, 7,,20140120,234629, -4.9402, 153.2495, 3342,   2205.1,   2.1880,    34.6460,0,  -999.0000,9,      124.6,0,     -999.0,9
PANDORA,,051,01,, 8,,20140120,234629, -4.9402, 153.2495, 3342,   2205.3,   2.1880,    34.6460,0,    34.6450,2,      124.8,0,      128.4,2
PANDORA,,051,01,, 9,,20140120,234629, -4.9402, 153.2495, 3342,   1934.9,   2.3560,    34.6330,0,  -999.0000,9,      122.2,0,     -999.0,9
PANDORA,,051,01,,10,,20140120,234629, -4.9402, 153.2495, 3342,   1734.7,   2.6110,    34.6170,0,    34.6170,2,      120.0,0,      123.2,2
PANDORA,,051,01,,11,,20140120,234629, -4.9402, 153.2495, 3342,   1535.5,   2.9320,    34.5990,0,  -999.0000,9,      110.7,0,     -999.0,9
PANDORA,,051,01,,12,,20140120,234629, -4.9402, 153.2495, 3342,   1334.8,   3.4230,    34.5670,0,    34.5670,2,      125.1,0,      127.8,2
PANDORA,,051,01,,13,,20140120,234629, -4.9402, 153.2495, 3342,   1136.1,   4.0470,    34.5300,0,  -999.0000,9,      133.2,0,     -999.0,9
PANDORA,,051,01,,14,,20140120,234629, -4.9402, 153.2495, 3342,    935.4,   4.6400,    34.5050,0,    34.5050,2,      139.4,0,      141.6,2
PANDORA,,051,01,,15,,20140120,234629, -4.9402, 153.2495, 3342,    735.5,   5.4590,    34.4830,0,  -999.0000,9,      151.7,0,     -999.0,9
PANDORA,,051,01,,16,,20140120,234629, -4.9402, 153.2495, 3342,    564.9,   6.7490,    34.5060,0,    34.5060,2,      158.3,0,      161.9,2
PANDORA,,051,01,,17,,20140120,234629, -4.9402, 153.2495, 3342,    464.7,   7.2580,    34.5150,0,  -999.0000,9,      174.1,0,     -999.0,9
PANDORA,,051,01,,18,,20140120,234629, -4.9402, 153.2495, 3342,    365.6,   9.0940,    34.6550,0,  -999.0000,9,      163.0,0,     -999.0,9
PANDORA,,051,01,,19,,20140120,234629, -4.9402, 153.2495, 3342,    176.2,  21.2660,    35.6130,0,    35.6110,2,      140.8,0,      167.2,3
PANDORA,,051,01,,20,,20140120,234629, -4.9402, 153.2495, 3342,    146.2,  24.4720,    35.4970,0,  -999.0000,9,      143.8,0,     -999.0,9
PANDORA,,051,01,,21,,20140120,234629, -4.9402, 153.2495, 3342,     85.0,  28.6820,    35.3440,0,  -999.0000,9,      162.4,0,     -999.0,9
PANDORA,,051,01,,22,,20140120,234629, -4.9402, 153.2495, 3342,      5.5,  29.3970,    34.7370,0,    34.7340,2,      186.6,0,      191.3,2
PANDORA,,052,01,, 1,,20140120,032758, -4.9247, 153.0615, 1844,   1751.3,   2.4960,    34.6240,0,    34.6240,2,      122.1,0,      126.0,2
PANDORA,,052,01,, 2,,20140120,032758, -4.9247, 153.0615, 1844,   1752.0,   2.4960,    34.6240,0,    34.6240,2,      121.8,0,      125.7,2
PANDORA,,052,01,, 3,,20140120,032758, -4.9247, 153.0615, 1844,   1600.9,   2.7560,    34.6080,0,  -999.0000,9,      119.7,0,     -999.0,9
PANDORA,,052,01,, 4,,20140120,032758, -4.9247, 153.0615, 1844,   1400.9,   3.1580,    34.5830,0,    34.5830,2,      122.5,0,      125.2,2
PANDORA,,052,01,, 5,,20140120,032758, -4.9247, 153.0615, 1844,   1199.8,   3.6720,    34.5510,0,  -999.0000,9,      128.5,0,     -999.0,9
PANDORA,,052,01,, 6,,20140120,032758, -4.9247, 153.0615, 1844,    999.6,   4.3140,    34.5140,0,    34.5140,2,      138.1,0,      140.7,2
PANDORA,,052,01,, 7,,20140120,032758, -4.9247, 153.0615, 1844,   1000.1,   4.3180,    34.5140,0,  -999.0000,9,      138.5,0,     -999.0,9
PANDORA,,052,01,, 8,,20140120,032758, -4.9247, 153.0615, 1844,    899.9,   4.6110,    34.5010,0,    34.5010,2,      142.6,0,      144.5,2
PANDORA,,052,01,, 9,,20140120,032758, -4.9247, 153.0615, 1844,    800.6,   5.2050,    34.4800,0,  -999.0000,9,      152.3,0,     -999.0,9
PANDORA,,052,01,,10,,20140120,032758, -4.9247, 153.0615, 1844,    699.7,   6.0110,    34.4830,0,    34.4830,2,      157.5,0,      160.0,2
PANDORA,,052,01,,11,,20140120,032758, -4.9247, 153.0615, 1844,    600.7,   6.6240,    34.4830,0,  -999.0000,9,      173.9,0,     -999.0,9
PANDORA,,052,01,,12,,20140120,032758, -4.9247, 153.0615, 1844,    500.2,   7.5850,    34.5500,0,    34.5500,2,      158.7,0,      160.8,2
PANDORA,,052,01,,13,,20140120,032758, -4.9247, 153.0615, 1844,    400.6,  10.1320,    34.7410,0,  -999.0000,9,      169.6,0,     -999.0,9
PANDORA,,052,01,,14,,20140120,032758, -4.9247, 153.0615, 1844,    301.0,  13.5540,    35.0500,0,    35.0490,2,      153.5,0,      156.7,2
PANDORA,,052,01,,15,,20140120,032758, -4.9247, 153.0615, 1844,    250.9,  17.4140,    35.4050,0,  -999.0000,9,      145.1,0,     -999.0,9
PANDORA,,052,01,,16,,20140120,032758, -4.9247, 153.0615, 1844,    200.3,  20.0870,    35.5980,0,    35.5960,2,      141.5,0,      144.0,2
PANDORA,,052,01,,17,,20140120,032758, -4.9247, 153.0615, 1844,    151.3,  23.3350,    35.5410,0,  -999.0000,9,      141.7,0,     -999.0,9
PANDORA,,052,01,,18,,20140120,032758, -4.9247, 153.0615, 1844,    100.4,  26.6250,    35.5340,0,    35.5310,2,      144.2,0,      148.3,2
PANDORA,,052,01,,19,,20140120,032758, -4.9247, 153.0615, 1844,     75.1,  28.6210,    35.3820,0,  -999.0000,9,      164.1,0,     -999.0,9
PANDORA,,052,01,,20,,20140120,032758, -4.9247, 153.0615, 1844,     50.1,  29.4510,    34.9780,0,  -999.0000,9,      186.4,0,     -999.0,9
PANDORA,,052,01,,21,,20140120,032758, -4.9247, 153.0615, 1844,     25.5,  29.4760,    34.7680,0,  -999.0000,9,      186.7,0,     -999.0,9
PANDORA,,052,01,,22,,20140120,032758, -4.9247, 153.0615, 1844,      4.8,  29.5900,    34.7270,0,    34.7250,2,      186.2,0,      189.9,2
PANDORA,,053,01,, 1,,20140120,060621, -4.9052, 152.8702,  733,    719.2,   5.4840,    34.4800,0,  -999.0000,9,      154.1,0,     -999.0,9
PANDORA,,053,01,, 2,,20140120,060621, -4.9052, 152.8702,  733,    719.5,   5.4880,    34.4800,0,  -999.0000,9,      154.3,0,     -999.0,9
PANDORA,,053,01,, 3,,20140120,060621, -4.9052, 152.8702,  733,    719.1,   5.4890,    34.4800,0,  -999.0000,9,      154.1,0,     -999.0,9
PANDORA,,053,01,, 4,,20140120,060621, -4.9052, 152.8702,  733,    719.1,   5.4890,    34.4800,0,  -999.0000,9,      154.2,0,     -999.0,9
PANDORA,,053,01,, 5,,20140120,060621, -4.9052, 152.8702,  733,    718.8,   5.4900,    34.4800,0,  -999.0000,9,      154.2,0,     -999.0,9
PANDORA,,053,01,, 6,,20140120,060621, -4.9052, 152.8702,  733,    719.3,   5.4890,    34.4800,0,    34.4800,2,      154.1,0,      156.5,2
PANDORA,,053,01,, 7,,20140120,060621, -4.9052, 152.8702,  733,    636.1,   6.8340,    34.5040,0,  -999.0000,9,      165.9,0,     -999.0,9
PANDORA,,053,01,, 8,,20140120,060621, -4.9052, 152.8702,  733,    535.4,   7.9460,    34.5670,0,    34.5660,2,      164.5,0,      167.9,3
PANDORA,,053,01,, 9,,20140120,060621, -4.9052, 152.8702,  733,    434.8,  10.0510,    34.7330,0,    34.7320,2,      166.1,0,      168.1,2
PANDORA,,053,01,,10,,20140120,060621, -4.9052, 152.8702,  733,    335.3,  12.6940,    34.9760,0,  -999.0000,9,      158.5,0,     -999.0,9
PANDORA,,053,01,,11,,20140120,060621, -4.9052, 152.8702,  733,    264.3,  16.8430,    35.3540,0,    35.3530,2,      148.6,0,      151.6,2
PANDORA,,053,01,,12,,20140120,060621, -4.9052, 152.8702,  733,    214.6,  18.4930,    35.4880,0,    35.4860,2,      144.4,0,      147.5,2
PANDORA,,053,01,,13,,20140120,060621, -4.9052, 152.8702,  733,    149.0,  22.5590,    35.6080,0,  -999.0000,9,      135.9,0,     -999.0,9
PANDORA,,053,01,,14,,20140120,060621, -4.9052, 152.8702,  733,    149.1,  22.5570,    35.6090,0,  -999.0000,9,      135.5,0,     -999.0,9
PANDORA,,053,01,,15,,20140120,060621, -4.9052, 152.8702,  733,    100.3,  24.9280,    35.4770,0,    35.4740,2,      143.0,0,      146.1,2
PANDORA,,053,01,,16,,20140120,060621, -4.9052, 152.8702,  733,    100.3,  24.9240,    35.4770,0,  -999.0000,9,      143.3,0,     -999.0,9
PANDORA,,053,01,,17,,20140120,060621, -4.9052, 152.8702,  733,     74.3,  28.4500,    35.2590,0,    35.2570,2,      164.5,0,      165.1,3
PANDORA,,053,01,,18,,20140120,060621, -4.9052, 152.8702,  733,     49.6,  28.8250,    35.1140,0,    35.1110,2,      175.4,0,      179.3,3
PANDORA,,053,01,,19,,20140120,060621, -4.9052, 152.8702,  733,     49.3,  28.8150,    35.1150,0,  -999.0000,9,      175.2,0,     -999.0,9
PANDORA,,053,01,,20,,20140120,060621, -4.9052, 152.8702,  733,     24.9,  28.9330,    34.9060,0,  -999.0000,9,      183.0,0,     -999.0,9
PANDORA,,053,01,,21,,20140120,060621, -4.9052, 152.8702,  733,      5.8,  29.3810,    34.6880,0,    34.6850,2,      186.9,0,      191.7,2
PANDORA,,053,01,,22,,20140120,060621, -4.9052, 152.8702,  733,      5.5,  29.3880,    34.6840,0,  -999.0000,9,      186.5,0,     -999.0,9
PANDORA,,054,01,, 1,,20140120,084646, -4.9395, 152.6092, 3100,   3169.4,   1.9270,    34.6890,0,    34.6890,2,      145.8,0,      152.3,2
PANDORA,,054,01,, 2,,20140120,084646, -4.9395, 152.6092, 3100,   2876.2,   1.9160,    34.6840,0,    34.6840,2,      143.0,0,      150.2,2
PANDORA,,054,01,, 3,,20140120,084646, -4.9395, 152.6092, 3100,   2501.5,   1.9490,    34.6700,0,    34.6690,2,      135.0,0,      139.3,2
PANDORA,,054,01,, 4,,20140120,084646, -4.9395, 152.6092, 3100,   2205.0,   2.0830,    34.6570,0,    34.6570,2,      129.8,0,      134.8,2
PANDORA,,054,01,, 5,,20140120,084646, -4.9395, 152.6092, 3100,   1935.0,   2.3500,    34.6360,0,    34.6350,2,      123.9,0,      127.7,2
PANDORA,,054,01,, 6,,20140120,084646, -4.9395, 152.6092, 3100,   1734.9,   2.5960,    34.6190,0,    34.6190,2,      121.3,0,      125.3,2
PANDORA,,054,01,, 7,,20140120,084646, -4.9395, 152.6092, 3100,   1535.2,   2.9010,    34.5990,0,    34.5980,2,      121.8,0,      124.6,2
PANDORA,,054,01,, 8,,20140120,084646, -4.9395, 152.6092, 3100,   1335.4,   3.5040,    34.5620,0,    34.5620,2,      126.3,0,      128.9,2
PANDORA,,054,01,, 9,,20140120,084646, -4.9395, 152.6092, 3100,   1336.0,   3.5040,    34.5620,0,    34.5620,2,      126.3,0,      129.2,2
PANDORA,,054,01,,10,,20140120,084646, -4.9395, 152.6092, 3100,   1135.7,   4.0070,    34.5310,0,    34.5310,2,      133.2,0,      135.7,2
PANDORA,,054,01,,11,,20140120,084646, -4.9395, 152.6092, 3100,    899.8,   4.6320,    34.5000,0,  -999.0000,9,      143.0,0,     -999.0,9
PANDORA,,054,01,,12,,20140120,084646, -4.9395, 152.6092, 3100,    767.6,   5.2730,    34.4820,0,    34.4810,2,      152.1,0,      154.8,2
PANDORA,,054,01,,13,,20140120,084646, -4.9395, 152.6092, 3100,    667.0,   5.9750,    34.4850,0,  -999.0000,9,      157.5,0,     -999.0,9
PANDORA,,054,01,,14,,20140120,084646, -4.9395, 152.6092, 3100,    565.5,   7.6880,    34.5490,0,    34.5480,2,      169.7,0,      172.3,2
PANDORA,,054,01,,15,,20140120,084646, -4.9395, 152.6092, 3100,    465.2,   9.0910,    34.6480,0,  -999.0000,9,      171.4,0,     -999.0,9
PANDORA,,054,01,,16,,20140120,084646, -4.9395, 152.6092, 3100,    365.6,  10.6370,    34.7890,0,    34.7880,2,      162.1,0,      164.7,2
PANDORA,,054,01,,17,,20140120,084646, -4.9395, 152.6092, 3100,    267.3,  15.1790,    35.2010,0,    35.2000,2,      149.2,0,      151.1,2
PANDORA,,054,01,,18,,20140120,084646, -4.9395, 152.6092, 3100,    176.1,  22.1340,    35.6190,0,    35.6170,2,      134.8,0,      138.9,2
PANDORA,,054,01,,19,,20140120,084646, -4.9395, 152.6092, 3100,    145.6,  23.9350,    35.5760,0,  -999.0000,9,      136.5,0,     -999.0,9
PANDORA,,054,01,,20,,20140120,084646, -4.9395, 152.6092, 3100,     85.6,  26.5860,    35.5210,0,    35.5180,2,      143.0,0,      146.6,2
PANDORA,,054,01,,21,,20140120,084646, -4.9395, 152.6092, 3100,     35.0,  29.0020,    35.2290,0,    35.2260,2,      177.1,0,      181.1,2
PANDORA,,054,01,,22,,20140120,084646, -4.9395, 152.6092, 3100,      9.9,  29.2230,    34.7400,0,    34.7370,2,      186.8,0,      195.1,2