BOTTLE,20140909LEGIRDAG
EXPOCODE,SECT_ID,STNNBR,CASTNO,SAMPNO,BTLNBR,BTLNBR_FLAG_W,DATE,TIME,LATITUDE,LONGITUDE,DEPTH,CTDPRS,CTDTMP,CTDSAL,CTDSAL_FLAG_W,SALNTY,SALNTY_FLAG_W,CTDOXY,CTDOXY_FLAG_W,OXYGEN,OXYGEN_FLAG_W
,,,,,,,,,,,,,DBARS,ITS-90,PSS-78,,PSS-78,,UMOL/KG,,UMOL/KG,
PANDORA,,000,01,, 1,,20140120,051803,-20.6993, 165.5560, 1967,    999.4,   4.4440,    34.4490,0,  -999.0000,9,      129.9,0,     -999.0,9
PANDORA,,000,01,, 2,,20140120,051803,-20.6993, 165.5560, 1967,    999.7,   4.4420,    34.4490,0,  -999.0000,9,      129.5,0,     -999.0,9
PANDORA,,000,01,, 3,,20140120,051803,-20.6993, 165.5560, 1967,    999.3,   4.4440,    34.4490,0,  -999.0000,9,      129.5,0,     -999.0,9
PANDORA,,000,01,, 4,,20140120,051803,-20.6993, 165.5560, 1967,   1000.0,   4.4410,    34.4490,0,  -999.0000,9,      129.5,0,     -999.0,9
PANDORA,,000,01,, 5,,20140120,051803,-20.6993, 165.5560, 1967,    999.6,   4.4470,    34.4500,0,  -999.0000,9,      129.5,0,     -999.0,9
PANDORA,,000,01,, 6,,20140120,051803,-20.6993, 165.5560, 1967,    999.5,   4.4430,    34.4490,0,  -999.0000,9,      129.5,0,     -999.0,9
PANDORA,,000,01,, 7,,20140120,051803,-20.6993, 165.5560, 1967,    999.4,   4.4400,    34.4500,0,  -999.0000,9,      129.5,0,     -999.0,9
PANDORA,,000,01,, 8,,20140120,051803,-20.6993, 165.5560, 1967,    999.8,   4.4360,    34.4500,0,  -999.0000,9,      129.5,0,     -999.0,9
PANDORA,,000,01,, 9,,20140120,051803,-20.6993, 165.5560, 1967,    999.6,   4.4330,    34.4500,0,  -999.0000,9,      129.4,0,     -999.0,9
PANDORA,,000,01,,10,,20140120,051803,-20.6993, 165.5560, 1967,   1000.0,   4.4310,    34.4500,0,  -999.0000,9,      129.4,0,     -999.0,9
PANDORA,,000,01,,11,,20140120,051803,-20.6993, 165.5560, 1967,   1000.1,   4.4230,    34.4520,0,  -999.0000,9,      129.4,0,     -999.0,9
PANDORA,,000,01,,12,,20140120,051803,-20.6993, 165.5560, 1967,    999.4,   4.4290,    34.4500,0,  -999.0000,9,      129.4,0,     -999.0,9
PANDORA,,000,01,,13,,20140120,051803,-20.6993, 165.5560, 1967,    999.6,   4.4290,    34.4500,0,  -999.0000,9,      129.0,0,     -999.0,9
PANDORA,,000,01,,14,,20140120,051803,-20.6993, 165.5560, 1967,    999.6,   4.4290,    34.4500,0,  -999.0000,9,      129.0,0,     -999.0,9
PANDORA,,000,01,,15,,20140120,051803,-20.6993, 165.5560, 1967,   1000.0,   4.4170,    34.4520,0,  -999.0000,9,      129.1,0,     -999.0,9
PANDORA,,000,01,,16,,20140120,051803,-20.6993, 165.5560, 1967,    999.5,   4.4240,    34.4500,0,  -999.0000,9,      129.2,0,     -999.0,9
PANDORA,,000,01,,17,,20140120,051803,-20.6993, 165.5560, 1967,    999.9,   4.4210,    34.4510,0,  -999.0000,9,      129.2,0,     -999.0,9
PANDORA,,000,01,,18,,20140120,051803,-20.6993, 165.5560, 1967,    999.7,   4.4180,    34.4510,0,  -999.0000,9,      128.9,0,     -999.0,9
PANDORA,,000,01,,19,,20140120,051803,-20.6993, 165.5560, 1967,   1000.0,   4.4120,    34.4520,0,  -999.0000,9,      129.1,0,     -999.0,9
PANDORA,,000,01,,20,,20140120,051803,-20.6993, 165.5560, 1967,   1000.0,   4.4130,    34.4520,0,  -999.0000,9,      129.1,0,     -999.0,9
PANDORA,,000,01,,21,,20140120,051803,-20.6993, 165.5560, 1967,    999.6,   4.4120,    34.4520,0,  -999.0000,9,      129.1,0,     -999.0,9
PANDORA,,000,01,,22,,20140120,051803,-20.6993, 165.5560, 1967,    999.8,   4.4040,    34.4530,0,  -999.0000,9,      128.7,0,     -999.0,9
PANDORA,,001,01,, 1,,20140120,134459,-17.9200, 162.9992, 1661,   1605.4,   2.9680,    34.5780,0,    34.5770,2,      147.1,0,      151.5,2
PANDORA,,001,01,, 2,,20140120,134459,-17.9200, 162.9992, 1661,   1605.2,   2.9690,    34.5780,0,    34.5770,2,      147.0,0,      150.0,2
PANDORA,,001,01,, 3,,20140120,134459,-17.9200, 162.9992, 1661,   1503.9,   3.1120,    34.5610,0,    34.5610,2,      149.6,0,      152.3,2
PANDORA,,001,01,, 4,,20140120,134459,-17.9200, 162.9992, 1661,   1404.1,   3.3700,    34.5360,0,    34.5350,2,      154.1,0,      155.4,2
PANDORA,,001,01,, 5,,20140120,134459,-17.9200, 162.9992, 1661,   1303.9,   3.6430,    34.5100,0,    34.5100,2,      156.8,0,      159.0,2
PANDORA,,001,01,, 6,,20140120,134459,-17.9200, 162.9992, 1661,   1152.8,   3.9440,    34.4860,0,    34.4860,2,      161.0,0,      163.5,2
PANDORA,,001,01,, 7,,20140120,134459,-17.9200, 162.9992, 1661,   1002.3,   4.6180,    34.4420,0,    34.4410,2,      169.7,0,      171.9,2
PANDORA,,001,01,, 8,,20140120,134459,-17.9200, 162.9992, 1661,    900.6,   5.0080,    34.4260,0,    34.4250,2,      174.4,0,      176.1,2
PANDORA,,001,01,, 9,,20140120,134459,-17.9200, 162.9992, 1661,    802.1,   5.7370,    34.4120,0,    34.4120,2,      183.0,0,      184.4,2
PANDORA,,001,01,,10,,20140120,134459,-17.9200, 162.9992, 1661,    701.4,   6.4130,    34.4250,0,    34.4250,2,      188.3,0,      189.3,2
PANDORA,,001,01,,11,,20140120,134459,-17.9200, 162.9992, 1661,    600.2,   7.3510,    34.4680,0,    34.4680,2,      191.3,0,      188.3,3
PANDORA,,001,01,,12,,20140120,134459,-17.9200, 162.9992, 1661,    502.1,   9.9450,    34.7080,0,    34.7070,2,      186.2,0,      187.9,2
PANDORA,,001,01,,13,,20140120,134459,-17.9200, 162.9992, 1661,    401.3,  12.0860,    34.9190,0,    34.9180,2,      180.3,0,      184.8,2
PANDORA,,001,01,,14,,20140120,134459,-17.9200, 162.9992, 1661,    300.9,  16.7000,    35.3980,0,    35.3970,2,      176.0,0,      178.7,2
PANDORA,,001,01,,15,,20140120,134459,-17.9200, 162.9992, 1661,    250.6,  18.0860,    35.4740,0,    35.4720,2,      171.7,0,      176.1,2
PANDORA,,001,01,,16,,20140120,134459,-17.9200, 162.9992, 1661,    200.6,  19.7220,    35.5710,0,    35.5690,2,      168.8,0,      171.3,2
PANDORA,,001,01,,17,,20140120,134459,-17.9200, 162.9992, 1661,    150.7,  20.9200,    35.6170,0,    35.6150,2,      164.6,0,      166.8,2
PANDORA,,001,01,,18,,20140120,134459,-17.9200, 162.9992, 1661,    101.3,  22.7210,    35.5530,0,    35.5510,2,      171.5,0,      174.7,2
PANDORA,,001,01,,19,,20140120,134459,-17.9200, 162.9992, 1661,     75.8,  24.0880,    35.3640,0,    35.3620,2,      188.9,0,      187.2,3
PANDORA,,001,01,,20,,20140120,134459,-17.9200, 162.9992, 1661,     51.9,  24.7470,    35.1920,0,    35.1890,2,      198.8,0,      204.6,2
PANDORA,,001,01,,21,,20140120,134459,-17.9200, 162.9992, 1661,     26.9,  25.4000,    34.9870,0,    34.9850,2,      197.3,0,      201.6,2
PANDORA,,001,01,,22,,20140120,134459,-17.9200, 162.9992, 1661,      6.9,  25.4050,    34.9650,0,    34.9630,2,      198.2,0,      201.3,2
PANDORA,,002,01,, 1,,20140120,170806,-17.6657, 163.0002, 3566,   2001.9,   2.3570,    34.6420,0,    34.6420,2,      140.5,0,      144.2,2
PANDORA,,002,01,, 2,,20140120,170806,-17.6657, 163.0002, 3566,   1900.8,   2.4640,    34.6320,0,    34.6320,2,      139.0,0,      142.6,2
PANDORA,,002,01,, 3,,20140120,170806,-17.6657, 163.0002, 3566,   1901.1,   2.4640,    34.6320,0,    34.6320,2,      139.7,0,      143.1,2
PANDORA,,002,01,, 4,,20140120,170806,-17.6657, 163.0002, 3566,   1666.0,   2.7670,    34.6030,0,    34.6030,2,      137.5,0,      141.2,2
PANDORA,,002,01,, 5,,20140120,170806,-17.6657, 163.0002, 3566,   1465.4,   3.0610,    34.5670,0,    34.5670,2,      147.9,0,      150.5,2
PANDORA,,002,01,, 6,,20140120,170806,-17.6657, 163.0002, 3566,   1264.4,   3.4280,    34.5280,0,    34.5280,2,      154.7,0,      158.2,2
PANDORA,,002,01,, 7,,20140120,170806,-17.6657, 163.0002, 3566,   1066.6,   3.9070,    34.4830,0,    34.4820,2,      162.3,0,      168.3,3
PANDORA,,002,01,, 8,,20140120,170806,-17.6657, 163.0002, 3566,    933.9,   4.4740,    34.4410,0,    34.4400,2,      170.1,0,      171.7,2
PANDORA,,002,01,, 9,,20140120,170806,-17.6657, 163.0002, 3566,    832.6,   5.2170,    34.4140,0,    34.4140,2,      176.3,0,      178.4,2
PANDORA,,002,01,,10,,20140120,170806,-17.6657, 163.0002, 3566,    736.1,   5.8120,    34.4140,0,    34.4140,2,      181.4,0,      183.2,2
PANDORA,,002,01,,11,,20140120,170806,-17.6657, 163.0002, 3566,    637.3,   7.0710,    34.4450,0,    34.4440,2,      194.9,0,      197.4,2
PANDORA,,002,01,,12,,20140120,170806,-17.6657, 163.0002, 3566,    535.1,   9.0670,    34.6110,0,    34.6110,2,      189.9,0,      193.2,2
PANDORA,,002,01,,13,,20140120,170806,-17.6657, 163.0002, 3566,    437.6,  11.4370,    34.8620,0,    34.8620,2,      182.1,0,      185.1,2
PANDORA,,002,01,,14,,20140120,170806,-17.6657, 163.0002, 3566,    334.5,  15.2410,    35.2600,0,    35.2580,2,      176.0,0,      177.8,2
PANDORA,,002,01,,15,,20140120,170806,-17.6657, 163.0002, 3566,    266.5,  18.2540,    35.5000,0,    35.4980,2,      169.7,0,      172.0,2
PANDORA,,002,01,,16,,20140120,170806,-17.6657, 163.0002, 3566,    219.0,  20.4060,    35.6110,0,    35.6090,2,      164.6,0,      166.6,2
PANDORA,,002,01,,17,,20140120,170806,-17.6657, 163.0002, 3566,    150.3,  22.1100,    35.6100,0,    35.6080,2,      165.2,0,      167.0,2
PANDORA,,002,01,,18,,20140120,170806,-17.6657, 163.0002, 3566,    100.8,  23.5130,    35.4530,0,    35.4510,2,      180.0,0,      182.8,2
PANDORA,,002,01,,19,,20140120,170806,-17.6657, 163.0002, 3566,     75.0,  24.0680,    35.3370,0,    35.3350,2,      189.5,0,      191.7,2
PANDORA,,002,01,,20,,20140120,170806,-17.6657, 163.0002, 3566,     49.5,  24.4760,    35.2330,0,    35.2310,2,      198.8,0,      201.4,2
PANDORA,,002,01,,21,,20140120,170806,-17.6657, 163.0002, 3566,     24.9,  25.1330,    35.0310,0,    35.0290,2,      198.5,0,      201.3,2
PANDORA,,002,01,,22,,20140120,170806,-17.6657, 163.0002, 3566,      4.7,  25.1950,    35.0220,0,    35.0190,2,      198.6,0,      201.3,2
PANDORA,,003,01,, 1,,20140120,212507,-17.3327, 162.9977, 4032,   4043.6,   1.8330,    34.6880,0,    34.6870,2,      149.6,0,      153.4,2
PANDORA,,003,01,, 2,,20140120,212507,-17.3327, 162.9977, 4032,   3749.8,   1.8220,    34.6880,0,    34.6870,2,      148.9,0,      154.3,2
PANDORA,,003,01,, 3,,20140120,212507,-17.3327, 162.9977, 4032,   3165.0,   1.8680,    34.6850,0,    34.6850,2,      149.5,0,      153.8,2
PANDORA,,003,01,, 4,,20140120,212507,-17.3327, 162.9977, 4032,   3166.8,   1.8680,    34.6850,0,  -999.0000,9,      149.5,0,     -999.0,9
PANDORA,,003,01,, 5,,20140120,212507,-17.3327, 162.9977, 4032,   2686.0,   1.9830,    34.6710,0,    34.6710,2,      144.5,0,      148.8,2
PANDORA,,003,01,, 6,,20140120,212507,-17.3327, 162.9977, 4032,   2385.0,   2.1210,    34.6590,0,    34.6590,2,      142.6,0,      145.8,2
PANDORA,,003,01,, 7,,20140120,212507,-17.3327, 162.9977, 4032,   2085.5,   2.3000,    34.6430,0,  -999.0000,9,      141.3,0,     -999.0,9
PANDORA,,003,01,, 8,,20140120,212507,-17.3327, 162.9977, 4032,   1865.1,   2.4910,    34.6260,0,    34.6260,2,      140.8,0,      144.6,2
PANDORA,,003,01,, 9,,20140120,212507,-17.3327, 162.9977, 4032,   1665.4,   2.7420,    34.6020,0,    34.6020,2,      141.1,0,      143.7,2
PANDORA,,003,01,,10,,20140120,212507,-17.3327, 162.9977, 4032,   1463.8,   3.0420,    34.5740,0,    34.5730,2,      144.8,0,      145.9,2
PANDORA,,003,01,,11,,20140120,212507,-17.3327, 162.9977, 4032,   1265.2,   3.3680,    34.5340,0,    34.5340,2,      152.4,0,      154.2,2
PANDORA,,003,01,,12,,20140120,212507,-17.3327, 162.9977, 4032,   1065.5,   3.8750,    34.4840,0,    34.4830,2,      161.3,0,      162.4,2
PANDORA,,003,01,,13,,20140120,212507,-17.3327, 162.9977, 4032,   1064.9,   3.8860,    34.4830,0,    34.4830,2,      161.4,0,      162.9,2
PANDORA,,003,01,,14,,20140120,212507,-17.3327, 162.9977, 4032,    665.6,   6.5560,    34.4330,0,  -999.0000,9,      185.7,0,     -999.0,9
PANDORA,,003,01,,15,,20140120,212507,-17.3327, 162.9977, 4032,    536.3,   9.0730,    34.6180,0,    34.6180,2,      182.7,0,      184.6,2
PANDORA,,003,01,,16,,20140120,212507,-17.3327, 162.9977, 4032,    435.5,  12.8720,    34.9830,0,  -999.0000,9,      169.2,0,     -999.0,9
PANDORA,,003,01,,17,,20140120,212507,-17.3327, 162.9977, 4032,    335.2,  15.6410,    35.2730,0,    35.2720,2,      171.4,0,      172.9,2
PANDORA,,003,01,,18,,20140120,212507,-17.3327, 162.9977, 4032,    235.1,  19.1440,    35.5580,0,  -999.0000,9,      160.3,0,     -999.0,9
PANDORA,,003,01,,19,,20140120,212507,-17.3327, 162.9977, 4032,    151.4,  21.9720,    35.6910,0,    35.6890,2,      148.5,0,      148.8,2
PANDORA,,003,01,,20,,20140120,212507,-17.3327, 162.9977, 4032,     99.8,  23.9570,    35.5100,0,    35.5080,2,      170.0,0,      169.7,2
PANDORA,,003,01,,21,,20140120,212507,-17.3327, 162.9977, 4032,     50.1,  26.1890,    34.9570,0,    34.9550,2,      194.8,0,      196.1,2
PANDORA,,003,01,,22,,20140120,212507,-17.3327, 162.9977, 4032,      3.4,  26.2140,    34.8100,0,    34.8070,2,      195.7,0,      197.6,2
PANDORA,,004,01,, 1,,20140120,024341,-17.0017, 162.9995, 4679,    731.1,   5.8010,    34.4130,0,  -999.0000,9,      180.9,0,     -999.0,9
PANDORA,,004,01,, 2,,20140120,024341,-17.0017, 162.9995, 4679,    731.3,   5.8220,    34.4140,0,  -999.0000,9,      181.4,0,     -999.0,9
PANDORA,,004,01,, 3,,20140120,024341,-17.0017, 162.9995, 4679,    621.1,   6.9460,    34.4390,0,  -999.0000,9,      191.5,0,     -999.0,9
PANDORA,,004,01,, 4,,20140120,024341,-17.0017, 162.9995, 4679,    620.8,   6.9620,    34.4430,0,  -999.0000,9,      191.6,0,     -999.0,9
PANDORA,,004,01,, 5,,20140120,024341,-17.0017, 162.9995, 4679,    351.1,  14.3870,    35.1310,0,  -999.0000,9,      163.3,0,     -999.0,9
PANDORA,,004,01,, 6,,20140120,024341,-17.0017, 162.9995, 4679,    351.4,  14.3890,    35.1320,0,  -999.0000,9,      163.1,0,     -999.0,9
PANDORA,,004,01,, 7,,20140120,024341,-17.0017, 162.9995, 4679,    250.3,  18.5740,    35.5060,0,  -999.0000,9,      162.2,0,     -999.0,9
PANDORA,,004,01,, 8,,20140120,024341,-17.0017, 162.9995, 4679,    250.4,  18.8690,    35.5400,0,  -999.0000,9,      161.8,0,     -999.0,9
PANDORA,,004,01,, 9,,20140120,024341,-17.0017, 162.9995, 4679,    166.2,  21.9440,    35.6420,0,  -999.0000,9,      160.8,0,     -999.0,9
PANDORA,,004,01,,10,,20140120,024341,-17.0017, 162.9995, 4679,    166.2,  21.9920,    35.6470,0,  -999.0000,9,      160.1,0,     -999.0,9
PANDORA,,004,01,,11,,20140120,024341,-17.0017, 162.9995, 4679,    165.9,  22.0350,    35.6490,0,  -999.0000,9,      158.3,0,     -999.0,9
PANDORA,,004,01,,12,,20140120,024341,-17.0017, 162.9995, 4679,     99.7,  24.0860,    35.5220,0,  -999.0000,9,      176.8,0,     -999.0,9
PANDORA,,004,01,,13,,20140120,024341,-17.0017, 162.9995, 4679,    100.1,  24.1570,    35.5170,0,  -999.0000,9,      177.0,0,     -999.0,9
PANDORA,,004,01,,14,,20140120,024341,-17.0017, 162.9995, 4679,     99.9,  24.1590,    35.5190,0,  -999.0000,9,      177.1,0,     -999.0,9
PANDORA,,004,01,,15,,20140120,024341,-17.0017, 162.9995, 4679,     52.5,  25.7230,    34.9800,0,  -999.0000,9,      197.1,0,     -999.0,9
PANDORA,,004,01,,16,,20140120,024341,-17.0017, 162.9995, 4679,     31.8,  25.8930,    34.7910,0,  -999.0000,9,      196.5,0,     -999.0,9
PANDORA,,004,01,,17,,20140120,024341,-17.0017, 162.9995, 4679,     31.7,  25.9090,    34.7860,0,  -999.0000,9,      196.5,0,     -999.0,9
PANDORA,,004,01,,18,,20140120,024341,-17.0017, 162.9995, 4679,     31.8,  25.9180,    34.7830,0,  -999.0000,9,      196.6,0,     -999.0,9
PANDORA,,004,01,,19,,20140120,024341,-17.0017, 162.9995, 4679,      7.2,  26.3690,    34.7600,0,  -999.0000,9,      195.5,0,     -999.0,9
PANDORA,,004,01,,20,,20140120,024341,-17.0017, 162.9995, 4679,      6.2,  26.3670,    34.7600,0,  -999.0000,9,      195.4,0,     -999.0,9
PANDORA,,004,01,,21,,20140120,024341,-17.0017, 162.9995, 4679,      5.0,  26.3660,    34.7610,0,  -999.0000,9,      195.2,0,     -999.0,9
PANDORA,,004,01,,22,,20140120,024341,-17.0017, 162.9995, 4679,      4.8,  26.3640,    34.7610,0,  -999.0000,9,      195.2,0,     -999.0,9
PANDORA,,004,03,, 1,,20140120,054043,-17.0025, 162.9962, 4680,   3599.9,   1.8420,    34.6880,0,  -999.0000,9,      150.2,0,     -999.0,9
PANDORA,,004,03,, 2,,20140120,054043,-17.0025, 162.9962, 4680,   3337.1,   1.8420,    34.6840,0,    34.6840,2,      148.0,0,      153.7,2
PANDORA,,004,03,, 3,,20140120,054043,-17.0025, 162.9962, 4680,   2880.6,   1.8960,    34.6780,0,    34.6770,2,      146.0,0,      149.9,2
PANDORA,,004,03,, 4,,20140120,054043,-17.0025, 162.9962, 4680,   2499.5,   2.0030,    34.6670,0,    34.6670,2,      143.5,0,      159.3,3
PANDORA,,004,03,, 5,,20140120,054043,-17.0025, 162.9962, 4680,   2499.8,   2.0030,    34.6670,0,    34.6670,2,      142.7,0,      147.6,2
PANDORA,,004,03,, 6,,20140120,054043,-17.0025, 162.9962, 4680,   2206.3,   2.1560,    34.6540,0,    34.6530,2,      141.6,0,      144.2,2
PANDORA,,004,03,, 7,,20140120,054043,-17.0025, 162.9962, 4680,   1935.5,   2.3810,    34.6340,0,  -999.0000,9,      139.2,0,     -999.0,9
PANDORA,,004,03,, 8,,20140120,054043,-17.0025, 162.9962, 4680,   1735.2,   2.5320,    34.6200,0,  -999.0000,9,      138.5,0,     -999.0,9
PANDORA,,004,03,, 9,,20140120,054043,-17.0025, 162.9962, 4680,   1537.5,   2.8430,    34.5950,0,    34.5950,2,      138.9,0,      140.4,2
PANDORA,,004,03,,10,,20140120,054043,-17.0025, 162.9962, 4680,   1336.5,   3.2560,    34.5590,0,    34.5590,2,      142.5,0,      143.5,2
PANDORA,,004,03,,11,,20140120,054043,-17.0025, 162.9962, 4680,   1134.8,   3.6350,    34.5120,0,  -999.0000,9,      155.0,0,     -999.0,9
PANDORA,,004,03,,12,,20140120,054043,-17.0025, 162.9962, 4680,    935.5,   4.2470,    34.4570,0,    34.4560,2,      164.5,0,      164.8,2
PANDORA,,004,03,,13,,20140120,054043,-17.0025, 162.9962, 4680,    736.2,   5.4480,    34.4130,0,    34.4130,2,      177.5,0,      180.3,2
PANDORA,,004,03,,14,,20140120,054043,-17.0025, 162.9962, 4680,    566.0,   7.8940,    34.5140,0,    34.5130,2,      189.7,0,      192.5,2
PANDORA,,004,03,,15,,20140120,054043,-17.0025, 162.9962, 4680,    465.2,   9.5170,    34.6600,0,    34.6590,2,      173.1,0,      175.3,2
PANDORA,,004,03,,16,,20140120,054043,-17.0025, 162.9962, 4680,    365.6,  13.4000,    35.0370,0,    35.0360,2,      166.8,0,      167.1,2
PANDORA,,004,03,,17,,20140120,054043,-17.0025, 162.9962, 4680,    265.0,  17.1910,    35.3980,0,    35.3970,2,      158.7,0,      157.2,2
PANDORA,,004,03,,18,,20140120,054043,-17.0025, 162.9962, 4680,    176.8,  20.7340,    35.6220,0,    35.6200,2,      164.0,0,      165.6,3
PANDORA,,004,03,,19,,20140120,054043,-17.0025, 162.9962, 4680,    151.0,  21.8040,    35.6250,0,    35.6230,2,      164.2,0,      163.5,2
PANDORA,,004,03,,20,,20140120,054043,-17.0025, 162.9962, 4680,     85.3,  24.8090,    35.4020,0,    35.3990,2,      189.5,0,      193.1,2
PANDORA,,004,03,,21,,20140120,054043,-17.0025, 162.9962, 4680,     35.9,  25.9410,    34.8440,0,    34.8420,2,      196.3,0,      199.7,2
PANDORA,,004,03,,22,,20140120,054043,-17.0025, 162.9962, 4680,      5.3,  26.3890,    34.7030,0,    34.7000,2,      195.1,0,      197.5,2