BOTTLE,20140909LEGIRDAG
EXPOCODE,SECT_ID,STNNBR,CASTNO,SAMPNO,BTLNBR,BTLNBR_FLAG_W,DATE,TIME,LATITUDE,LONGITUDE,DEPTH,CTDPRS,CTDTMP,CTDSAL,CTDSAL_FLAG_W,SALNTY,SALNTY_FLAG_W,CTDOXY,CTDOXY_FLAG_W,OXYGEN,OXYGEN_FLAG_W
,,,,,,,,,,,,,DBARS,ITS-90,PSS-78,,PSS-78,,UMOL/KG,,UMOL/KG,
PANDORA,,055,01,, 1,,20140120,125402, -4.9393, 152.3472, 1728,   1662.1,   2.6940,    34.6130,0,    34.6130,2,      122.0,0,      125.6,2
PANDORA,,055,01,, 2,,20140120,125402, -4.9393, 152.3472, 1728,   1662.0,   2.6940,    34.6130,0,    34.6130,2,      121.5,0,      125.7,2
PANDORA,,055,01,, 3,,20140120,125402, -4.9393, 152.3472, 1728,   1600.8,   2.8910,    34.6000,0,    34.6000,2,      121.2,0,      124.4,2
PANDORA,,055,01,, 4,,20140120,125402, -4.9393, 152.3472, 1728,   1401.2,   3.2570,    34.5770,0,    34.5770,2,      123.7,0,      127.0,2
PANDORA,,055,01,, 5,,20140120,125402, -4.9393, 152.3472, 1728,   1200.5,   3.8620,    34.5400,0,    34.5400,2,      131.1,0,      133.8,2
PANDORA,,055,01,, 6,,20140120,125402, -4.9393, 152.3472, 1728,   1000.2,   4.4840,    34.5080,0,    34.5080,2,      138.3,0,      141.1,2
PANDORA,,055,01,, 7,,20140120,125402, -4.9393, 152.3472, 1728,    900.9,   4.8360,    34.4940,0,  -999.0000,9,      145.5,0,     -999.0,9
PANDORA,,055,01,, 8,,20140120,125402, -4.9393, 152.3472, 1728,    800.5,   4.9520,    34.4900,0,    34.4900,2,      148.0,0,      150.7,2
PANDORA,,055,01,, 9,,20140120,125402, -4.9393, 152.3472, 1728,    700.7,   5.4750,    34.4810,0,  -999.0000,9,      152.4,0,     -999.0,9
PANDORA,,055,01,,10,,20140120,125402, -4.9393, 152.3472, 1728,    700.5,   5.4850,    34.4800,0,    34.4800,2,      152.7,0,      154.7,2
PANDORA,,055,01,,11,,20140120,125402, -4.9393, 152.3472, 1728,    601.1,   6.8300,    34.4900,0,  -999.0000,9,      174.9,0,     -999.0,9
PANDORA,,055,01,,12,,20140120,125402, -4.9393, 152.3472, 1728,    499.2,   8.6780,    34.6170,0,    34.6170,2,      168.9,0,      171.7,2
PANDORA,,055,01,,13,,20140120,125402, -4.9393, 152.3472, 1728,    402.0,   8.9880,    34.6450,0,  -999.0000,9,      171.4,0,     -999.0,9
PANDORA,,055,01,,14,,20140120,125402, -4.9393, 152.3472, 1728,    300.7,  13.7910,    35.0750,0,    35.0740,2,      154.5,0,      157.7,2
PANDORA,,055,01,,15,,20140120,125402, -4.9393, 152.3472, 1728,    250.8,  17.1060,    35.3700,0,  -999.0000,9,      144.6,0,     -999.0,9
PANDORA,,055,01,,16,,20140120,125402, -4.9393, 152.3472, 1728,    200.0,  18.5700,    35.4820,0,    35.4810,2,      140.2,0,      143.5,2
PANDORA,,055,01,,17,,20140120,125402, -4.9393, 152.3472, 1728,    151.0,  23.8310,    35.5780,0,  -999.0000,9,      137.2,0,     -999.0,9
PANDORA,,055,01,,18,,20140120,125402, -4.9393, 152.3472, 1728,    100.7,  26.4490,    35.4950,0,    35.4930,2,      140.8,0,      144.5,2
PANDORA,,055,01,,19,,20140120,125402, -4.9393, 152.3472, 1728,     74.5,  27.8430,    35.5090,0,    35.5070,2,      153.4,0,      156.1,2
PANDORA,,055,01,,20,,20140120,125402, -4.9393, 152.3472, 1728,     50.1,  27.6700,    34.8810,0,    34.8780,2,      180.6,0,      180.9,3
PANDORA,,055,01,,21,,20140120,125402, -4.9393, 152.3472, 1728,     24.8,  28.4930,    34.7480,0,    34.7450,2,      188.7,0,      192.8,2
PANDORA,,055,01,,22,,20140120,125402, -4.9393, 152.3472, 1728,      4.5,  29.1210,    34.7520,0,    34.7490,2,      187.1,0,      192.2,2
PANDORA,,056,01,, 1,,20140120,072411, -4.0767, 152.5393, 1580,   1582.5,   2.9210,    34.5990,0,  -999.0000,9,      121.5,0,     -999.0,9
PANDORA,,056,01,, 2,,20140120,072411, -4.0767, 152.5393, 1580,   1582.7,   2.9210,    34.5990,0,    34.5990,2,      121.6,0,      124.5,2
PANDORA,,056,01,, 3,,20140120,072411, -4.0767, 152.5393, 1580,   1400.2,   3.1540,    34.5840,0,    34.5840,2,      122.9,0,      127.1,2
PANDORA,,056,01,, 4,,20140120,072411, -4.0767, 152.5393, 1580,   1199.3,   3.8580,    34.5410,0,    34.5410,2,      131.0,0,      134.3,2
PANDORA,,056,01,, 5,,20140120,072411, -4.0767, 152.5393, 1580,   1000.0,   4.4800,    34.5070,0,    34.5060,2,      140.4,0,      142.9,2
PANDORA,,056,01,, 6,,20140120,072411, -4.0767, 152.5393, 1580,    900.9,   4.9820,    34.4870,0,    34.4860,2,      148.8,0,      151.8,2
PANDORA,,056,01,, 7,,20140120,072411, -4.0767, 152.5393, 1580,    802.2,   5.3920,    34.4820,0,  -999.0000,9,      152.5,0,     -999.0,9
PANDORA,,056,01,, 8,,20140120,072411, -4.0767, 152.5393, 1580,    700.7,   5.6990,    34.4870,0,    34.4870,2,      153.7,0,      157.3,2
PANDORA,,056,01,, 9,,20140120,072411, -4.0767, 152.5393, 1580,    600.2,   6.3540,    34.4890,0,    34.4890,2,      162.2,0,      165.0,2
PANDORA,,056,01,,10,,20140120,072411, -4.0767, 152.5393, 1580,    499.5,   7.3860,    34.5290,0,  -999.0000,9,      170.4,0,     -999.0,9
PANDORA,,056,01,,11,,20140120,072411, -4.0767, 152.5393, 1580,    400.4,   9.1430,    34.6600,0,    34.6600,2,      166.5,0,      169.9,2
PANDORA,,056,01,,12,,20140120,072411, -4.0767, 152.5393, 1580,    300.7,  10.6660,    34.7910,0,    34.7910,2,      164.0,0,      166.4,2
PANDORA,,056,01,,13,,20140120,072411, -4.0767, 152.5393, 1580,    250.6,  13.2560,    35.0290,0,  -999.0000,9,      156.0,0,     -999.0,9
PANDORA,,056,01,,14,,20140120,072411, -4.0767, 152.5393, 1580,    153.0,  24.2290,    35.5300,0,  -999.0000,9,      141.2,0,     -999.0,9
PANDORA,,056,01,,15,,20140120,072411, -4.0767, 152.5393, 1580,    153.0,  24.1720,    35.5450,0,    35.5430,2,      140.9,0,      145.6,2
PANDORA,,056,01,,16,,20140120,072411, -4.0767, 152.5393, 1580,    101.0,  28.1470,    35.3230,0,  -999.0000,9,      159.9,0,     -999.0,9
PANDORA,,056,01,,17,,20140120,072411, -4.0767, 152.5393, 1580,    100.9,  28.1620,    35.3240,0,    35.3220,2,      160.0,0,      160.0,2
PANDORA,,056,01,,18,,20140120,072411, -4.0767, 152.5393, 1580,     75.0,  28.4870,    35.0720,0,    35.0690,2,      169.6,0,      175.1,2
PANDORA,,056,01,,19,,20140120,072411, -4.0767, 152.5393, 1580,     49.8,  28.7870,    34.9050,0,  -999.0000,9,      176.1,0,     -999.0,9
PANDORA,,056,01,,20,,20140120,072411, -4.0767, 152.5393, 1580,     24.5,  28.8500,    34.6220,0,  -999.0000,9,      189.8,0,     -999.0,9
PANDORA,,056,01,,21,,20140120,072411, -4.0767, 152.5393, 1580,      6.3,  28.8440,    34.6230,0,    34.6200,2,      189.3,0,      195.4,2
PANDORA,,056,01,,22,,20140120,072411, -4.0767, 152.5393, 1580,      6.1,  28.8430,    34.6230,0,  -999.0000,9,      190.2,0,     -999.0,9
PANDORA,,057,01,, 1,,20140120,123200, -4.5688, 152.5228, 2547,   1302.0,   3.4710,    34.5640,0,  -999.0000,9,      126.2,0,     -999.0,9
PANDORA,,057,01,, 2,,20140120,123200, -4.5688, 152.5228, 2547,   1301.9,   3.4710,    34.5640,0,  -999.0000,9,      126.1,0,     -999.0,9
PANDORA,,057,01,, 3,,20140120,123200, -4.5688, 152.5228, 2547,   1302.2,   3.4700,    34.5640,0,  -999.0000,9,      125.9,0,     -999.0,9
PANDORA,,057,01,, 4,,20140120,123200, -4.5688, 152.5228, 2547,    850.1,   4.6810,    34.5010,0,  -999.0000,9,      140.9,0,     -999.0,9
PANDORA,,057,01,, 5,,20140120,123200, -4.5688, 152.5228, 2547,    849.8,   4.6820,    34.5010,0,  -999.0000,9,      140.4,0,     -999.0,9
PANDORA,,057,01,, 6,,20140120,123200, -4.5688, 152.5228, 2547,    580.5,   7.1430,    34.5090,0,  -999.0000,9,      173.7,0,     -999.0,9
PANDORA,,057,01,, 7,,20140120,123200, -4.5688, 152.5228, 2547,    580.5,   7.1590,    34.5080,0,  -999.0000,9,      173.1,0,     -999.0,9
PANDORA,,057,01,, 8,,20140120,123200, -4.5688, 152.5228, 2547,    450.5,   9.0120,    34.6460,0,  -999.0000,9,      167.8,0,     -999.0,9
PANDORA,,057,01,, 9,,20140120,123200, -4.5688, 152.5228, 2547,    450.2,   9.0110,    34.6460,0,  -999.0000,9,      168.2,0,     -999.0,9
PANDORA,,057,01,,10,,20140120,123200, -4.5688, 152.5228, 2547,    251.4,  15.9090,    35.2690,0,  -999.0000,9,      149.2,0,     -999.0,9
PANDORA,,057,01,,11,,20140120,123200, -4.5688, 152.5228, 2547,    251.7,  15.8870,    35.2680,0,  -999.0000,9,      149.3,0,     -999.0,9
PANDORA,,057,01,,12,,20140120,123200, -4.5688, 152.5228, 2547,    151.5,  23.8820,    35.5730,0,  -999.0000,9,      136.9,0,     -999.0,9
PANDORA,,057,01,,13,,20140120,123200, -4.5688, 152.5228, 2547,    151.6,  23.8690,    35.5750,0,  -999.0000,9,      136.5,0,     -999.0,9
PANDORA,,057,01,,14,,20140120,123200, -4.5688, 152.5228, 2547,    151.8,  23.8690,    35.5750,0,  -999.0000,9,      136.1,0,     -999.0,9
PANDORA,,057,01,,15,,20140120,123200, -4.5688, 152.5228, 2547,    102.0,  27.5380,    35.5490,0,  -999.0000,9,      149.2,0,     -999.0,9
PANDORA,,057,01,,16,,20140120,123200, -4.5688, 152.5228, 2547,    101.9,  27.5470,    35.5480,0,  -999.0000,9,      149.3,0,     -999.0,9
PANDORA,,057,01,,17,,20140120,123200, -4.5688, 152.5228, 2547,     75.1,  28.2210,    35.3610,0,  -999.0000,9,      159.6,0,     -999.0,9
PANDORA,,057,01,,18,,20140120,123200, -4.5688, 152.5228, 2547,     49.8,  28.0910,    34.9160,0,  -999.0000,9,      183.0,0,     -999.0,9
PANDORA,,057,01,,19,,20140120,123200, -4.5688, 152.5228, 2547,     24.8,  28.9380,    34.7510,0,  -999.0000,9,      187.1,0,     -999.0,9
PANDORA,,057,01,,20,,20140120,123200, -4.5688, 152.5228, 2547,     24.9,  28.9420,    34.7520,0,  -999.0000,9,      186.9,0,     -999.0,9
PANDORA,,057,01,,21,,20140120,123200, -4.5688, 152.5228, 2547,     25.1,  28.9440,    34.7520,0,  -999.0000,9,      186.9,0,     -999.0,9
PANDORA,,057,01,,22,,20140120,123200, -4.5688, 152.5228, 2547,      4.6,  28.9440,    34.7520,0,  -999.0000,9,      186.7,0,     -999.0,9
PANDORA,,057,02,, 1,,20140120,140823, -4.5705, 152.5230, 2552,   2201.6,   2.1460,    34.6550,0,    34.6540,2,      129.6,0,      135.2,2
PANDORA,,057,02,, 2,,20140120,140823, -4.5705, 152.5230, 2552,   2202.2,   2.1420,    34.6550,0,    34.6540,2,      130.2,0,      134.3,2
PANDORA,,057,02,, 3,,20140120,140823, -4.5705, 152.5230, 2552,   1800.6,   2.5230,    34.6230,0,    34.6230,2,      121.2,0,      125.9,2
PANDORA,,057,02,, 4,,20140120,140823, -4.5705, 152.5230, 2552,   1650.2,   2.7350,    34.6100,0,    34.6090,2,      120.6,0,      124.1,2
PANDORA,,057,02,, 5,,20140120,140823, -4.5705, 152.5230, 2552,   1649.9,   2.7340,    34.6100,0,    34.6090,2,      120.3,0,      124.0,2
PANDORA,,057,02,, 6,,20140120,140823, -4.5705, 152.5230, 2552,   1400.1,   3.2080,    34.5810,0,    34.5800,2,      123.7,0,      130.4,3
PANDORA,,057,02,, 7,,20140120,140823, -4.5705, 152.5230, 2552,   1200.5,   3.7450,    34.5470,0,    34.5470,2,      129.6,0,      129.4,3
PANDORA,,057,02,, 8,,20140120,140823, -4.5705, 152.5230, 2552,   1000.4,   4.3550,    34.5130,0,    34.5130,2,      138.9,0,      141.8,2
PANDORA,,057,02,, 9,,20140120,140823, -4.5705, 152.5230, 2552,    801.1,   4.8290,    34.4920,0,    34.4910,2,      144.9,0,      146.8,2
PANDORA,,057,02,,10,,20140120,140823, -4.5705, 152.5230, 2552,    700.6,   5.3670,    34.4810,0,  -999.0000,9,      151.1,0,     -999.0,9
PANDORA,,057,02,,11,,20140120,140823, -4.5705, 152.5230, 2552,    600.5,   6.2810,    34.4860,0,    34.4860,2,      161.9,0,      166.8,2
PANDORA,,057,02,,12,,20140120,140823, -4.5705, 152.5230, 2552,    500.4,   8.2160,    34.5830,0,  -999.0000,9,      172.4,0,     -999.0,9
PANDORA,,057,02,,13,,20140120,140823, -4.5705, 152.5230, 2552,    400.5,   9.8870,    34.7200,0,    34.7200,2,      168.3,0,      171.2,2
PANDORA,,057,02,,14,,20140120,140823, -4.5705, 152.5230, 2552,    301.4,  13.1580,    35.0160,0,    35.0160,2,      155.6,0,      159.0,2
PANDORA,,057,02,,15,,20140120,140823, -4.5705, 152.5230, 2552,    250.7,  15.7370,    35.2500,0,  -999.0000,9,      149.2,0,     -999.0,9
PANDORA,,057,02,,16,,20140120,140823, -4.5705, 152.5230, 2552,    200.2,  20.5870,    35.6220,0,    35.6200,2,      131.9,0,      141.3,3
PANDORA,,057,02,,17,,20140120,140823, -4.5705, 152.5230, 2552,    150.9,  23.6980,    35.5870,0,  -999.0000,9,      135.6,0,     -999.0,9
PANDORA,,057,02,,18,,20140120,140823, -4.5705, 152.5230, 2552,    101.1,  27.6460,    35.5390,0,    35.5370,2,      150.4,0,      149.4,3
PANDORA,,057,02,,19,,20140120,140823, -4.5705, 152.5230, 2552,     74.8,  27.9340,    35.1790,0,  -999.0000,9,      166.1,0,     -999.0,9
PANDORA,,057,02,,20,,20140120,140823, -4.5705, 152.5230, 2552,     49.7,  28.7130,    34.7580,0,    34.7550,2,      187.4,0,      192.1,2
PANDORA,,057,02,,21,,20140120,140823, -4.5705, 152.5230, 2552,     24.7,  28.9650,    34.7690,0,  -999.0000,9,      186.3,0,     -999.0,9
PANDORA,,057,02,,22,,20140120,140823, -4.5705, 152.5230, 2552,      4.7,  28.9580,    34.7700,0,  -999.0000,9,      186.9,0,     -999.0,9
PANDORA,,058,01,, 1,,20140120,092023, -5.5030, 152.0982, 1142,   1187.2,   3.6180,    34.5550,0,  -999.0000,9,      127.6,0,     -999.0,9
PANDORA,,058,01,, 2,,20140120,092023, -5.5030, 152.0982, 1142,   1100.5,   3.7560,    34.5460,0,    34.5460,2,      129.9,0,      133.6,2
PANDORA,,058,01,, 3,,20140120,092023, -5.5030, 152.0982, 1142,   1100.8,   3.7590,    34.5460,0,  -999.0000,9,      130.2,0,     -999.0,9
PANDORA,,058,01,, 4,,20140120,092023, -5.5030, 152.0982, 1142,    999.3,   4.1000,    34.5260,0,    34.5250,2,      134.8,0,      140.3,2
PANDORA,,058,01,, 5,,20140120,092023, -5.5030, 152.0982, 1142,    998.8,   4.1230,    34.5250,0,  -999.0000,9,      135.3,0,     -999.0,9
PANDORA,,058,01,, 6,,20140120,092023, -5.5030, 152.0982, 1142,    900.8,   4.3830,    34.5140,0,    34.5130,2,      137.1,0,      142.3,2
PANDORA,,058,01,, 7,,20140120,092023, -5.5030, 152.0982, 1142,    900.7,   4.3680,    34.5150,0,    34.5140,2,      137.3,0,      141.5,2
PANDORA,,058,01,, 8,,20140120,092023, -5.5030, 152.0982, 1142,    835.5,   4.6920,    34.5000,0,  -999.0000,9,      142.6,0,     -999.0,9
PANDORA,,058,01,, 9,,20140120,092023, -5.5030, 152.0982, 1142,    735.6,   4.9870,    34.4880,0,    34.4880,2,      148.2,0,      152.9,2
PANDORA,,058,01,,10,,20140120,092023, -5.5030, 152.0982, 1142,    635.8,   6.0660,    34.4870,0,  -999.0000,9,      160.7,0,     -999.0,9
PANDORA,,058,01,,11,,20140120,092023, -5.5030, 152.0982, 1142,    535.3,   6.8260,    34.4990,0,    34.4990,2,      169.6,0,      169.0,3
PANDORA,,058,01,,12,,20140120,092023, -5.5030, 152.0982, 1142,    435.3,   8.9490,    34.6490,0,  -999.0000,9,      168.6,0,     -999.0,9
PANDORA,,058,01,,13,,20140120,092023, -5.5030, 152.0982, 1142,    335.7,  11.8050,    34.8970,0,    34.8960,2,      161.5,0,      165.2,2
PANDORA,,058,01,,14,,20140120,092023, -5.5030, 152.0982, 1142,    216.1,  18.9770,    35.5210,0,  -999.0000,9,      131.9,0,     -999.0,9
PANDORA,,058,01,,15,,20140120,092023, -5.5030, 152.0982, 1142,    216.6,  18.9620,    35.5210,0,    35.5190,2,      131.4,0,      135.0,2
PANDORA,,058,01,,16,,20140120,092023, -5.5030, 152.0982, 1142,    155.4,  23.0920,    35.6740,0,  -999.0000,9,      128.1,0,     -999.0,9
PANDORA,,058,01,,17,,20140120,092023, -5.5030, 152.0982, 1142,    155.5,  23.0850,    35.6750,0,    35.6730,2,      127.8,0,      133.8,2
PANDORA,,058,01,,18,,20140120,092023, -5.5030, 152.0982, 1142,    101.3,  26.2730,    35.3150,0,  -999.0000,9,      151.4,0,     -999.0,9
PANDORA,,058,01,,19,,20140120,092023, -5.5030, 152.0982, 1142,     74.4,  28.0400,    35.2380,0,    35.2360,2,      160.8,0,      167.4,2
PANDORA,,058,01,,20,,20140120,092023, -5.5030, 152.0982, 1142,     51.0,  28.1730,    34.9140,0,  -999.0000,9,      179.3,0,     -999.0,9
PANDORA,,058,01,,21,,20140120,092023, -5.5030, 152.0982, 1142,     25.1,  28.2690,    34.6790,0,    34.6760,2,      185.4,0,      191.4,2
PANDORA,,058,01,,22,,20140120,092023, -5.5030, 152.0982, 1142,      5.8,  28.2930,    34.6000,0,  -999.0000,9,      188.1,0,     -999.0,9
PANDORA,,059,01,, 1,,20140120,130749, -5.8322, 152.3015, 6696,   2001.2,   2.2960,    34.6380,0,    34.6370,2,      122.8,0,      127.6,2
PANDORA,,059,01,, 2,,20140120,130749, -5.8322, 152.3015, 6696,   1735.6,   2.5710,    34.6190,0,    34.6180,2,      120.0,0,      124.5,2
PANDORA,,059,01,, 3,,20140120,130749, -5.8322, 152.3015, 6696,   1535.7,   2.8940,    34.5980,0,    34.5970,2,      123.1,0,      128.3,2
PANDORA,,059,01,, 4,,20140120,130749, -5.8322, 152.3015, 6696,   1335.1,   3.3070,    34.5740,0,    34.5730,2,      124.1,0,      127.5,2
PANDORA,,059,01,, 5,,20140120,130749, -5.8322, 152.3015, 6696,   1135.9,   3.7620,    34.5430,0,    34.5430,2,      132.1,0,      135.8,2
PANDORA,,059,01,, 6,,20140120,130749, -5.8322, 152.3015, 6696,    965.5,   4.0540,    34.5270,0,  -999.0000,9,      136.1,0,     -999.0,9
PANDORA,,059,01,, 7,,20140120,130749, -5.8322, 152.3015, 6696,    865.0,   4.3950,    34.5090,0,    34.5090,2,      140.5,0,      138.8,3
PANDORA,,059,01,, 8,,20140120,130749, -5.8322, 152.3015, 6696,    859.0,   4.4060,    34.5080,0,    34.5080,2,      140.9,0,      143.1,2
PANDORA,,059,01,, 9,,20140120,130749, -5.8322, 152.3015, 6696,    765.7,   4.7480,    34.4980,0,    34.4970,2,      142.4,0,      145.2,2
PANDORA,,059,01,,10,,20140120,130749, -5.8322, 152.3015, 6696,    665.9,   5.3410,    34.4770,0,  -999.0000,9,      155.6,0,     -999.0,9
PANDORA,,059,01,,11,,20140120,130749, -5.8322, 152.3015, 6696,    564.1,   6.0990,    34.4690,0,    34.4680,2,      166.0,0,      167.6,2
PANDORA,,059,01,,12,,20140120,130749, -5.8322, 152.3015, 6696,    465.0,   7.5250,    34.5250,0,  -999.0000,9,      175.4,0,     -999.0,9
PANDORA,,059,01,,13,,20140120,130749, -5.8322, 152.3015, 6696,    365.5,  10.7300,    34.7830,0,    34.7820,2,      148.2,0,      154.6,3
PANDORA,,059,01,,14,,20140120,130749, -5.8322, 152.3015, 6696,    288.1,  14.0450,    35.0860,0,  -999.0000,9,      130.5,0,     -999.0,9
PANDORA,,059,01,,15,,20140120,130749, -5.8322, 152.3015, 6696,    236.6,  17.0810,    35.3580,0,    35.3570,2,      121.4,0,      124.4,2
PANDORA,,059,01,,16,,20140120,130749, -5.8322, 152.3015, 6696,    186.0,  19.9070,    35.5990,0,  -999.0000,9,      125.1,0,     -999.0,9
PANDORA,,059,01,,17,,20140120,130749, -5.8322, 152.3015, 6696,    135.7,  23.3300,    35.6770,0,    35.6750,2,      132.3,0,      136.3,2
PANDORA,,059,01,,18,,20140120,130749, -5.8322, 152.3015, 6696,    102.6,  25.1540,    35.3520,0,    35.3490,2,      148.8,0,      154.2,3
PANDORA,,059,01,,19,,20140120,130749, -5.8322, 152.3015, 6696,     75.6,  26.6340,    35.2490,0,  -999.0000,9,      152.0,0,     -999.0,9
PANDORA,,059,01,,20,,20140120,130749, -5.8322, 152.3015, 6696,     50.1,  27.4930,    34.8880,0,    34.8850,2,      181.4,0,      186.6,2
PANDORA,,059,01,,21,,20140120,130749, -5.8322, 152.3015, 6696,     25.0,  28.1410,    34.5750,0,  -999.0000,9,      189.9,0,     -999.0,9
PANDORA,,059,01,,22,,20140120,130749, -5.8322, 152.3015, 6696,      4.9,  28.1530,    34.5610,0,    34.5590,2,      189.1,0,      194.4,2