BOTTLE,20140909LEGIRDAG
EXPOCODE,SECT_ID,STNNBR,CASTNO,SAMPNO,BTLNBR,BTLNBR_FLAG_W,DATE,TIME,LATITUDE,LONGITUDE,DEPTH,CTDPRS,CTDTMP,CTDSAL,CTDSAL_FLAG_W,SALNTY,SALNTY_FLAG_W,CTDOXY,CTDOXY_FLAG_W,OXYGEN,OXYGEN_FLAG_W
,,,,,,,,,,,,,DBARS,ITS-90,PSS-78,,PSS-78,,UMOL/KG,,UMOL/KG,
PANDORA,,043,02,, 1,,20140120,153311, -3.9977, 155.5943, 1925,   1875.6,   2.4480,    34.6250,0,  -999.0000,9,      111.4,0,     -999.0,9
PANDORA,,043,02,, 2,,20140120,153311, -3.9977, 155.5943, 1925,   1800.1,   2.5120,    34.6200,0,    34.6200,2,      113.3,0,      115.9,2
PANDORA,,043,02,, 3,,20140120,153311, -3.9977, 155.5943, 1925,   1600.4,   2.8170,    34.6030,0,  -999.0000,9,      111.2,0,     -999.0,9
PANDORA,,043,02,, 4,,20140120,153311, -3.9977, 155.5943, 1925,   1400.4,   3.2660,    34.5840,0,    34.5840,2,      106.1,0,      107.6,2
PANDORA,,043,02,, 5,,20140120,153311, -3.9977, 155.5943, 1925,   1200.1,   3.8510,    34.5620,0,  -999.0000,9,      102.3,0,     -999.0,9
PANDORA,,043,02,, 6,,20140120,153311, -3.9977, 155.5943, 1925,   1000.7,   4.3910,    34.5400,0,    34.5390,2,      106.8,0,      108.6,2
PANDORA,,043,02,, 7,,20140120,153311, -3.9977, 155.5943, 1925,    900.7,   4.8170,    34.5290,0,  -999.0000,9,      108.9,0,     -999.0,9
PANDORA,,043,02,, 8,,20140120,153311, -3.9977, 155.5943, 1925,    800.6,   5.3100,    34.5250,0,    34.5250,2,      103.1,0,      104.4,3
PANDORA,,043,02,, 9,,20140120,153311, -3.9977, 155.5943, 1925,    700.5,   5.9090,    34.5140,0,  -999.0000,9,      121.5,0,     -999.0,9
PANDORA,,043,02,,10,,20140120,153311, -3.9977, 155.5943, 1925,    600.8,   6.8180,    34.5550,0,    34.5540,2,       87.7,0,       92.4,3
PANDORA,,043,02,,11,,20140120,153311, -3.9977, 155.5943, 1925,    500.7,   7.7270,    34.5880,0,  -999.0000,9,      103.4,0,     -999.0,9
PANDORA,,043,02,,12,,20140120,153311, -3.9977, 155.5943, 1925,    400.7,   8.6420,    34.6370,0,    34.6360,2,      111.9,0,      108.3,3
PANDORA,,043,02,,13,,20140120,153311, -3.9977, 155.5943, 1925,    300.6,  10.1510,    34.7480,0,  -999.0000,9,      121.6,0,     -999.0,9
PANDORA,,043,02,,14,,20140120,153311, -3.9977, 155.5943, 1925,    230.6,  14.0360,    35.0770,0,    35.0760,2,       99.4,0,      101.3,2
PANDORA,,043,02,,15,,20140120,153311, -3.9977, 155.5943, 1925,    199.8,  17.9510,    35.4580,0,  -999.0000,9,      103.4,0,     -999.0,9
PANDORA,,043,02,,16,,20140120,153311, -3.9977, 155.5943, 1925,    150.7,  24.6630,    35.9060,0,    35.9040,2,      132.9,0,      133.1,2
PANDORA,,043,02,,17,,20140120,153311, -3.9977, 155.5943, 1925,    100.5,  27.9280,    35.6000,0,    35.5970,2,      153.3,0,      151.0,3
PANDORA,,043,02,,18,,20140120,153311, -3.9977, 155.5943, 1925,     75.1,  29.4070,    34.9210,0,  -999.0000,9,      184.7,0,     -999.0,9
PANDORA,,043,02,,19,,20140120,153311, -3.9977, 155.5943, 1925,     49.6,  29.3550,    34.7830,0,    34.7810,2,      185.7,0,      191.8,2
PANDORA,,043,02,,20,,20140120,153311, -3.9977, 155.5943, 1925,     24.3,  29.2720,    34.6780,0,    34.6760,2,      185.9,0,      190.5,2
PANDORA,,043,02,,21,,20140120,153311, -3.9977, 155.5943, 1925,     24.4,  29.2670,    34.6780,0,    34.6750,2,      186.5,0,      189.6,2
PANDORA,,043,02,,22,,20140120,153311, -3.9977, 155.5943, 1925,      4.9,  29.2580,    34.6790,0,  -999.0000,9,      186.5,0,     -999.0,9
PANDORA,,044,01,, 1,,20140120,195135, -4.2297, 155.3620, 2073,   2001.2,   2.3550,    34.6300,0,    34.6300,2,      113.2,0,      115.8,2
PANDORA,,044,01,, 2,,20140120,195135, -4.2297, 155.3620, 2073,   1900.1,   2.3900,    34.6280,0,  -999.0000,9,      112.7,0,     -999.0,9
PANDORA,,044,01,, 3,,20140120,195135, -4.2297, 155.3620, 2073,   1666.1,   2.7040,    34.6100,0,    34.6100,2,      111.0,0,      113.7,2
PANDORA,,044,01,, 4,,20140120,195135, -4.2297, 155.3620, 2073,   1465.7,   3.1230,    34.5900,0,  -999.0000,9,      106.6,0,     -999.0,9
PANDORA,,044,01,, 5,,20140120,195135, -4.2297, 155.3620, 2073,   1265.8,   3.6470,    34.5690,0,    34.5690,2,      103.0,0,      105.4,2
PANDORA,,044,01,, 6,,20140120,195135, -4.2297, 155.3620, 2073,   1065.8,   4.2630,    34.5450,0,  -999.0000,9,      105.5,0,     -999.0,9
PANDORA,,044,01,, 7,,20140120,195135, -4.2297, 155.3620, 2073,    935.2,   4.7280,    34.5290,0,    34.5290,2,      111.5,0,      113.8,2
PANDORA,,044,01,, 8,,20140120,195135, -4.2297, 155.3620, 2073,    837.3,   5.2900,    34.5260,0,  -999.0000,9,      102.3,0,     -999.0,9
PANDORA,,044,01,, 9,,20140120,195135, -4.2297, 155.3620, 2073,    735.4,   5.9060,    34.5350,0,    34.5340,2,       92.4,0,       93.3,2
PANDORA,,044,01,,10,,20140120,195135, -4.2297, 155.3620, 2073,    635.8,   6.6770,    34.5510,0,  -999.0000,9,       88.7,0,     -999.0,9
PANDORA,,044,01,,11,,20140120,195135, -4.2297, 155.3620, 2073,    535.6,   7.5130,    34.5840,0,    34.5830,2,       85.3,0,       85.1,2
PANDORA,,044,01,,12,,20140120,195135, -4.2297, 155.3620, 2073,    436.1,   8.2480,    34.6120,0,  -999.0000,9,      120.7,0,     -999.0,9
PANDORA,,044,01,,13,,20140120,195135, -4.2297, 155.3620, 2073,    265.7,  12.8870,    34.9760,0,  -999.0000,9,       89.5,0,     -999.0,9
PANDORA,,044,01,,14,,20140120,195135, -4.2297, 155.3620, 2073,    216.1,  17.0210,    35.3670,0,    35.3650,2,      101.7,0,      101.8,2
PANDORA,,044,01,,15,,20140120,195135, -4.2297, 155.3620, 2073,    150.3,  26.1130,    35.8860,0,    35.8830,2,      131.0,0,      135.3,2
PANDORA,,044,01,,16,,20140120,195135, -4.2297, 155.3620, 2073,    150.3,  26.1300,    35.8880,0,  -999.0000,9,      130.4,0,     -999.0,9
PANDORA,,044,01,,17,,20140120,195135, -4.2297, 155.3620, 2073,    101.0,  28.5220,    35.5580,0,  -999.0000,9,      159.7,0,     -999.0,9
PANDORA,,044,01,,18,,20140120,195135, -4.2297, 155.3620, 2073,     76.1,  29.3260,    35.3280,0,    35.3250,2,      180.3,0,      183.8,2
PANDORA,,044,01,,19,,20140120,195135, -4.2297, 155.3620, 2073,     51.1,  29.2230,    34.7730,0,  -999.0000,9,      185.5,0,     -999.0,9
PANDORA,,044,01,,20,,20140120,195135, -4.2297, 155.3620, 2073,     25.4,  29.1970,    34.7050,0,    34.7020,2,      185.7,0,      190.0,2
PANDORA,,044,01,,21,,20140120,195135, -4.2297, 155.3620, 2073,      6.2,  29.1860,    34.7030,0,    34.7000,2,      185.4,0,      190.3,2
PANDORA,,044,01,,22,,20140120,195135, -4.2297, 155.3620, 2073,      5.5,  29.1850,    34.7030,0,  -999.0000,9,      185.0,0,     -999.0,9
PANDORA,,045,01,, 1,,20140120,234626, -4.4633, 155.1205, 2532,   2000.8,   2.3340,    34.6320,0,    34.6310,2,      113.4,0,      117.7,2
PANDORA,,045,01,, 2,,20140120,234626, -4.4633, 155.1205, 2532,   2000.7,   2.3380,    34.6310,0,    34.6310,2,      113.4,0,      116.6,2
PANDORA,,045,01,, 3,,20140120,234626, -4.4633, 155.1205, 2532,   1735.6,   2.7300,    34.6090,0,    34.6090,2,      112.1,0,      114.5,2
PANDORA,,045,01,, 4,,20140120,234626, -4.4633, 155.1205, 2532,   1535.4,   3.1620,    34.5880,0,    34.5870,2,      108.2,0,      110.8,2
PANDORA,,045,01,, 5,,20140120,234626, -4.4633, 155.1205, 2532,   1336.2,   3.5120,    34.5730,0,    34.5730,2,      104.9,0,      103.8,3
PANDORA,,045,01,, 6,,20140120,234626, -4.4633, 155.1205, 2532,   1135.2,   3.9910,    34.5590,0,    34.5590,2,      101.7,0,      102.7,2
PANDORA,,045,01,, 7,,20140120,234626, -4.4633, 155.1205, 2532,    966.3,   4.4450,    34.5420,0,    34.5410,2,      105.3,0,      107.0,2
PANDORA,,045,01,, 8,,20140120,234626, -4.4633, 155.1205, 2532,    865.6,   4.8100,    34.5330,0,  -999.0000,9,      101.8,0,     -999.0,9
PANDORA,,045,01,, 9,,20140120,234626, -4.4633, 155.1205, 2532,    766.2,   5.5680,    34.5320,0,    34.5320,2,       93.2,0,       94.9,2
PANDORA,,045,01,,10,,20140120,234626, -4.4633, 155.1205, 2532,    665.3,   6.1110,    34.5410,0,  -999.0000,9,       84.4,0,     -999.0,9
PANDORA,,045,01,,11,,20140120,234626, -4.4633, 155.1205, 2532,    565.5,   6.8040,    34.5590,0,    34.5580,2,       82.6,0,       85.1,2
PANDORA,,045,01,,12,,20140120,234626, -4.4633, 155.1205, 2532,    465.8,   7.5440,    34.5880,0,  -999.0000,9,       82.3,0,     -999.0,9
PANDORA,,045,01,,13,,20140120,234626, -4.4633, 155.1205, 2532,    365.0,   8.6410,    34.6350,0,    34.6340,2,      126.4,0,      126.7,3
PANDORA,,045,01,,14,,20140120,234626, -4.4633, 155.1205, 2532,    284.3,  11.6740,    34.8750,0,  -999.0000,9,       98.8,0,     -999.0,9
PANDORA,,045,01,,15,,20140120,234626, -4.4633, 155.1205, 2532,    236.0,  14.9050,    35.1580,0,    35.1570,2,       93.7,0,       95.1,2
PANDORA,,045,01,,16,,20140120,234626, -4.4633, 155.1205, 2532,    185.3,  21.6920,    35.8900,0,  -999.0000,9,      123.9,0,     -999.0,9
PANDORA,,045,01,,17,,20140120,234626, -4.4633, 155.1205, 2532,    135.4,  26.0670,    35.9080,0,    35.9060,2,      129.6,0,      133.5,3
PANDORA,,045,01,,18,,20140120,234626, -4.4633, 155.1205, 2532,    100.8,  27.7950,    35.6210,0,    35.6180,2,      151.2,0,      155.1,2
PANDORA,,045,01,,19,,20140120,234626, -4.4633, 155.1205, 2532,     73.3,  28.9340,    35.4530,0,    35.4500,2,      170.8,0,      175.4,2
PANDORA,,045,01,,20,,20140120,234626, -4.4633, 155.1205, 2532,     50.0,  29.2300,    34.7640,0,    34.7610,2,      184.6,0,      189.3,2
PANDORA,,045,01,,21,,20140120,234626, -4.4633, 155.1205, 2532,     24.6,  29.2040,    34.7160,0,  -999.0000,9,      185.8,0,     -999.0,9
PANDORA,,045,01,,22,,20140120,234626, -4.4633, 155.1205, 2532,      5.2,  29.2040,    34.7170,0,    34.7140,2,      185.5,0,      191.0,2
PANDORA,,046,01,, 1,,20140120,034549, -4.7002, 154.8802, 3117,   2001.7,   2.2480,    34.6360,0,    34.6360,2,      116.5,0,      120.0,2
PANDORA,,046,01,, 2,,20140120,034549, -4.7002, 154.8802, 3117,   1800.9,   2.5380,    34.6190,0,    34.6190,2,      114.2,0,      116.7,2
PANDORA,,046,01,, 3,,20140120,034549, -4.7002, 154.8802, 3117,   1801.0,   2.5410,    34.6190,0,    34.6190,2,      113.9,0,      116.2,2
PANDORA,,046,01,, 4,,20140120,034549, -4.7002, 154.8802, 3117,   1600.7,   2.9090,    34.6000,0,    34.5990,2,      110.2,0,      112.7,2
PANDORA,,046,01,, 5,,20140120,034549, -4.7002, 154.8802, 3117,   1400.2,   3.2980,    34.5830,0,    34.5830,2,      106.5,0,      108.1,2
PANDORA,,046,01,, 6,,20140120,034549, -4.7002, 154.8802, 3117,   1200.9,   3.6840,    34.5640,0,    34.5640,2,      107.9,0,      108.8,2
PANDORA,,046,01,, 7,,20140120,034549, -4.7002, 154.8802, 3117,   1001.0,   4.6240,    34.5350,0,  -999.0000,9,      108.9,0,     -999.0,9
PANDORA,,046,01,, 8,,20140120,034549, -4.7002, 154.8802, 3117,    899.8,   4.9780,    34.5340,0,    34.5340,2,       96.1,0,       95.9,3
PANDORA,,046,01,, 9,,20140120,034549, -4.7002, 154.8802, 3117,    800.5,   5.5260,    34.5330,0,    34.5330,2,       90.8,0,       91.2,2
PANDORA,,046,01,,10,,20140120,034549, -4.7002, 154.8802, 3117,    700.1,   6.3090,    34.5440,0,  -999.0000,9,       84.7,0,     -999.0,9
PANDORA,,046,01,,11,,20140120,034549, -4.7002, 154.8802, 3117,    600.2,   6.9800,    34.5570,0,    34.5560,2,       96.1,0,       96.4,2
PANDORA,,046,01,,12,,20140120,034549, -4.7002, 154.8802, 3117,    500.7,   7.6520,    34.5880,0,  -999.0000,9,       93.3,0,     -999.0,9
PANDORA,,046,01,,13,,20140120,034549, -4.7002, 154.8802, 3117,    401.0,   8.4440,    34.6290,0,  -999.0000,9,      108.5,0,     -999.0,9
PANDORA,,046,01,,14,,20140120,034549, -4.7002, 154.8802, 3117,    300.3,  10.2020,    34.7570,0,    34.7560,2,      129.6,0,      130.0,2
PANDORA,,046,01,,15,,20140120,034549, -4.7002, 154.8802, 3117,    250.0,  14.9000,    35.1530,0,    35.1520,2,       95.7,0,       95.8,2
PANDORA,,046,01,,16,,20140120,034549, -4.7002, 154.8802, 3117,    200.4,  18.9270,    35.5810,0,    35.5790,2,      119.0,0,      119.1,2
PANDORA,,046,01,,17,,20140120,034549, -4.7002, 154.8802, 3117,    150.7,  25.2620,    35.9770,0,  -999.0000,9,      125.8,0,     -999.0,9
PANDORA,,046,01,,18,,20140120,034549, -4.7002, 154.8802, 3117,    100.8,  28.3230,    35.5610,0,  -999.0000,9,      155.9,0,     -999.0,9
PANDORA,,046,01,,19,,20140120,034549, -4.7002, 154.8802, 3117,     75.5,  29.2260,    35.4280,0,    35.4250,2,      179.5,0,      183.2,2
PANDORA,,046,01,,20,,20140120,034549, -4.7002, 154.8802, 3117,     49.9,  29.2100,    34.8030,0,  -999.0000,9,      185.2,0,     -999.0,9
PANDORA,,046,01,,21,,20140120,034549, -4.7002, 154.8802, 3117,     24.7,  29.2110,    34.8020,0,    34.7990,2,      185.6,0,      190.0,2
PANDORA,,046,01,,22,,20140120,034549, -4.7002, 154.8802, 3117,      5.1,  29.2230,    34.7990,0,  -999.0000,9,      185.2,0,     -999.0,9
PANDORA,,047,01,, 1,,20140120,073938, -4.9342, 154.6483, 1004,    804.4,   5.0910,    34.5120,0,  -999.0000,9,      131.4,0,     -999.0,9
PANDORA,,047,01,, 2,,20140120,073938, -4.9342, 154.6483, 1004,    805.1,   5.1040,    34.5130,0,  -999.0000,9,      131.8,0,     -999.0,9
PANDORA,,047,01,, 3,,20140120,073938, -4.9342, 154.6483, 1004,    805.2,   5.1070,    34.5130,0,  -999.0000,9,      131.7,0,     -999.0,9
PANDORA,,047,01,, 4,,20140120,073938, -4.9342, 154.6483, 1004,    805.0,   5.1010,    34.5130,0,  -999.0000,9,      131.8,0,     -999.0,9
PANDORA,,047,01,, 5,,20140120,073938, -4.9342, 154.6483, 1004,    804.1,   5.1230,    34.5120,0,    34.5120,2,      131.9,0,      133.7,2
PANDORA,,047,01,, 6,,20140120,073938, -4.9342, 154.6483, 1004,    803.7,   5.1270,    34.5120,0,  -999.0000,9,      132.1,0,     -999.0,9
PANDORA,,047,01,, 7,,20140120,073938, -4.9342, 154.6483, 1004,    737.7,   5.4320,    34.5140,0,    34.5140,2,      130.0,0,      131.5,2
PANDORA,,047,01,, 8,,20140120,073938, -4.9342, 154.6483, 1004,    635.2,   5.9070,    34.5200,0,  -999.0000,9,      126.4,0,     -999.0,9
PANDORA,,047,01,, 9,,20140120,073938, -4.9342, 154.6483, 1004,    537.2,   6.5400,    34.5370,0,    34.5360,2,      122.4,0,      123.8,2
PANDORA,,047,01,,10,,20140120,073938, -4.9342, 154.6483, 1004,    434.6,   8.3450,    34.6270,0,  -999.0000,9,      127.2,0,     -999.0,9
PANDORA,,047,01,,11,,20140120,073938, -4.9342, 154.6483, 1004,    335.8,  10.1060,    34.7520,0,    34.7510,2,      120.9,0,      123.0,2
PANDORA,,047,01,,12,,20140120,073938, -4.9342, 154.6483, 1004,    264.4,  14.2060,    35.1000,0,  -999.0000,9,      103.8,0,     -999.0,9
PANDORA,,047,01,,13,,20140120,073938, -4.9342, 154.6483, 1004,    215.7,  20.5540,    35.7410,0,    35.7390,2,      120.4,0,      123.1,2
PANDORA,,047,01,,14,,20140120,073938, -4.9342, 154.6483, 1004,    155.9,  24.3400,    36.0060,0,  -999.0000,9,      123.1,0,     -999.0,9
PANDORA,,047,01,,15,,20140120,073938, -4.9342, 154.6483, 1004,    100.2,  29.0880,    35.4230,0,    35.4210,2,      170.7,0,      177.6,3
PANDORA,,047,01,,16,,20140120,073938, -4.9342, 154.6483, 1004,    100.4,  29.1160,    35.4140,0,  -999.0000,9,      170.0,0,     -999.0,9
PANDORA,,047,01,,17,,20140120,073938, -4.9342, 154.6483, 1004,     75.7,  29.0890,    34.8060,0,    34.8030,2,      182.5,0,      186.8,2
PANDORA,,047,01,,18,,20140120,073938, -4.9342, 154.6483, 1004,     49.8,  29.1420,    34.7290,0,  -999.0000,9,      185.1,0,     -999.0,9
PANDORA,,047,01,,19,,20140120,073938, -4.9342, 154.6483, 1004,     49.9,  29.1420,    34.7280,0,    34.7260,2,      185.1,0,      190.7,2
PANDORA,,047,01,,20,,20140120,073938, -4.9342, 154.6483, 1004,     25.2,  29.1260,    34.6910,0,  -999.0000,9,      185.3,0,     -999.0,9
PANDORA,,047,01,,21,,20140120,073938, -4.9342, 154.6483, 1004,      8.9,  29.1340,    34.6630,0,    34.6600,2,      186.1,0,      189.6,2
PANDORA,,047,01,,22,,20140120,073938, -4.9342, 154.6483, 1004,      8.9,  29.1310,    34.6620,0,  -999.0000,9,      184.8,0,     -999.0,9
PANDORA,,048,01,, 1,,20140120,104118, -4.9383, 154.3032, 2000,   1898.9,   2.2560,    34.6370,0,    34.6370,2,      120.4,0,      123.7,2
PANDORA,,048,01,, 2,,20140120,104118, -4.9383, 154.3032, 2000,   1800.1,   2.3510,    34.6310,0,    34.6310,2,      119.5,0,      123.4,2
PANDORA,,048,01,, 3,,20140120,104118, -4.9383, 154.3032, 2000,   1736.2,   2.5790,    34.6180,0,    34.6180,2,      115.9,0,      119.4,2
PANDORA,,048,01,, 4,,20140120,104118, -4.9383, 154.3032, 2000,   1536.8,   2.8990,    34.6000,0,    34.6000,2,      114.4,0,      117.0,2
PANDORA,,048,01,, 5,,20140120,104118, -4.9383, 154.3032, 2000,   1336.0,   3.4610,    34.5680,0,    34.5680,2,      120.3,0,      122.9,2
PANDORA,,048,01,, 6,,20140120,104118, -4.9383, 154.3032, 2000,   1135.9,   3.7630,    34.5500,0,    34.5500,2,      125.5,0,      127.3,2
PANDORA,,048,01,, 7,,20140120,104118, -4.9383, 154.3032, 2000,    965.4,   4.2600,    34.5190,0,    34.5180,2,      136.1,0,      138.8,2
PANDORA,,048,01,, 8,,20140120,104118, -4.9383, 154.3032, 2000,    865.6,   4.5340,    34.5050,0,  -999.0000,9,      140.6,0,     -999.0,9
PANDORA,,048,01,, 9,,20140120,104118, -4.9383, 154.3032, 2000,    764.8,   5.1270,    34.4740,0,    34.4730,2,      155.7,0,      157.9,2
PANDORA,,048,01,,10,,20140120,104118, -4.9383, 154.3032, 2000,    666.0,   6.1010,    34.4940,0,  -999.0000,9,      146.9,0,     -999.0,9
PANDORA,,048,01,,11,,20140120,104118, -4.9383, 154.3032, 2000,    565.8,   6.8220,    34.5120,0,    34.5110,2,      154.6,0,      157.5,2
PANDORA,,048,01,,12,,20140120,104118, -4.9383, 154.3032, 2000,    465.8,   8.0360,    34.6040,0,  -999.0000,9,      110.4,0,     -999.0,9
PANDORA,,048,01,,13,,20140120,104118, -4.9383, 154.3032, 2000,    365.9,   9.1800,    34.6760,0,    34.6760,2,      116.6,0,      117.6,2
PANDORA,,048,01,,14,,20140120,104118, -4.9383, 154.3032, 2000,    285.9,  10.8530,    34.8080,0,  -999.0000,9,      120.9,0,     -999.0,9
PANDORA,,048,01,,15,,20140120,104118, -4.9383, 154.3032, 2000,    235.8,  15.1710,    35.1880,0,    35.1870,2,      112.5,0,      117.9,3
PANDORA,,048,01,,16,,20140120,104118, -4.9383, 154.3032, 2000,    185.2,  20.9990,    35.7420,0,  -999.0000,9,      121.8,0,     -999.0,9
PANDORA,,048,01,,17,,20140120,104118, -4.9383, 154.3032, 2000,    135.4,  24.7040,    35.8450,0,    35.8430,2,      129.0,0,      131.4,2
PANDORA,,048,01,,18,,20140120,104118, -4.9383, 154.3032, 2000,    100.8,  29.0580,    35.3900,0,  -999.0000,9,      168.4,0,     -999.0,9
PANDORA,,048,01,,19,,20140120,104118, -4.9383, 154.3032, 2000,     75.5,  29.0880,    34.7640,0,    34.7610,2,      186.0,0,      192.1,2
PANDORA,,048,01,,20,,20140120,104118, -4.9383, 154.3032, 2000,     51.3,  29.3270,    34.6480,0,  -999.0000,9,      187.0,0,     -999.0,9
PANDORA,,048,01,,21,,20140120,104118, -4.9383, 154.3032, 2000,     24.7,  29.3140,    34.6430,0,    34.6400,2,      187.7,0,      191.4,2