BOTTLE,20140909LEGIRDAG
EXPOCODE,SECT_ID,STNNBR,CASTNO,SAMPNO,BTLNBR,BTLNBR_FLAG_W,DATE,TIME,LATITUDE,LONGITUDE,DEPTH,CTDPRS,CTDTMP,CTDSAL,CTDSAL_FLAG_W,SALNTY,SALNTY_FLAG_W,CTDOXY,CTDOXY_FLAG_W,OXYGEN,OXYGEN_FLAG_W
,,,,,,,,,,,,,DBARS,ITS-90,PSS-78,,PSS-78,,UMOL/KG,,UMOL/KG,
PANDORA,,035,02,, 1,,20140120,215125,-11.4687, 154.6412, 1578,   1450.2,   3.0540,    34.5850,0,  -999.0000,9,      134.2,0,     -999.0,9
PANDORA,,035,02,, 2,,20140120,215125,-11.4687, 154.6412, 1578,   1451.0,   3.0530,    34.5840,0,  -999.0000,9,      134.3,0,     -999.0,9
PANDORA,,035,02,, 3,,20140120,215125,-11.4687, 154.6412, 1578,   1451.3,   3.0510,    34.5850,0,  -999.0000,9,      134.1,0,     -999.0,9
PANDORA,,035,02,, 4,,20140120,215125,-11.4687, 154.6412, 1578,   1449.8,   3.0540,    34.5850,0,  -999.0000,9,      134.3,0,     -999.0,9
PANDORA,,035,02,, 5,,20140120,215125,-11.4687, 154.6412, 1578,   1449.0,   3.0550,    34.5850,0,  -999.0000,9,      134.0,0,     -999.0,9
PANDORA,,035,02,, 6,,20140120,215125,-11.4687, 154.6412, 1578,   1448.7,   3.0550,    34.5840,0,  -999.0000,9,      134.3,0,     -999.0,9
PANDORA,,035,02,, 7,,20140120,215125,-11.4687, 154.6412, 1578,   1450.4,   3.0550,    34.5840,0,  -999.0000,9,      134.1,0,     -999.0,9
PANDORA,,035,02,, 8,,20140120,215125,-11.4687, 154.6412, 1578,   1451.4,   3.0520,    34.5850,0,  -999.0000,9,      134.1,0,     -999.0,9
PANDORA,,035,02,, 9,,20140120,215125,-11.4687, 154.6412, 1578,   1451.2,   3.0500,    34.5850,0,  -999.0000,9,      134.2,0,     -999.0,9
PANDORA,,035,02,,10,,20140120,215125,-11.4687, 154.6412, 1578,   1450.4,   3.0510,    34.5850,0,  -999.0000,9,      134.4,0,     -999.0,9
PANDORA,,035,02,,11,,20140120,215125,-11.4687, 154.6412, 1578,   1449.9,   3.0530,    34.5840,0,  -999.0000,9,      134.3,0,     -999.0,9
PANDORA,,035,02,,12,,20140120,215125,-11.4687, 154.6412, 1578,   1451.7,   3.0480,    34.5850,0,  -999.0000,9,      133.9,0,     -999.0,9
PANDORA,,035,02,,13,,20140120,215125,-11.4687, 154.6412, 1578,   1450.1,   3.0490,    34.5850,0,  -999.0000,9,      134.1,0,     -999.0,9
PANDORA,,035,02,,14,,20140120,215125,-11.4687, 154.6412, 1578,   1450.4,   3.0490,    34.5850,0,  -999.0000,9,      134.4,0,     -999.0,9
PANDORA,,035,02,,15,,20140120,215125,-11.4687, 154.6412, 1578,   1452.2,   3.0490,    34.5850,0,  -999.0000,9,      134.1,0,     -999.0,9
PANDORA,,035,02,,16,,20140120,215125,-11.4687, 154.6412, 1578,   1450.4,   3.0500,    34.5850,0,  -999.0000,9,      134.3,0,     -999.0,9
PANDORA,,035,02,,17,,20140120,215125,-11.4687, 154.6412, 1578,   1451.9,   3.0480,    34.5850,0,  -999.0000,9,      134.2,0,     -999.0,9
PANDORA,,035,02,,18,,20140120,215125,-11.4687, 154.6412, 1578,   1448.6,   3.0500,    34.5850,0,  -999.0000,9,      134.0,0,     -999.0,9
PANDORA,,035,02,,19,,20140120,215125,-11.4687, 154.6412, 1578,   1449.8,   3.0520,    34.5850,0,  -999.0000,9,      134.4,0,     -999.0,9
PANDORA,,035,02,,20,,20140120,215125,-11.4687, 154.6412, 1578,   1452.9,   3.0490,    34.5850,0,  -999.0000,9,      134.1,0,     -999.0,9
PANDORA,,035,02,,21,,20140120,215125,-11.4687, 154.6412, 1578,   1450.1,   3.0490,    34.5850,0,  -999.0000,9,      134.3,0,     -999.0,9
PANDORA,,035,02,,22,,20140120,215125,-11.4687, 154.6412, 1578,   1449.8,   3.0500,    34.5850,0,  -999.0000,9,      133.9,0,     -999.0,9
PANDORA,,035,03,, 1,,20140120,232845,-11.4697, 154.6403, 1578,   1200.7,   3.8740,    34.5280,0,  -999.0000,9,      141.3,0,     -999.0,9
PANDORA,,035,03,, 2,,20140120,232845,-11.4697, 154.6403, 1578,   1202.7,   3.8700,    34.5280,0,  -999.0000,9,      141.4,0,     -999.0,9
PANDORA,,035,03,, 3,,20140120,232845,-11.4697, 154.6403, 1578,   1201.5,   3.8760,    34.5290,0,  -999.0000,9,      140.8,0,     -999.0,9
PANDORA,,035,03,, 4,,20140120,232845,-11.4697, 154.6403, 1578,   1200.8,   3.8930,    34.5280,0,  -999.0000,9,      140.8,0,     -999.0,9
PANDORA,,035,03,, 5,,20140120,232845,-11.4697, 154.6403, 1578,   1200.3,   3.9010,    34.5270,0,  -999.0000,9,      140.9,0,     -999.0,9
PANDORA,,035,03,, 6,,20140120,232845,-11.4697, 154.6403, 1578,   1202.5,   3.9020,    34.5280,0,  -999.0000,9,      140.3,0,     -999.0,9
PANDORA,,035,03,, 7,,20140120,232845,-11.4697, 154.6403, 1578,   1201.4,   3.9080,    34.5270,0,  -999.0000,9,      140.5,0,     -999.0,9
PANDORA,,035,03,, 8,,20140120,232845,-11.4697, 154.6403, 1578,   1200.1,   3.9090,    34.5270,0,  -999.0000,9,      141.3,0,     -999.0,9
PANDORA,,035,03,, 9,,20140120,232845,-11.4697, 154.6403, 1578,   1197.9,   3.9120,    34.5260,0,  -999.0000,9,      141.0,0,     -999.0,9
PANDORA,,035,03,,10,,20140120,232845,-11.4697, 154.6403, 1578,   1200.2,   3.9140,    34.5260,0,  -999.0000,9,      140.7,0,     -999.0,9
PANDORA,,035,03,,11,,20140120,232845,-11.4697, 154.6403, 1578,   1201.2,   3.9130,    34.5260,0,  -999.0000,9,      141.4,0,     -999.0,9
PANDORA,,035,03,,12,,20140120,232845,-11.4697, 154.6403, 1578,   1200.8,   3.9130,    34.5260,0,  -999.0000,9,      140.7,0,     -999.0,9
PANDORA,,035,03,,13,,20140120,232845,-11.4697, 154.6403, 1578,   1199.9,   3.9150,    34.5260,0,  -999.0000,9,      141.0,0,     -999.0,9
PANDORA,,035,03,,14,,20140120,232845,-11.4697, 154.6403, 1578,   1200.5,   3.9180,    34.5260,0,  -999.0000,9,      140.8,0,     -999.0,9
PANDORA,,035,03,,15,,20140120,232845,-11.4697, 154.6403, 1578,   1201.9,   3.9150,    34.5270,0,  -999.0000,9,      141.1,0,     -999.0,9
PANDORA,,035,03,,16,,20140120,232845,-11.4697, 154.6403, 1578,   1200.2,   3.9230,    34.5260,0,  -999.0000,9,      141.3,0,     -999.0,9
PANDORA,,035,03,,17,,20140120,232845,-11.4697, 154.6403, 1578,   1200.6,   3.9240,    34.5260,0,  -999.0000,9,      140.9,0,     -999.0,9
PANDORA,,035,03,,18,,20140120,232845,-11.4697, 154.6403, 1578,   1201.4,   3.9200,    34.5260,0,  -999.0000,9,      140.6,0,     -999.0,9
PANDORA,,035,03,,19,,20140120,232845,-11.4697, 154.6403, 1578,   1199.4,   3.9220,    34.5260,0,  -999.0000,9,      140.8,0,     -999.0,9
PANDORA,,035,03,,20,,20140120,232845,-11.4697, 154.6403, 1578,   1200.6,   3.9220,    34.5260,0,  -999.0000,9,      141.1,0,     -999.0,9
PANDORA,,035,03,,21,,20140120,232845,-11.4697, 154.6403, 1578,   1201.1,   3.9180,    34.5260,0,  -999.0000,9,      140.8,0,     -999.0,9
PANDORA,,035,03,,22,,20140120,232845,-11.4697, 154.6403, 1578,   1201.9,   3.9140,    34.5270,0,  -999.0000,9,      140.5,0,     -999.0,9
PANDORA,,035,04,, 1,,20140120,010712,-11.4697, 154.6410, 1263,    802.5,   5.6840,    34.4380,0,  -999.0000,9,      175.8,0,     -999.0,9
PANDORA,,035,04,, 2,,20140120,010712,-11.4697, 154.6410, 1263,    800.6,   5.6940,    34.4390,0,  -999.0000,9,      176.2,0,     -999.0,9
PANDORA,,035,04,, 3,,20140120,010712,-11.4697, 154.6410, 1263,    800.6,   5.6870,    34.4390,0,  -999.0000,9,      177.0,0,     -999.0,9
PANDORA,,035,04,, 4,,20140120,010712,-11.4697, 154.6410, 1263,    801.0,   5.7000,    34.4390,0,  -999.0000,9,      176.5,0,     -999.0,9
PANDORA,,035,04,, 5,,20140120,010712,-11.4697, 154.6410, 1263,    801.0,   5.7130,    34.4390,0,  -999.0000,9,      176.4,0,     -999.0,9
PANDORA,,035,04,, 6,,20140120,010712,-11.4697, 154.6410, 1263,    801.2,   5.7070,    34.4390,0,  -999.0000,9,      176.8,0,     -999.0,9
PANDORA,,035,04,, 7,,20140120,010712,-11.4697, 154.6410, 1263,    800.2,   5.7120,    34.4390,0,  -999.0000,9,      176.6,0,     -999.0,9
PANDORA,,035,04,, 8,,20140120,010712,-11.4697, 154.6410, 1263,    799.9,   5.7110,    34.4390,0,  -999.0000,9,      176.9,0,     -999.0,9
PANDORA,,035,04,, 9,,20140120,010712,-11.4697, 154.6410, 1263,    801.9,   5.7070,    34.4390,0,  -999.0000,9,      176.5,0,     -999.0,9
PANDORA,,035,04,,10,,20140120,010712,-11.4697, 154.6410, 1263,    799.8,   5.7160,    34.4400,0,  -999.0000,9,      176.8,0,     -999.0,9
PANDORA,,035,04,,11,,20140120,010712,-11.4697, 154.6410, 1263,    799.8,   5.7190,    34.4390,0,  -999.0000,9,      177.0,0,     -999.0,9
PANDORA,,035,04,,12,,20140120,010712,-11.4697, 154.6410, 1263,    801.8,   5.7090,    34.4400,0,  -999.0000,9,      176.7,0,     -999.0,9
PANDORA,,035,04,,13,,20140120,010712,-11.4697, 154.6410, 1263,    797.8,   5.7230,    34.4400,0,  -999.0000,9,      176.9,0,     -999.0,9
PANDORA,,035,04,,14,,20140120,010712,-11.4697, 154.6410, 1263,    800.5,   5.7230,    34.4390,0,  -999.0000,9,      177.1,0,     -999.0,9
PANDORA,,035,04,,15,,20140120,010712,-11.4697, 154.6410, 1263,    799.9,   5.7220,    34.4400,0,  -999.0000,9,      177.0,0,     -999.0,9
PANDORA,,035,04,,16,,20140120,010712,-11.4697, 154.6410, 1263,    798.2,   5.7280,    34.4400,0,  -999.0000,9,      176.8,0,     -999.0,9
PANDORA,,035,04,,17,,20140120,010712,-11.4697, 154.6410, 1263,    801.3,   5.7250,    34.4400,0,  -999.0000,9,      176.9,0,     -999.0,9
PANDORA,,035,04,,18,,20140120,010712,-11.4697, 154.6410, 1263,    799.1,   5.7290,    34.4400,0,  -999.0000,9,      176.9,0,     -999.0,9
PANDORA,,035,04,,19,,20140120,010712,-11.4697, 154.6410, 1263,    800.2,   5.7280,    34.4400,0,  -999.0000,9,      177.1,0,     -999.0,9
PANDORA,,035,04,,20,,20140120,010712,-11.4697, 154.6410, 1263,    800.0,   5.7340,    34.4400,0,  -999.0000,9,      177.2,0,     -999.0,9
PANDORA,,035,04,,21,,20140120,010712,-11.4697, 154.6410, 1263,    799.0,   5.7500,    34.4400,0,  -999.0000,9,      176.9,0,     -999.0,9
PANDORA,,035,04,,22,,20140120,010712,-11.4697, 154.6410, 1263,    800.1,   5.7440,    34.4400,0,  -999.0000,9,      177.1,0,     -999.0,9
PANDORA,,035,05,, 1,,20140120,023719,-11.4702, 154.6413, 1250,    499.3,   9.1390,    34.6480,0,  -999.0000,9,      177.5,0,     -999.0,9
PANDORA,,035,05,, 2,,20140120,023719,-11.4702, 154.6413, 1250,    499.7,   9.1400,    34.6490,0,  -999.0000,9,      177.6,0,     -999.0,9
PANDORA,,035,05,, 3,,20140120,023719,-11.4702, 154.6413, 1250,    500.5,   9.1440,    34.6490,0,  -999.0000,9,      177.6,0,     -999.0,9
PANDORA,,035,05,, 4,,20140120,023719,-11.4702, 154.6413, 1250,    499.7,   9.1450,    34.6500,0,  -999.0000,9,      177.4,0,     -999.0,9
PANDORA,,035,05,, 5,,20140120,023719,-11.4702, 154.6413, 1250,    499.6,   9.1460,    34.6500,0,  -999.0000,9,      177.2,0,     -999.0,9
PANDORA,,035,05,, 6,,20140120,023719,-11.4702, 154.6413, 1250,    501.0,   9.1500,    34.6500,0,  -999.0000,9,      177.4,0,     -999.0,9
PANDORA,,035,05,, 7,,20140120,023719,-11.4702, 154.6413, 1250,    499.5,   9.1510,    34.6500,0,  -999.0000,9,      177.2,0,     -999.0,9
PANDORA,,035,05,, 8,,20140120,023719,-11.4702, 154.6413, 1250,    500.6,   9.1500,    34.6500,0,  -999.0000,9,      177.0,0,     -999.0,9
PANDORA,,035,05,, 9,,20140120,023719,-11.4702, 154.6413, 1250,    500.8,   9.1520,    34.6500,0,  -999.0000,9,      177.2,0,     -999.0,9
PANDORA,,035,05,,10,,20140120,023719,-11.4702, 154.6413, 1250,    498.0,   9.1500,    34.6500,0,  -999.0000,9,      177.2,0,     -999.0,9
PANDORA,,035,05,,11,,20140120,023719,-11.4702, 154.6413, 1250,    500.6,   9.1520,    34.6500,0,  -999.0000,9,      177.2,0,     -999.0,9
PANDORA,,035,05,,12,,20140120,023719,-11.4702, 154.6413, 1250,    500.7,   9.1520,    34.6500,0,  -999.0000,9,      177.6,0,     -999.0,9
PANDORA,,035,05,,13,,20140120,023719,-11.4702, 154.6413, 1250,    498.9,   9.1510,    34.6500,0,  -999.0000,9,      177.5,0,     -999.0,9
PANDORA,,035,05,,14,,20140120,023719,-11.4702, 154.6413, 1250,    500.8,   9.1510,    34.6500,0,  -999.0000,9,      177.6,0,     -999.0,9
PANDORA,,035,05,,15,,20140120,023719,-11.4702, 154.6413, 1250,    501.2,   9.1530,    34.6500,0,  -999.0000,9,      177.4,0,     -999.0,9
PANDORA,,035,05,,16,,20140120,023719,-11.4702, 154.6413, 1250,    501.2,   9.1530,    34.6510,0,  -999.0000,9,      177.0,0,     -999.0,9
PANDORA,,035,05,,17,,20140120,023719,-11.4702, 154.6413, 1250,    499.3,   9.1530,    34.6510,0,  -999.0000,9,      177.4,0,     -999.0,9
PANDORA,,035,05,,18,,20140120,023719,-11.4702, 154.6413, 1250,    500.9,   9.1550,    34.6500,0,  -999.0000,9,      177.4,0,     -999.0,9
PANDORA,,035,05,,19,,20140120,023719,-11.4702, 154.6413, 1250,    501.4,   9.1550,    34.6510,0,  -999.0000,9,      177.1,0,     -999.0,9
PANDORA,,035,05,,20,,20140120,023719,-11.4702, 154.6413, 1250,    499.3,   9.1580,    34.6510,0,  -999.0000,9,      177.4,0,     -999.0,9
PANDORA,,035,05,,21,,20140120,023719,-11.4702, 154.6413, 1250,    499.9,   9.1600,    34.6510,0,  -999.0000,9,      176.9,0,     -999.0,9
PANDORA,,035,05,,22,,20140120,023719,-11.4702, 154.6413, 1250,    500.5,   9.1610,    34.6510,0,  -999.0000,9,      177.2,0,     -999.0,9
PANDORA,,036,01,, 1,,20140120,060828,-11.5015, 154.3902, 1168,    992.9,   4.5750,    34.4790,0,    34.4790,2,      158.9,0,      162.4,2
PANDORA,,036,01,, 2,,20140120,060828,-11.5015, 154.3902, 1168,    901.6,   5.2520,    34.4560,0,  -999.0000,9,      168.7,0,     -999.0,9
PANDORA,,036,01,, 3,,20140120,060828,-11.5015, 154.3902, 1168,    801.1,   5.7160,    34.4520,0,    34.4520,2,      174.1,0,      178.5,2
PANDORA,,036,01,, 4,,20140120,060828,-11.5015, 154.3902, 1168,    700.0,   6.3590,    34.4580,0,  -999.0000,9,      180.1,0,     -999.0,9
PANDORA,,036,01,, 5,,20140120,060828,-11.5015, 154.3902, 1168,    602.0,   7.2610,    34.5160,0,    34.5160,2,      180.2,0,      182.8,2
PANDORA,,036,01,, 6,,20140120,060828,-11.5015, 154.3902, 1168,    497.3,   9.4880,    34.6890,0,    34.6890,2,      175.5,0,      177.9,2
PANDORA,,036,01,, 7,,20140120,060828,-11.5015, 154.3902, 1168,    401.4,  12.1710,    34.9330,0,  -999.0000,9,      165.1,0,     -999.0,9
PANDORA,,036,01,, 8,,20140120,060828,-11.5015, 154.3902, 1168,    298.8,  14.8610,    35.1850,0,    35.1840,2,      156.5,0,      159.5,2
PANDORA,,036,01,, 9,,20140120,060828,-11.5015, 154.3902, 1168,    251.5,  16.4600,    35.3400,0,  -999.0000,9,      151.3,0,     -999.0,9
PANDORA,,036,01,,10,,20140120,060828,-11.5015, 154.3902, 1168,    201.5,  19.5730,    35.5780,0,    35.5770,2,      143.1,0,      146.6,2
PANDORA,,036,01,,11,,20140120,060828,-11.5015, 154.3902, 1168,    180.0,  20.7300,    35.6300,0,  -999.0000,9,      143.2,0,     -999.0,9
PANDORA,,036,01,,12,,20140120,060828,-11.5015, 154.3902, 1168,    162.3,  21.3390,    35.6340,0,  -999.0000,9,      140.5,0,     -999.0,9
PANDORA,,036,01,,13,,20140120,060828,-11.5015, 154.3902, 1168,    149.9,  22.4420,    35.6040,0,  -999.0000,9,      139.6,0,     -999.0,9
PANDORA,,036,01,,14,,20140120,060828,-11.5015, 154.3902, 1168,    129.9,  23.2940,    35.5360,0,    35.5340,2,      145.7,0,      148.3,2
PANDORA,,036,01,,15,,20140120,060828,-11.5015, 154.3902, 1168,    131.4,  23.1880,    35.5490,0,    35.5470,2,      143.8,0,      153.4,3
PANDORA,,036,01,,16,,20140120,060828,-11.5015, 154.3902, 1168,    100.4,  24.4870,    35.3990,0,    35.3970,2,      160.4,0,      165.9,2
PANDORA,,036,01,,17,,20140120,060828,-11.5015, 154.3902, 1168,    101.5,  24.3980,    35.4100,0,  -999.0000,9,      160.9,0,     -999.0,9
PANDORA,,036,01,,18,,20140120,060828,-11.5015, 154.3902, 1168,     48.4,  27.4910,    34.5830,0,  -999.0000,9,      186.9,0,     -999.0,9
PANDORA,,036,01,,19,,20140120,060828,-11.5015, 154.3902, 1168,     49.0,  27.4890,    34.5820,0,    34.5800,2,      186.8,0,      191.5,2
PANDORA,,036,01,,20,,20140120,060828,-11.5015, 154.3902, 1168,     23.8,  27.9760,    34.5700,0,  -999.0000,9,      189.4,0,     -999.0,9
PANDORA,,036,01,,21,,20140120,060828,-11.5015, 154.3902, 1168,      9.1,  27.9870,    34.5740,0,  -999.0000,9,      189.3,0,     -999.0,9
PANDORA,,037,01,, 1,,20140120,041443,-10.5623, 152.7055, 1004,   1010.5,   4.6170,    34.4820,0,  -999.0000,9,      156.1,0,     -999.0,9
PANDORA,,037,01,, 2,,20140120,041443,-10.5623, 152.7055, 1004,   1010.9,   4.6120,    34.4830,0,  -999.0000,9,      155.9,0,     -999.0,9
PANDORA,,037,01,, 3,,20140120,041443,-10.5623, 152.7055, 1004,   1010.2,   4.6160,    34.4820,0,  -999.0000,9,      155.9,0,     -999.0,9
PANDORA,,037,01,, 4,,20140120,041443,-10.5623, 152.7055, 1004,   1010.9,   4.6120,    34.4820,0,  -999.0000,9,      155.8,0,     -999.0,9
PANDORA,,037,01,, 5,,20140120,041443,-10.5623, 152.7055, 1004,   1000.8,   4.6210,    34.4820,0,    34.4820,2,      156.1,0,      158.9,2
PANDORA,,037,01,, 6,,20140120,041443,-10.5623, 152.7055, 1004,   1001.0,   4.6230,    34.4820,0,    34.4820,2,      156.2,0,      158.2,2
PANDORA,,037,01,, 7,,20140120,041443,-10.5623, 152.7055, 1004,    900.5,   5.1900,    34.4660,0,    34.4660,2,      163.3,0,      165.1,2
PANDORA,,037,01,, 8,,20140120,041443,-10.5623, 152.7055, 1004,    799.8,   5.7790,    34.4540,0,    34.4530,2,      171.3,0,      171.9,2
PANDORA,,037,01,, 9,,20140120,041443,-10.5623, 152.7055, 1004,    700.6,   6.5980,    34.4840,0,    34.4840,2,      173.0,0,      176.1,2
PANDORA,,037,01,,10,,20140120,041443,-10.5623, 152.7055, 1004,    601.1,   7.5480,    34.5380,0,    34.5370,2,      177.3,0,      178.2,2
PANDORA,,037,01,,11,,20140120,041443,-10.5623, 152.7055, 1004,    500.5,   9.4370,    34.6880,0,    34.6880,2,      172.3,0,      174.9,2
PANDORA,,037,01,,12,,20140120,041443,-10.5623, 152.7055, 1004,    399.6,  12.4380,    34.9570,0,    34.9560,2,      163.7,0,      165.8,2
PANDORA,,037,01,,13,,20140120,041443,-10.5623, 152.7055, 1004,    300.7,  15.0940,    35.2000,0,    35.1990,2,      156.4,0,      158.5,2
PANDORA,,037,01,,14,,20140120,041443,-10.5623, 152.7055, 1004,    251.2,  17.6810,    35.4120,0,    35.4100,2,      148.9,0,      151.4,2
PANDORA,,037,01,,15,,20140120,041443,-10.5623, 152.7055, 1004,    251.1,  17.7420,    35.4180,0,    35.4160,2,      148.2,0,      150.5,2
PANDORA,,037,01,,16,,20140120,041443,-10.5623, 152.7055, 1004,    200.7,  19.8830,    35.5730,0,    35.5710,2,      143.5,0,      145.4,2
PANDORA,,037,01,,17,,20140120,041443,-10.5623, 152.7055, 1004,    151.3,  22.0290,    35.6130,0,    35.6110,2,      142.8,0,      146.2,2
PANDORA,,037,01,,18,,20140120,041443,-10.5623, 152.7055, 1004,    100.2,  25.5400,    35.2350,0,    35.2330,2,      156.9,0,      160.0,2
PANDORA,,037,01,,19,,20140120,041443,-10.5623, 152.7055, 1004,     75.1,  26.3640,    35.0510,0,    35.0480,2,      166.0,0,      169.8,2
PANDORA,,037,01,,20,,20140120,041443,-10.5623, 152.7055, 1004,     49.8,  28.1810,    34.6820,0,    34.6800,2,      187.5,0,      187.6,3
PANDORA,,037,01,,21,,20140120,041443,-10.5623, 152.7055, 1004,     24.9,  28.2300,    34.6810,0,    34.6780,2,      187.7,0,      192.6,2
PANDORA,,037,01,,22,,20140120,041443,-10.5623, 152.7055, 1004,      8.2,  28.2850,    34.6890,0,    34.6870,2,      188.5,0,      188.8,3