BOTTLE,20140909LEGIRDAG
EXPOCODE,SECT_ID,STNNBR,CASTNO,SAMPNO,BTLNBR,BTLNBR_FLAG_W,DATE,TIME,LATITUDE,LONGITUDE,DEPTH,CTDPRS,CTDTMP,CTDSAL,CTDSAL_FLAG_W,SALNTY,SALNTY_FLAG_W,CTDOXY,CTDOXY_FLAG_W,OXYGEN,OXYGEN_FLAG_W
,,,,,,,,,,,,,DBARS,ITS-90,PSS-78,,PSS-78,,UMOL/KG,,UMOL/KG,
PANDORA,,005,01,, 1,,20140120,115349,-16.6660, 162.9998, 4824,   3601.1,   1.8350,    34.6860,0,    34.6860,2,      148.4,0,      153.8,2
PANDORA,,005,01,, 2,,20140120,115349,-16.6660, 162.9998, 4824,   3300.4,   1.8540,    34.6830,0,    34.6830,2,      147.6,0,      152.4,2
PANDORA,,005,01,, 3,,20140120,115349,-16.6660, 162.9998, 4824,   2999.6,   1.8830,    34.6790,0,    34.6790,2,      146.4,0,      150.0,2
PANDORA,,005,01,, 4,,20140120,115349,-16.6660, 162.9998, 4824,   2624.5,   1.9520,    34.6720,0,    34.6720,2,      145.2,0,      148.6,2
PANDORA,,005,01,, 5,,20140120,115349,-16.6660, 162.9998, 4824,   2301.2,   2.1020,    34.6580,0,    34.6580,2,      142.3,0,      144.8,2
PANDORA,,005,01,, 6,,20140120,115349,-16.6660, 162.9998, 4824,   2301.2,   2.1020,    34.6580,0,    34.6580,2,      142.1,0,      145.7,2
PANDORA,,005,01,, 7,,20140120,115349,-16.6660, 162.9998, 4824,   1999.8,   2.3190,    34.6390,0,    34.6390,2,      140.2,0,      141.2,2
PANDORA,,005,01,, 8,,20140120,115349,-16.6660, 162.9998, 4824,   1800.1,   2.5700,    34.6180,0,    34.6180,2,      138.5,0,      142.4,2
PANDORA,,005,01,, 9,,20140120,115349,-16.6660, 162.9998, 4824,   1600.1,   2.8660,    34.5930,0,    34.5930,2,      138.7,0,      140.0,2
PANDORA,,005,01,,10,,20140120,115349,-16.6660, 162.9998, 4824,   1400.2,   3.1840,    34.5670,0,    34.5660,2,      140.5,0,      141.4,2
PANDORA,,005,01,,11,,20140120,115349,-16.6660, 162.9998, 4824,   1200.1,   3.6050,    34.5280,0,    34.5280,2,      147.0,0,      147.8,2
PANDORA,,005,01,,12,,20140120,115349,-16.6660, 162.9998, 4824,   1000.9,   4.1200,    34.4910,0,    34.4900,2,      152.0,0,      153.1,2
PANDORA,,005,01,,13,,20140120,115349,-16.6660, 162.9998, 4824,    801.3,   5.1300,    34.4220,0,    34.4220,2,      173.9,0,      173.9,2
PANDORA,,005,01,,14,,20140120,115349,-16.6660, 162.9998, 4824,    600.7,   7.0580,    34.4530,0,    34.4530,2,      189.3,0,      189.8,2
PANDORA,,005,01,,15,,20140120,115349,-16.6660, 162.9998, 4824,    500.6,   9.5430,    34.6520,0,    34.6510,2,      174.4,0,      179.5,3
PANDORA,,005,01,,16,,20140120,115349,-16.6660, 162.9998, 4824,    399.9,  12.4660,    34.9070,0,    34.9070,2,      149.2,0,      150.2,2
PANDORA,,005,01,,17,,20140120,115349,-16.6660, 162.9998, 4824,    300.1,  16.8450,    35.3390,0,    35.3380,2,      146.9,0,      147.3,2
PANDORA,,005,01,,18,,20140120,115349,-16.6660, 162.9998, 4824,    200.1,  21.1190,    35.7210,0,    35.7190,2,      145.3,0,      144.3,2
PANDORA,,005,01,,19,,20140120,115349,-16.6660, 162.9998, 4824,    149.6,  22.6140,    35.6930,0,    35.6910,2,      152.2,0,      153.1,2
PANDORA,,005,01,,20,,20140120,115349,-16.6660, 162.9998, 4824,     99.9,  24.8670,    35.3860,0,    35.3830,2,      187.2,0,      187.7,2
PANDORA,,005,01,,21,,20140120,115349,-16.6660, 162.9998, 4824,     49.5,  26.3610,    34.6900,0,    34.6870,2,      194.9,0,      197.1,2
PANDORA,,005,01,,22,,20140120,115349,-16.6660, 162.9998, 4824,      5.1,  26.3350,    34.6740,0,    34.6720,2,      194.5,0,      197.3,2
PANDORA,,006,01,, 1,,20140120,185849,-15.9982, 162.9983, 4222,   2000.8,   2.3560,    34.6360,0,    34.6360,2,      139.2,0,      142.3,2
PANDORA,,006,01,, 2,,20140120,185849,-15.9982, 162.9983, 4222,   1907.6,   2.4180,    34.6310,0,    34.6300,2,      139.1,0,      141.9,2
PANDORA,,006,01,, 3,,20140120,185849,-15.9982, 162.9983, 4222,   1664.6,   2.7910,    34.5990,0,    34.5990,2,      138.9,0,      141.1,2
PANDORA,,006,01,, 4,,20140120,185849,-15.9982, 162.9983, 4222,   1466.4,   3.1140,    34.5720,0,    34.5720,2,      140.2,0,      141.1,2
PANDORA,,006,01,, 5,,20140120,185849,-15.9982, 162.9983, 4222,   1268.9,   3.4830,    34.5370,0,    34.5370,2,      145.9,0,      151.2,2
PANDORA,,006,01,, 6,,20140120,185849,-15.9982, 162.9983, 4222,   1070.0,   4.0070,    34.4950,0,    34.4940,2,      152.9,0,      153.0,2
PANDORA,,006,01,, 7,,20140120,185849,-15.9982, 162.9983, 4222,   1069.4,   4.0050,    34.4950,0,    34.4940,2,      152.5,0,      152.3,2
PANDORA,,006,01,, 8,,20140120,185849,-15.9982, 162.9983, 4222,    935.3,   4.5090,    34.4630,0,    34.4620,2,      157.9,0,      158.5,2
PANDORA,,006,01,, 9,,20140120,185849,-15.9982, 162.9983, 4222,    835.1,   5.1040,    34.4430,0,    34.4430,2,      162.6,0,      162.6,2
PANDORA,,006,01,,10,,20140120,185849,-15.9982, 162.9983, 4222,    735.2,   5.6700,    34.4330,0,  -999.0000,9,      170.2,0,     -999.0,9
PANDORA,,006,01,,11,,20140120,185849,-15.9982, 162.9983, 4222,    635.7,   6.7170,    34.4570,0,    34.4560,2,      173.1,0,      173.8,2
PANDORA,,006,01,,12,,20140120,185849,-15.9982, 162.9983, 4222,    538.6,   7.9560,    34.5290,0,  -999.0000,9,      168.5,0,     -999.0,9
PANDORA,,006,01,,13,,20140120,185849,-15.9982, 162.9983, 4222,    434.8,  10.3570,    34.7190,0,    34.7180,2,      157.3,0,      159.2,2
PANDORA,,006,01,,14,,20140120,185849,-15.9982, 162.9983, 4222,    335.4,  14.2940,    35.0820,0,  -999.0000,9,      150.0,0,     -999.0,9
PANDORA,,006,01,,15,,20140120,185849,-15.9982, 162.9983, 4222,    265.6,  17.4220,    35.4030,0,    35.4020,2,      145.7,0,      147.0,2
PANDORA,,006,01,,16,,20140120,185849,-15.9982, 162.9983, 4222,    215.1,  20.0020,    35.6460,0,  -999.0000,9,      144.8,0,     -999.0,9
PANDORA,,006,01,,17,,20140120,185849,-15.9982, 162.9983, 4222,    151.1,  21.8900,    35.6270,0,    35.6260,2,      167.7,0,      170.9,2
PANDORA,,006,01,,18,,20140120,185849,-15.9982, 162.9983, 4222,    100.9,  25.0700,    35.4430,0,  -999.0000,9,      179.0,0,     -999.0,9
PANDORA,,006,01,,19,,20140120,185849,-15.9982, 162.9983, 4222,     74.7,  26.1740,    35.1670,0,    35.1640,2,      185.2,0,      184.9,2
PANDORA,,006,01,,20,,20140120,185849,-15.9982, 162.9983, 4222,     49.5,  26.6260,    34.8680,0,  -999.0000,9,      193.2,0,     -999.0,9
PANDORA,,006,01,,21,,20140120,185849,-15.9982, 162.9983, 4222,     24.9,  26.8570,    34.6700,0,    34.6670,2,      192.6,0,      197.5,2
PANDORA,,006,01,,22,,20140120,185849,-15.9982, 162.9983, 4222,      6.3,  26.8460,    34.6620,0,    34.6600,2,      192.7,0,      195.8,2
PANDORA,,007,01,, 1,,20140120,031837,-14.9997, 163.0007, 4277,   2000.4,   2.3430,    34.6380,0,  -999.0000,9,      137.8,0,     -999.0,9
PANDORA,,007,01,, 2,,20140120,031837,-14.9997, 163.0007, 4277,   1735.5,   2.6300,    34.6140,0,  -999.0000,9,      135.1,0,     -999.0,9
PANDORA,,007,01,, 3,,20140120,031837,-14.9997, 163.0007, 4277,   1534.9,   2.8950,    34.5920,0,  -999.0000,9,      134.8,0,     -999.0,9
PANDORA,,007,01,, 4,,20140120,031837,-14.9997, 163.0007, 4277,   1335.5,   3.2760,    34.5630,0,  -999.0000,9,      137.2,0,     -999.0,9
PANDORA,,007,01,, 5,,20140120,031837,-14.9997, 163.0007, 4277,   1134.6,   3.8580,    34.5270,0,  -999.0000,9,      138.6,0,     -999.0,9
PANDORA,,007,01,, 6,,20140120,031837,-14.9997, 163.0007, 4277,    965.1,   4.3330,    34.4780,0,  -999.0000,9,      153.2,0,     -999.0,9
PANDORA,,007,01,, 7,,20140120,031837,-14.9997, 163.0007, 4277,    865.4,   4.7100,    34.4580,0,  -999.0000,9,      157.9,0,     -999.0,9
PANDORA,,007,01,, 8,,20140120,031837,-14.9997, 163.0007, 4277,    864.9,   4.7160,    34.4580,0,  -999.0000,9,      158.2,0,     -999.0,9
PANDORA,,007,01,, 9,,20140120,031837,-14.9997, 163.0007, 4277,    763.9,   5.3550,    34.4400,0,  -999.0000,9,      164.3,0,     -999.0,9
PANDORA,,007,01,,10,,20140120,031837,-14.9997, 163.0007, 4277,    664.8,   5.9930,    34.4420,0,  -999.0000,9,      169.0,0,     -999.0,9
PANDORA,,007,01,,11,,20140120,031837,-14.9997, 163.0007, 4277,    565.3,   7.3700,    34.4960,0,  -999.0000,9,      169.3,0,     -999.0,9
PANDORA,,007,01,,12,,20140120,031837,-14.9997, 163.0007, 4277,    465.3,   9.6080,    34.6520,0,  -999.0000,9,      159.5,0,     -999.0,9
PANDORA,,007,01,,13,,20140120,031837,-14.9997, 163.0007, 4277,    365.5,  13.3270,    34.9860,0,  -999.0000,9,      151.7,0,     -999.0,9
PANDORA,,007,01,,14,,20140120,031837,-14.9997, 163.0007, 4277,    284.8,  16.9530,    35.3530,0,  -999.0000,9,      148.0,0,     -999.0,9
PANDORA,,007,01,,15,,20140120,031837,-14.9997, 163.0007, 4277,    234.2,  19.8580,    35.5990,0,  -999.0000,9,      161.0,0,     -999.0,9
PANDORA,,007,01,,16,,20140120,031837,-14.9997, 163.0007, 4277,    184.8,  21.7690,    35.6340,0,  -999.0000,9,      165.0,0,     -999.0,9
PANDORA,,007,01,,17,,20140120,031837,-14.9997, 163.0007, 4277,    149.7,  23.2160,    35.7540,0,  -999.0000,9,      139.4,0,     -999.0,9
PANDORA,,007,01,,18,,20140120,031837,-14.9997, 163.0007, 4277,     99.9,  25.3630,    35.4540,0,  -999.0000,9,      160.2,0,     -999.0,9
PANDORA,,007,01,,19,,20140120,031837,-14.9997, 163.0007, 4277,     75.2,  26.1300,    35.0270,0,  -999.0000,9,      192.2,0,     -999.0,9
PANDORA,,007,01,,20,,20140120,031837,-14.9997, 163.0007, 4277,     49.5,  27.1980,    34.8160,0,  -999.0000,9,      191.4,0,     -999.0,9
PANDORA,,007,01,,21,,20140120,031837,-14.9997, 163.0007, 4277,     25.0,  27.2840,    34.7780,0,  -999.0000,9,      192.3,0,     -999.0,9
PANDORA,,007,01,,22,,20140120,031837,-14.9997, 163.0007, 4277,      4.5,  27.2750,    34.7430,0,  -999.0000,9,      192.2,0,     -999.0,9
PANDORA,,008,01,, 1,,20140120,112548,-13.9998, 162.9998, 4101,   2000.2,   2.3470,    34.6350,0,    34.6350,2,      136.2,0,      139.1,2
PANDORA,,008,01,, 2,,20140120,112548,-13.9998, 162.9998, 4101,   1900.4,   2.4540,    34.6250,0,    34.6250,2,      135.6,0,      138.2,2
PANDORA,,008,01,, 3,,20140120,112548,-13.9998, 162.9998, 4101,   1664.9,   2.7600,    34.6000,0,    34.5990,2,      133.9,0,      135.5,2
PANDORA,,008,01,, 4,,20140120,112548,-13.9998, 162.9998, 4101,   1465.5,   3.0380,    34.5790,0,    34.5790,2,      135.4,0,      137.0,2
PANDORA,,008,01,, 5,,20140120,112548,-13.9998, 162.9998, 4101,   1265.5,   3.4250,    34.5530,0,    34.5530,2,      135.8,0,      136.2,2
PANDORA,,008,01,, 6,,20140120,112548,-13.9998, 162.9998, 4101,   1065.8,   3.8510,    34.5170,0,    34.5170,2,      143.5,0,      144.3,2
PANDORA,,008,01,, 7,,20140120,112548,-13.9998, 162.9998, 4101,   1065.9,   3.8530,    34.5170,0,    34.5170,2,      143.6,0,      143.9,2
PANDORA,,008,01,, 8,,20140120,112548,-13.9998, 162.9998, 4101,    935.4,   4.2470,    34.4840,0,  -999.0000,9,      151.8,0,     -999.0,9
PANDORA,,008,01,, 9,,20140120,112548,-13.9998, 162.9998, 4101,    835.6,   4.6530,    34.4580,0,    34.4570,2,      158.3,0,      158.9,2
PANDORA,,008,01,,10,,20140120,112548,-13.9998, 162.9998, 4101,    735.4,   5.3920,    34.4410,0,    34.4410,2,      164.0,0,      163.9,2
PANDORA,,008,01,,11,,20140120,112548,-13.9998, 162.9998, 4101,    636.1,   6.4360,    34.4470,0,    34.4470,2,      169.5,0,      170.0,2
PANDORA,,008,01,,12,,20140120,112548,-13.9998, 162.9998, 4101,    536.3,   7.8310,    34.5250,0,    34.5240,2,      166.0,0,      166.3,2
PANDORA,,008,01,,13,,20140120,112548,-13.9998, 162.9998, 4101,    436.6,  10.1940,    34.7010,0,    34.7010,2,      154.2,0,      153.9,2
PANDORA,,008,01,,14,,20140120,112548,-13.9998, 162.9998, 4101,    336.2,  14.7030,    35.1150,0,    35.1140,2,      147.1,0,      148.1,2
PANDORA,,008,01,,15,,20140120,112548,-13.9998, 162.9998, 4101,    266.3,  18.2850,    35.4840,0,    35.4830,2,      145.0,0,      145.4,2
PANDORA,,008,01,,16,,20140120,112548,-13.9998, 162.9998, 4101,    214.7,  20.4800,    35.6980,0,    35.6960,2,      135.8,0,      136.0,2
PANDORA,,008,01,,17,,20140120,112548,-13.9998, 162.9998, 4101,    150.4,  24.8470,    35.6380,0,    35.6360,2,      142.1,0,      144.7,3
PANDORA,,008,01,,18,,20140120,112548,-13.9998, 162.9998, 4101,    101.4,  26.6770,    35.4070,0,    35.4040,2,      153.3,0,      154.4,2
PANDORA,,008,01,,19,,20140120,112548,-13.9998, 162.9998, 4101,     75.0,  27.5010,    34.7650,0,  -999.0000,9,      186.9,0,     -999.0,9
PANDORA,,008,01,,20,,20140120,112548,-13.9998, 162.9998, 4101,     50.5,  27.5030,    34.7220,0,    34.7190,2,      189.8,0,      191.5,2
PANDORA,,008,01,,21,,20140120,112548,-13.9998, 162.9998, 4101,     24.8,  27.5610,    34.5960,0,  -999.0000,9,      190.8,0,     -999.0,9
PANDORA,,008,01,,22,,20140120,112548,-13.9998, 162.9998, 4101,      3.9,  27.5990,    34.5610,0,  -999.0000,9,      191.0,0,     -999.0,9
PANDORA,,009,01,, 1,,20140120,190854,-12.9995, 162.9968, 4468,   2000.9,   2.2870,    34.6370,0,    34.6360,2,      135.8,0,      139.1,2
PANDORA,,009,01,, 2,,20140120,190854,-12.9995, 162.9968, 4468,   1900.7,   2.3510,    34.6300,0,    34.6300,2,      133.9,0,      136.7,2
PANDORA,,009,01,, 3,,20140120,190854,-12.9995, 162.9968, 4468,   1665.5,   2.6230,    34.6090,0,    34.6090,2,      132.5,0,      135.1,2
PANDORA,,009,01,, 4,,20140120,190854,-12.9995, 162.9968, 4468,   1465.7,   2.8430,    34.5940,0,    34.5940,2,      132.4,0,      133.7,2
PANDORA,,009,01,, 5,,20140120,190854,-12.9995, 162.9968, 4468,   1265.7,   3.2640,    34.5640,0,    34.5640,2,      134.3,0,      135.1,2
PANDORA,,009,01,, 6,,20140120,190854,-12.9995, 162.9968, 4468,   1065.6,   3.7680,    34.5320,0,    34.5320,2,      136.9,0,      137.3,2
PANDORA,,009,01,, 7,,20140120,190854,-12.9995, 162.9968, 4468,    934.2,   4.2340,    34.5080,0,    34.5080,2,      140.3,0,      140.8,2
PANDORA,,009,01,, 8,,20140120,190854,-12.9995, 162.9968, 4468,    836.3,   4.6800,    34.4830,0,  -999.0000,9,      147.5,0,     -999.0,9
PANDORA,,009,01,, 9,,20140120,190854,-12.9995, 162.9968, 4468,    737.6,   5.2070,    34.4620,0,    34.4610,2,      155.5,0,      156.2,2
PANDORA,,009,01,,10,,20140120,190854,-12.9995, 162.9968, 4468,    736.9,   5.2130,    34.4610,0,    34.4610,2,      155.4,0,      155.4,2
PANDORA,,009,01,,11,,20140120,190854,-12.9995, 162.9968, 4468,    635.4,   5.9580,    34.4590,0,  -999.0000,9,      160.6,0,     -999.0,9
PANDORA,,009,01,,12,,20140120,190854,-12.9995, 162.9968, 4468,    536.7,   7.1910,    34.5000,0,    34.4990,2,      160.8,0,      160.9,2
PANDORA,,009,01,,13,,20140120,190854,-12.9995, 162.9968, 4468,    436.0,   9.6950,    34.6600,0,  -999.0000,9,      156.6,0,     -999.0,9
PANDORA,,009,01,,14,,20140120,190854,-12.9995, 162.9968, 4468,    335.1,  14.5670,    35.1140,0,    35.1130,2,      135.7,0,      135.2,2
PANDORA,,009,01,,15,,20140120,190854,-12.9995, 162.9968, 4468,    266.6,  18.6170,    35.5280,0,  -999.0000,9,      141.4,0,     -999.0,9
PANDORA,,009,01,,16,,20140120,190854,-12.9995, 162.9968, 4468,    216.8,  21.4530,    35.7970,0,    35.7950,2,      124.0,0,      124.6,2
PANDORA,,009,01,,17,,20140120,190854,-12.9995, 162.9968, 4468,    150.6,  25.3250,    35.7690,0,  -999.0000,9,      127.3,0,     -999.0,9
PANDORA,,009,01,,18,,20140120,190854,-12.9995, 162.9968, 4468,     99.7,  27.7780,    35.5160,0,    35.5130,2,      145.1,0,      144.9,2
PANDORA,,009,01,,19,,20140120,190854,-12.9995, 162.9968, 4468,     74.7,  28.0720,    34.7100,0,  -999.0000,9,      186.2,0,     -999.0,9
PANDORA,,009,01,,20,,20140120,190854,-12.9995, 162.9968, 4468,     50.8,  27.9510,    34.6050,0,  -999.0000,9,      188.6,0,     -999.0,9
PANDORA,,009,01,,21,,20140120,190854,-12.9995, 162.9968, 4468,     24.4,  27.8920,    34.5750,0,  -999.0000,9,      189.1,0,     -999.0,9
PANDORA,,009,01,,22,,20140120,190854,-12.9995, 162.9968, 4468,      5.3,  27.8800,    34.5750,0,    34.5730,2,      189.0,0,      191.0,2
PANDORA,,010,02,, 1,,20140120,050207,-12.0015, 162.9995, 5092,   1001.3,   4.0200,    34.5210,0,  -999.0000,9,      138.0,0,     -999.0,9
PANDORA,,010,02,, 2,,20140120,050207,-12.0015, 162.9995, 5092,   1001.0,   4.0210,    34.5210,0,  -999.0000,9,      138.2,0,     -999.0,9
PANDORA,,010,02,, 3,,20140120,050207,-12.0015, 162.9995, 5092,   1001.0,   4.0190,    34.5210,0,  -999.0000,9,      138.1,0,     -999.0,9
PANDORA,,010,02,, 4,,20140120,050207,-12.0015, 162.9995, 5092,   1001.2,   4.0180,    34.5210,0,  -999.0000,9,      138.2,0,     -999.0,9
PANDORA,,010,02,, 5,,20140120,050207,-12.0015, 162.9995, 5092,   1001.6,   4.0140,    34.5210,0,  -999.0000,9,      138.1,0,     -999.0,9
PANDORA,,010,02,, 6,,20140120,050207,-12.0015, 162.9995, 5092,   1001.3,   4.0170,    34.5210,0,  -999.0000,9,      138.1,0,     -999.0,9
PANDORA,,010,02,, 7,,20140120,050207,-12.0015, 162.9995, 5092,   1001.8,   4.0170,    34.5210,0,  -999.0000,9,      137.8,0,     -999.0,9
PANDORA,,010,02,, 8,,20140120,050207,-12.0015, 162.9995, 5092,   1000.9,   4.0220,    34.5210,0,  -999.0000,9,      137.9,0,     -999.0,9
PANDORA,,010,02,, 9,,20140120,050207,-12.0015, 162.9995, 5092,   1001.9,   4.0200,    34.5210,0,  -999.0000,9,      137.9,0,     -999.0,9
PANDORA,,010,02,,10,,20140120,050207,-12.0015, 162.9995, 5092,   1002.3,   4.0160,    34.5210,0,  -999.0000,9,      137.9,0,     -999.0,9
PANDORA,,010,02,,11,,20140120,050207,-12.0015, 162.9995, 5092,   1002.2,   4.0130,    34.5210,0,  -999.0000,9,      137.7,0,     -999.0,9
PANDORA,,010,02,,12,,20140120,050207,-12.0015, 162.9995, 5092,    511.4,   7.6770,    34.5230,0,  -999.0000,9,      162.3,0,     -999.0,9
PANDORA,,010,02,,13,,20140120,050207,-12.0015, 162.9995, 5092,    510.6,   7.7210,    34.5230,0,  -999.0000,9,      162.2,0,     -999.0,9
PANDORA,,010,02,,14,,20140120,050207,-12.0015, 162.9995, 5092,    511.0,   7.6890,    34.5220,0,  -999.0000,9,      162.3,0,     -999.0,9
PANDORA,,010,02,,15,,20140120,050207,-12.0015, 162.9995, 5092,    511.0,   7.6840,    34.5220,0,  -999.0000,9,      162.3,0,     -999.0,9
PANDORA,,010,02,,16,,20140120,050207,-12.0015, 162.9995, 5092,    511.0,   7.6840,    34.5220,0,  -999.0000,9,      162.3,0,     -999.0,9
PANDORA,,010,02,,17,,20140120,050207,-12.0015, 162.9995, 5092,    511.2,   7.6780,    34.5210,0,  -999.0000,9,      162.3,0,     -999.0,9
PANDORA,,010,02,,18,,20140120,050207,-12.0015, 162.9995, 5092,    510.9,   7.6920,    34.5220,0,  -999.0000,9,      162.3,0,     -999.0,9
PANDORA,,010,02,,19,,20140120,050207,-12.0015, 162.9995, 5092,    511.5,   7.6700,    34.5210,0,  -999.0000,9,      162.5,0,     -999.0,9
PANDORA,,010,02,,20,,20140120,050207,-12.0015, 162.9995, 5092,    511.4,   7.6760,    34.5210,0,  -999.0000,9,      162.5,0,     -999.0,9
PANDORA,,010,02,,21,,20140120,050207,-12.0015, 162.9995, 5092,    510.4,   7.6930,    34.5220,0,  -999.0000,9,      162.3,0,     -999.0,9
PANDORA,,010,02,,22,,20140120,050207,-12.0015, 162.9995, 5092,    512.0,   7.6720,    34.5210,0,  -999.0000,9,      162.5,0,     -999.0,9