BOTTLE,20140909LEGIRDAG
EXPOCODE,SECT_ID,STNNBR,CASTNO,SAMPNO,BTLNBR,BTLNBR_FLAG_W,DATE,TIME,LATITUDE,LONGITUDE,DEPTH,CTDPRS,CTDTMP,CTDSAL,CTDSAL_FLAG_W,SALNTY,SALNTY_FLAG_W,CTDOXY,CTDOXY_FLAG_W,OXYGEN,OXYGEN_FLAG_W
,,,,,,,,,,,,,DBARS,ITS-90,PSS-78,,PSS-78,,UMOL/KG,,UMOL/KG,
PANDORA,,028,01,, 1,,20140120,192843,-10.9338, 156.7060, 3263,   3166.1,   1.8720,    34.7060,0,    34.7050,2,      164.3,0,      166.9,3
PANDORA,,028,01,, 2,,20140120,192843,-10.9338, 156.7060, 3263,   3167.0,   1.8720,    34.7060,0,    34.7050,2,      165.0,0,      169.8,2
PANDORA,,028,01,, 3,,20140120,192843,-10.9338, 156.7060, 3263,   2626.8,   1.9710,    34.6820,0,    34.6820,2,      148.1,0,      153.6,2
PANDORA,,028,01,, 4,,20140120,192843,-10.9338, 156.7060, 3263,   2383.9,   2.0530,    34.6690,0,    34.6690,2,      143.4,0,      147.1,2
PANDORA,,028,01,, 5,,20140120,192843,-10.9338, 156.7060, 3263,   2386.4,   2.0530,    34.6690,0,    34.6690,2,      143.2,0,      146.3,2
PANDORA,,028,01,, 6,,20140120,192843,-10.9338, 156.7060, 3263,   2117.3,   2.1970,    34.6520,0,    34.6520,2,      138.6,0,      141.7,2
PANDORA,,028,01,, 7,,20140120,192843,-10.9338, 156.7060, 3263,   1869.8,   2.4560,    34.6290,0,    34.6280,2,      133.0,0,      135.7,2
PANDORA,,028,01,, 8,,20140120,192843,-10.9338, 156.7060, 3263,   1665.3,   2.6280,    34.6140,0,    34.6140,2,      131.5,0,      136.9,3
PANDORA,,028,01,, 9,,20140120,192843,-10.9338, 156.7060, 3263,   1467.3,   2.9320,    34.5920,0,  -999.0000,9,      131.1,0,     -999.0,9
PANDORA,,028,01,,10,,20140120,192843,-10.9338, 156.7060, 3263,   1264.7,   3.3840,    34.5650,0,    34.5650,2,      131.9,0,      132.5,2
PANDORA,,028,01,,11,,20140120,192843,-10.9338, 156.7060, 3263,   1064.4,   3.8700,    34.5360,0,  -999.0000,9,      135.3,0,     -999.0,9
PANDORA,,028,01,,12,,20140120,192843,-10.9338, 156.7060, 3263,    836.6,   4.8060,    34.4820,0,    34.4820,2,      150.1,0,      151.2,2
PANDORA,,028,01,,13,,20140120,192843,-10.9338, 156.7060, 3263,    735.9,   5.2720,    34.4710,0,  -999.0000,9,      154.3,0,     -999.0,9
PANDORA,,028,01,,14,,20140120,192843,-10.9338, 156.7060, 3263,    636.9,   5.9810,    34.4840,0,    34.4840,2,      151.2,0,      152.0,2
PANDORA,,028,01,,15,,20140120,192843,-10.9338, 156.7060, 3263,    532.6,   7.1200,    34.5140,0,  -999.0000,9,      156.3,0,     -999.0,9
PANDORA,,028,01,,16,,20140120,192843,-10.9338, 156.7060, 3263,    436.8,   8.9580,    34.6390,0,    34.6380,2,      145.5,0,      146.4,2
PANDORA,,028,01,,17,,20140120,192843,-10.9338, 156.7060, 3263,    336.2,  12.3470,    34.9250,0,  -999.0000,9,      125.8,0,     -999.0,9
PANDORA,,028,01,,18,,20140120,192843,-10.9338, 156.7060, 3263,    234.2,  19.5350,    35.6330,0,    35.6320,2,      122.5,0,      123.8,2
PANDORA,,028,01,,19,,20140120,192843,-10.9338, 156.7060, 3263,    156.8,  24.3850,    35.8610,0,  -999.0000,9,      129.9,0,     -999.0,9
PANDORA,,028,01,,20,,20140120,192843,-10.9338, 156.7060, 3263,    116.0,  27.0240,    35.5480,0,  -999.0000,9,      143.6,0,     -999.0,9
PANDORA,,028,01,,21,,20140120,192843,-10.9338, 156.7060, 3263,     62.7,  28.6490,    34.7390,0,    34.7360,2,      186.1,0,      189.5,2
PANDORA,,028,01,,22,,20140120,192843,-10.9338, 156.7060, 3263,     13.5,  28.6340,    34.7390,0,  -999.0000,9,      186.1,0,     -999.0,9
PANDORA,,029,01,, 1,,20140120,043008,-11.0605, 156.2155, 3856,   2999.1,   1.9170,    34.7000,0,    34.6990,2,      160.9,0,      166.3,2
PANDORA,,029,01,, 2,,20140120,043008,-11.0605, 156.2155, 3856,   2998.9,   1.9170,    34.7000,0,  -999.0000,9,      161.1,0,     -999.0,9
PANDORA,,029,01,, 3,,20140120,043008,-11.0605, 156.2155, 3856,   3001.3,   1.9170,    34.7000,0,    34.6990,2,      160.4,0,      167.1,2
PANDORA,,029,01,, 4,,20140120,043008,-11.0605, 156.2155, 3856,   2873.6,   1.9760,    34.6910,0,  -999.0000,9,      155.6,0,     -999.0,9
PANDORA,,029,01,, 5,,20140120,043008,-11.0605, 156.2155, 3856,   2499.0,   2.0640,    34.6720,0,    34.6720,2,      145.5,0,      149.2,2
PANDORA,,029,01,, 6,,20140120,043008,-11.0605, 156.2155, 3856,   2203.1,   2.1570,    34.6570,0,  -999.0000,9,      139.1,0,     -999.0,9
PANDORA,,029,01,, 7,,20140120,043008,-11.0605, 156.2155, 3856,   1936.0,   2.3260,    34.6400,0,    34.6400,2,      135.8,0,      138.7,2
PANDORA,,029,01,, 8,,20140120,043008,-11.0605, 156.2155, 3856,   1734.7,   2.5650,    34.6200,0,  -999.0000,9,      131.7,0,     -999.0,9
PANDORA,,029,01,, 9,,20140120,043008,-11.0605, 156.2155, 3856,   1533.6,   2.9050,    34.5940,0,    34.5940,2,      130.2,0,      134.3,2
PANDORA,,029,01,,10,,20140120,043008,-11.0605, 156.2155, 3856,   1336.9,   3.3490,    34.5660,0,  -999.0000,9,      133.5,0,     -999.0,9
PANDORA,,029,01,,11,,20140120,043008,-11.0605, 156.2155, 3856,   1140.7,   3.7960,    34.5360,0,    34.5350,2,      137.5,0,      139.4,2
PANDORA,,029,01,,12,,20140120,043008,-11.0605, 156.2155, 3856,   1035.2,   4.0880,    34.5200,0,  -999.0000,9,      139.1,0,     -999.0,9
PANDORA,,029,01,,13,,20140120,043008,-11.0605, 156.2155, 3856,    935.3,   4.3500,    34.4960,0,    34.4960,2,      149.5,0,      152.9,2
PANDORA,,029,01,,14,,20140120,043008,-11.0605, 156.2155, 3856,    736.6,   5.3210,    34.4670,0,  -999.0000,9,      157.7,0,     -999.0,9
PANDORA,,029,01,,15,,20140120,043008,-11.0605, 156.2155, 3856,    564.2,   6.4080,    34.4710,0,    34.4700,2,      166.4,0,      168.3,3
PANDORA,,029,01,,16,,20140120,043008,-11.0605, 156.2155, 3856,    465.9,   8.0820,    34.5700,0,  -999.0000,9,      161.2,0,     -999.0,9
PANDORA,,029,01,,17,,20140120,043008,-11.0605, 156.2155, 3856,    364.9,  11.4160,    34.8430,0,    34.8420,2,      132.6,0,      131.8,2
PANDORA,,029,01,,18,,20140120,043008,-11.0605, 156.2155, 3856,    265.7,  16.8720,    35.3490,0,  -999.0000,9,      121.5,0,     -999.0,9
PANDORA,,029,01,,19,,20140120,043008,-11.0605, 156.2155, 3856,    176.3,  23.3960,    35.8550,0,  -999.0000,9,      127.7,0,     -999.0,9
PANDORA,,029,01,,20,,20140120,043008,-11.0605, 156.2155, 3856,    149.8,  25.1490,    35.8060,0,  -999.0000,9,      132.0,0,     -999.0,9
PANDORA,,029,01,,21,,20140120,043008,-11.0605, 156.2155, 3856,    101.5,  27.5070,    35.5660,0,  -999.0000,9,      148.4,0,     -999.0,9
PANDORA,,029,01,,22,,20140120,043008,-11.0605, 156.2155, 3856,     52.8,  28.5800,    34.6940,0,  -999.0000,9,      187.8,0,     -999.0,9
PANDORA,,030,01,, 1,,20140120,095914,-11.1762, 155.7282, 3856,   2323.4,   2.1070,    34.6640,0,  -999.0000,9,      142.9,0,     -999.0,9
PANDORA,,030,01,, 2,,20140120,095914,-11.1762, 155.7282, 3856,   2301.9,   2.1260,    34.6620,0,  -999.0000,9,      141.9,0,     -999.0,9
PANDORA,,030,01,, 3,,20140120,095914,-11.1762, 155.7282, 3856,   2000.2,   2.3730,    34.6360,0,  -999.0000,9,      134.6,0,     -999.0,9
PANDORA,,030,01,, 4,,20140120,095914,-11.1762, 155.7282, 3856,   1803.1,   2.5610,    34.6200,0,  -999.0000,9,      133.1,0,     -999.0,9
PANDORA,,030,01,, 5,,20140120,095914,-11.1762, 155.7282, 3856,   1600.6,   2.8810,    34.5970,0,  -999.0000,9,      130.5,0,     -999.0,9
PANDORA,,030,01,, 6,,20140120,095914,-11.1762, 155.7282, 3856,   1399.4,   3.2870,    34.5690,0,  -999.0000,9,      132.9,0,     -999.0,9
PANDORA,,030,01,, 7,,20140120,095914,-11.1762, 155.7282, 3856,   1400.8,   3.2880,    34.5690,0,  -999.0000,9,      132.5,0,     -999.0,9
PANDORA,,030,01,, 8,,20140120,095914,-11.1762, 155.7282, 3856,   1203.5,   3.6790,    34.5460,0,  -999.0000,9,      134.5,0,     -999.0,9
PANDORA,,030,01,, 9,,20140120,095914,-11.1762, 155.7282, 3856,   1003.5,   4.2530,    34.5090,0,  -999.0000,9,      142.4,0,     -999.0,9
PANDORA,,030,01,,10,,20140120,095914,-11.1762, 155.7282, 3856,    901.2,   4.6360,    34.4830,0,  -999.0000,9,      150.8,0,     -999.0,9
PANDORA,,030,01,,11,,20140120,095914,-11.1762, 155.7282, 3856,    802.8,   5.0160,    34.4710,0,  -999.0000,9,      156.3,0,     -999.0,9
PANDORA,,030,01,,12,,20140120,095914,-11.1762, 155.7282, 3856,    700.3,   5.3820,    34.4590,0,  -999.0000,9,      162.3,0,     -999.0,9
PANDORA,,030,01,,13,,20140120,095914,-11.1762, 155.7282, 3856,    600.0,   6.1970,    34.4580,0,  -999.0000,9,      173.1,0,     -999.0,9
PANDORA,,030,01,,14,,20140120,095914,-11.1762, 155.7282, 3856,    501.8,   7.7120,    34.5470,0,  -999.0000,9,      156.9,0,     -999.0,9
PANDORA,,030,01,,15,,20140120,095914,-11.1762, 155.7282, 3856,    399.7,  10.7310,    34.7910,0,  -999.0000,9,      133.6,0,     -999.0,9
PANDORA,,030,01,,16,,20140120,095914,-11.1762, 155.7282, 3856,    297.8,  15.8250,    35.2470,0,  -999.0000,9,      116.7,0,     -999.0,9
PANDORA,,030,01,,17,,20140120,095914,-11.1762, 155.7282, 3856,    251.9,  17.6750,    35.4280,0,  -999.0000,9,      112.0,0,     -999.0,9
PANDORA,,030,01,,18,,20140120,095914,-11.1762, 155.7282, 3856,    199.7,  20.6340,    35.6990,0,  -999.0000,9,      119.4,0,     -999.0,9
PANDORA,,030,01,,19,,20140120,095914,-11.1762, 155.7282, 3856,    150.6,  23.8630,    35.7700,0,  -999.0000,9,      129.8,0,     -999.0,9
PANDORA,,030,01,,20,,20140120,095914,-11.1762, 155.7282, 3856,     98.8,  26.4280,    35.4300,0,  -999.0000,9,      143.5,0,     -999.0,9
PANDORA,,030,01,,21,,20140120,095914,-11.1762, 155.7282, 3856,     52.1,  28.5050,    34.7940,0,  -999.0000,9,      185.9,0,     -999.0,9
PANDORA,,030,01,,22,,20140120,095914,-11.1762, 155.7282, 3856,     11.3,  28.4920,    34.7920,0,  -999.0000,9,      186.3,0,     -999.0,9
PANDORA,,031,01,, 1,,20140120,133348,-11.2378, 155.4820, 2396,   2306.6,   2.1640,    34.6580,0,    34.6580,2,      141.0,0,      147.8,2
PANDORA,,031,01,, 2,,20140120,133348,-11.2378, 155.4820, 2396,   2305.0,   2.1650,    34.6580,0,    34.6580,2,      140.8,0,      144.7,2
PANDORA,,031,01,, 3,,20140120,133348,-11.2378, 155.4820, 2396,   2104.4,   2.2650,    34.6460,0,    34.6460,2,      137.9,0,      140.9,2
PANDORA,,031,01,, 4,,20140120,133348,-11.2378, 155.4820, 2396,   1863.7,   2.4840,    34.6270,0,    34.6270,2,      133.3,0,      136.3,2
PANDORA,,031,01,, 5,,20140120,133348,-11.2378, 155.4820, 2396,   1666.2,   2.6790,    34.6120,0,    34.6110,2,      131.7,0,      134.4,2
PANDORA,,031,01,, 6,,20140120,133348,-11.2378, 155.4820, 2396,   1465.2,   3.1440,    34.5790,0,    34.5780,2,      131.5,0,      133.6,2
PANDORA,,031,01,, 7,,20140120,133348,-11.2378, 155.4820, 2396,   1267.1,   3.5430,    34.5530,0,    34.5530,2,      134.4,0,      135.8,2
PANDORA,,031,01,, 8,,20140120,133348,-11.2378, 155.4820, 2396,   1268.6,   3.5510,    34.5530,0,    34.5530,2,      133.8,0,      135.9,2
PANDORA,,031,01,, 9,,20140120,133348,-11.2378, 155.4820, 2396,   1067.4,   4.1120,    34.5200,0,  -999.0000,9,      138.6,0,     -999.0,9
PANDORA,,031,01,,10,,20140120,133348,-11.2378, 155.4820, 2396,    935.3,   4.5010,    34.4990,0,    34.4990,2,      143.9,0,      144.9,2
PANDORA,,031,01,,11,,20140120,133348,-11.2378, 155.4820, 2396,    834.5,   4.9650,    34.4750,0,  -999.0000,9,      152.1,0,     -999.0,9
PANDORA,,031,01,,12,,20140120,133348,-11.2378, 155.4820, 2396,    735.1,   5.4900,    34.4690,0,    34.4690,2,      155.7,0,      157.1,3
PANDORA,,031,01,,13,,20140120,133348,-11.2378, 155.4820, 2396,    634.5,   6.2450,    34.4790,0,  -999.0000,9,      157.7,0,     -999.0,9
PANDORA,,031,01,,14,,20140120,133348,-11.2378, 155.4820, 2396,    534.8,   7.5220,    34.5320,0,    34.5310,2,      160.6,0,      159.2,3
PANDORA,,031,01,,15,,20140120,133348,-11.2378, 155.4820, 2396,    436.2,   9.5510,    34.6880,0,  -999.0000,9,      144.7,0,     -999.0,9
PANDORA,,031,01,,16,,20140120,133348,-11.2378, 155.4820, 2396,    335.7,  13.1920,    35.0010,0,    35.0000,2,      119.7,0,      120.7,2
PANDORA,,031,01,,17,,20140120,133348,-11.2378, 155.4820, 2396,    266.5,  17.0910,    35.3690,0,  -999.0000,9,      115.5,0,     -999.0,9
PANDORA,,031,01,,18,,20140120,133348,-11.2378, 155.4820, 2396,    217.8,  19.2120,    35.5770,0,    35.5750,2,      116.4,0,      117.3,2
PANDORA,,031,01,,19,,20140120,133348,-11.2378, 155.4820, 2396,    164.9,  23.2650,    35.7620,0,    35.7600,2,      128.7,0,      131.0,2
PANDORA,,031,01,,20,,20140120,133348,-11.2378, 155.4820, 2396,    116.2,  26.6300,    35.4650,0,    35.4630,2,      141.3,0,      144.3,2
PANDORA,,031,01,,21,,20140120,133348,-11.2378, 155.4820, 2396,     61.1,  28.2390,    34.7270,0,    34.7250,2,      187.1,0,      190.5,2
PANDORA,,031,01,,22,,20140120,133348,-11.2378, 155.4820, 2396,      4.7,  28.2630,    34.7190,0,    34.7170,2,      187.8,0,      193.1,2
PANDORA,,032,01,, 1,,20140120,172207,-11.2998, 155.2453, 2252,   2200.8,   2.2250,    34.6510,0,    34.6510,2,      138.7,0,      143.4,2
PANDORA,,032,01,, 2,,20140120,172207,-11.2998, 155.2453, 2252,   2202.1,   2.2230,    34.6520,0,    34.6510,2,      138.4,0,      142.6,2
PANDORA,,032,01,, 3,,20140120,172207,-11.2998, 155.2453, 2252,   2100.3,   2.2780,    34.6460,0,    34.6450,2,      137.1,0,      141.0,2
PANDORA,,032,01,, 4,,20140120,172207,-11.2998, 155.2453, 2252,   1864.8,   2.4820,    34.6260,0,    34.6250,2,      132.8,0,      136.1,2
PANDORA,,032,01,, 5,,20140120,172207,-11.2998, 155.2453, 2252,   1662.7,   2.7950,    34.6040,0,    34.6030,2,      131.4,0,      133.5,2
PANDORA,,032,01,, 6,,20140120,172207,-11.2998, 155.2453, 2252,   1467.5,   3.1290,    34.5790,0,    34.5790,2,      131.6,0,      134.4,2
PANDORA,,032,01,, 7,,20140120,172207,-11.2998, 155.2453, 2252,   1263.1,   3.5870,    34.5510,0,    34.5510,2,      134.6,0,      137.5,2
PANDORA,,032,01,, 8,,20140120,172207,-11.2998, 155.2453, 2252,   1262.5,   3.5950,    34.5500,0,    34.5500,2,      134.3,0,      136.4,2
PANDORA,,032,01,, 9,,20140120,172207,-11.2998, 155.2453, 2252,   1065.2,   4.1090,    34.5170,0,  -999.0000,9,      141.1,0,     -999.0,9
PANDORA,,032,01,,10,,20140120,172207,-11.2998, 155.2453, 2252,    934.8,   4.5590,    34.4930,0,    34.4930,2,      146.4,0,      148.1,2
PANDORA,,032,01,,11,,20140120,172207,-11.2998, 155.2453, 2252,    836.2,   4.9650,    34.4790,0,  -999.0000,9,      149.9,0,     -999.0,9
PANDORA,,032,01,,12,,20140120,172207,-11.2998, 155.2453, 2252,    736.1,   5.4380,    34.4710,0,    34.4710,2,      152.8,0,      156.7,3
PANDORA,,032,01,,13,,20140120,172207,-11.2998, 155.2453, 2252,    635.5,   5.9730,    34.4590,0,  -999.0000,9,      166.0,0,     -999.0,9
PANDORA,,032,01,,14,,20140120,172207,-11.2998, 155.2453, 2252,    536.3,   7.2550,    34.5080,0,    34.5070,2,      168.6,0,      170.0,2
PANDORA,,032,01,,15,,20140120,172207,-11.2998, 155.2453, 2252,    435.4,   9.8240,    34.7080,0,  -999.0000,9,      141.3,0,     -999.0,9
PANDORA,,032,01,,16,,20140120,172207,-11.2998, 155.2453, 2252,    335.2,  14.2290,    35.0960,0,    35.0950,2,      115.3,0,      116.1,2
PANDORA,,032,01,,17,,20140120,172207,-11.2998, 155.2453, 2252,    267.3,  17.1890,    35.3800,0,  -999.0000,9,      124.0,0,     -999.0,9
PANDORA,,032,01,,18,,20140120,172207,-11.2998, 155.2453, 2252,    215.6,  20.2670,    35.6710,0,    35.6700,2,      126.6,0,      128.4,2
PANDORA,,032,01,,19,,20140120,172207,-11.2998, 155.2453, 2252,    166.2,  23.3980,    35.7560,0,    35.7540,2,      131.7,0,      134.1,2
PANDORA,,032,01,,20,,20140120,172207,-11.2998, 155.2453, 2252,    115.3,  25.1340,    35.5750,0,    35.5730,2,      140.0,0,      143.7,2
PANDORA,,032,01,,21,,20140120,172207,-11.2998, 155.2453, 2252,     61.8,  28.0080,    34.7210,0,    34.7190,2,      185.7,0,      190.0,2
PANDORA,,032,01,,22,,20140120,172207,-11.2998, 155.2453, 2252,      7.3,  27.8840,    34.6580,0,    34.6550,2,      188.2,0,      192.0,2
PANDORA,,033,01,, 1,,20140120,210312,-11.3698, 154.9990, 2277,   2180.6,   2.2490,    34.6500,0,    34.6500,2,      137.9,0,      141.5,2
PANDORA,,033,01,, 2,,20140120,210312,-11.3698, 154.9990, 2277,   2180.7,   2.2490,    34.6500,0,  -999.0000,9,      138.0,0,     -999.0,9
PANDORA,,033,01,, 3,,20140120,210312,-11.3698, 154.9990, 2277,   2001.0,   2.3360,    34.6410,0,    34.6410,2,      136.0,0,      140.0,2
PANDORA,,033,01,, 4,,20140120,210312,-11.3698, 154.9990, 2277,   1801.7,   2.5920,    34.6190,0,  -999.0000,9,      132.8,0,     -999.0,9
PANDORA,,033,01,, 5,,20140120,210312,-11.3698, 154.9990, 2277,   1601.5,   2.8280,    34.6010,0,    34.6000,2,      131.2,0,      134.4,2
PANDORA,,033,01,, 6,,20140120,210312,-11.3698, 154.9990, 2277,   1401.6,   3.2310,    34.5730,0,  -999.0000,9,      132.2,0,     -999.0,9
PANDORA,,033,01,, 7,,20140120,210312,-11.3698, 154.9990, 2277,   1202.3,   3.7590,    34.5420,0,    34.5410,2,      134.8,0,      136.2,2
PANDORA,,033,01,, 8,,20140120,210312,-11.3698, 154.9990, 2277,   1007.0,   4.3770,    34.5010,0,  -999.0000,9,      145.7,0,     -999.0,9
PANDORA,,033,01,, 9,,20140120,210312,-11.3698, 154.9990, 2277,    899.0,   4.8220,    34.4860,0,    34.4850,2,      147.0,0,      148.5,2
PANDORA,,033,01,,10,,20140120,210312,-11.3698, 154.9990, 2277,    898.1,   4.8380,    34.4860,0,  -999.0000,9,      147.4,0,     -999.0,9
PANDORA,,033,01,,11,,20140120,210312,-11.3698, 154.9990, 2277,    800.8,   5.2780,    34.4650,0,    34.4650,2,      157.3,0,      159.1,2
PANDORA,,033,01,,12,,20140120,210312,-11.3698, 154.9990, 2277,    703.1,   5.8970,    34.4650,0,  -999.0000,9,      161.2,0,     -999.0,9
PANDORA,,033,01,,13,,20140120,210312,-11.3698, 154.9990, 2277,    601.1,   6.9620,    34.4970,0,    34.4970,2,      165.9,0,      167.6,2
PANDORA,,033,01,,14,,20140120,210312,-11.3698, 154.9990, 2277,    499.5,   8.4100,    34.5900,0,  -999.0000,9,      158.1,0,     -999.0,9
PANDORA,,033,01,,15,,20140120,210312,-11.3698, 154.9990, 2277,    403.6,  11.2340,    34.8250,0,    34.8240,2,      131.1,0,      132.1,2
PANDORA,,033,01,,16,,20140120,210312,-11.3698, 154.9990, 2277,    301.2,  15.3360,    35.2000,0,  -999.0000,9,      116.9,0,     -999.0,9
PANDORA,,033,01,,17,,20140120,210312,-11.3698, 154.9990, 2277,    252.1,  17.4200,    35.4090,0,    35.4070,2,      117.9,0,      119.2,2
PANDORA,,033,01,,18,,20140120,210312,-11.3698, 154.9990, 2277,    202.8,  20.8800,    35.7330,0,  -999.0000,9,      121.8,0,     -999.0,9
PANDORA,,033,01,,19,,20140120,210312,-11.3698, 154.9990, 2277,    152.6,  24.8890,    35.7920,0,  -999.0000,9,      128.3,0,     -999.0,9
PANDORA,,033,01,,20,,20140120,210312,-11.3698, 154.9990, 2277,     99.4,  26.9190,    35.5050,0,  -999.0000,9,      137.3,0,     -999.0,9
PANDORA,,033,01,,21,,20140120,210312,-11.3698, 154.9990, 2277,     50.8,  28.4580,    34.7940,0,  -999.0000,9,      182.2,0,     -999.0,9
PANDORA,,033,01,,22,,20140120,210312,-11.3698, 154.9990, 2277,     17.4,  28.4360,    34.7840,0,  -999.0000,9,      183.4,0,     -999.0,9