BOTTLE,20140909LEGIRDAG
EXPOCODE,SECT_ID,STNNBR,CASTNO,SAMPNO,BTLNBR,BTLNBR_FLAG_W,DATE,TIME,LATITUDE,LONGITUDE,DEPTH,CTDPRS,CTDTMP,CTDSAL,CTDSAL_FLAG_W,SALNTY,SALNTY_FLAG_W,CTDOXY,CTDOXY_FLAG_W,OXYGEN,OXYGEN_FLAG_W
,,,,,,,,,,,,,DBARS,ITS-90,PSS-78,,PSS-78,,UMOL/KG,,UMOL/KG,
PANDORA,,022,01,, 1,,20140120,132836,-10.1862, 159.6737, 4513,   3500.0,   1.8240,    34.7040,0,    34.7040,2,      161.9,0,      168.0,2
PANDORA,,022,01,, 2,,20140120,132836,-10.1862, 159.6737, 4513,   3499.5,   1.8230,    34.7040,0,    34.7040,2,      161.2,0,      168.7,2
PANDORA,,022,01,, 3,,20140120,132836,-10.1862, 159.6737, 4513,   3335.4,   1.8370,    34.7040,0,    34.7030,2,      161.7,0,      167.4,2
PANDORA,,022,01,, 4,,20140120,132836,-10.1862, 159.6737, 4513,   2876.1,   1.9110,    34.6900,0,    34.6900,2,      152.6,0,      157.7,2
PANDORA,,022,01,, 5,,20140120,132836,-10.1862, 159.6737, 4513,   2501.2,   2.0100,    34.6750,0,    34.6750,2,      147.0,0,      151.1,2
PANDORA,,022,01,, 6,,20140120,132836,-10.1862, 159.6737, 4513,   2205.8,   2.1260,    34.6580,0,    34.6580,2,      140.9,0,      145.0,2
PANDORA,,022,01,, 7,,20140120,132836,-10.1862, 159.6737, 4513,   1936.2,   2.3030,    34.6380,0,    34.6380,2,      134.7,0,      138.2,2
PANDORA,,022,01,, 8,,20140120,132836,-10.1862, 159.6737, 4513,   1736.3,   2.5320,    34.6190,0,    34.6190,2,      132.3,0,      138.3,3
PANDORA,,022,01,, 9,,20140120,132836,-10.1862, 159.6737, 4513,   1535.3,   2.7560,    34.6020,0,    34.6020,2,      131.4,0,      133.3,2
PANDORA,,022,01,,10,,20140120,132836,-10.1862, 159.6737, 4513,   1336.2,   3.2360,    34.5730,0,    34.5720,2,      132.0,0,      130.3,3
PANDORA,,022,01,,11,,20140120,132836,-10.1862, 159.6737, 4513,   1135.1,   3.9580,    34.5310,0,    34.5310,2,      136.6,0,      137.2,2
PANDORA,,022,01,,12,,20140120,132836,-10.1862, 159.6737, 4513,    934.5,   4.6300,    34.4960,0,    34.4960,2,      147.6,0,      149.6,2
PANDORA,,022,01,,13,,20140120,132836,-10.1862, 159.6737, 4513,    735.9,   5.4310,    34.4770,0,  -999.0000,9,      155.8,0,     -999.0,9
PANDORA,,022,01,,14,,20140120,132836,-10.1862, 159.6737, 4513,    564.7,   6.8270,    34.5010,0,    34.5000,2,      163.5,0,      164.9,2
PANDORA,,022,01,,15,,20140120,132836,-10.1862, 159.6737, 4513,    465.5,   7.8720,    34.5660,0,  -999.0000,9,      157.9,0,     -999.0,9
PANDORA,,022,01,,16,,20140120,132836,-10.1862, 159.6737, 4513,    364.7,   9.3780,    34.6840,0,    34.6830,2,      144.1,0,      145.9,3
PANDORA,,022,01,,17,,20140120,132836,-10.1862, 159.6737, 4513,    265.9,  13.4090,    35.0120,0,  -999.0000,9,      124.5,0,     -999.0,9
PANDORA,,022,01,,18,,20140120,132836,-10.1862, 159.6737, 4513,    177.1,  20.8840,    35.5720,0,    35.5710,2,      121.1,0,      121.5,2
PANDORA,,022,01,,19,,20140120,132836,-10.1862, 159.6737, 4513,    149.9,  24.3120,    35.8340,0,  -999.0000,9,      126.1,0,     -999.0,9
PANDORA,,022,01,,20,,20140120,132836,-10.1862, 159.6737, 4513,     86.3,  28.4130,    35.3750,0,    35.3720,2,      158.6,0,      159.1,2
PANDORA,,022,01,,21,,20140120,132836,-10.1862, 159.6737, 4513,     34.8,  28.8240,    34.7850,0,  -999.0000,9,      187.6,0,     -999.0,9
PANDORA,,022,01,,22,,20140120,132836,-10.1862, 159.6737, 4513,      6.2,  28.8190,    34.7820,0,    34.7800,2,      186.5,0,      190.6,2
PANDORA,,023,01,, 1,,20140120,192700,-10.3048, 159.1822, 3135,   3102.8,   1.8840,    34.6960,0,  -999.0000,9,      156.3,0,     -999.0,9
PANDORA,,023,01,, 2,,20140120,192700,-10.3048, 159.1822, 3135,   3103.5,   1.8840,    34.6960,0,    34.6950,2,      155.5,0,      162.0,2
PANDORA,,023,01,, 3,,20140120,192700,-10.3048, 159.1822, 3135,   2497.9,   2.0190,    34.6750,0,    34.6750,2,      147.5,0,      152.0,2
PANDORA,,023,01,, 4,,20140120,192700,-10.3048, 159.1822, 3135,   2300.8,   2.0560,    34.6690,0,  -999.0000,9,      145.3,0,     -999.0,9
PANDORA,,023,01,, 5,,20140120,192700,-10.3048, 159.1822, 3135,   1998.6,   2.2200,    34.6460,0,    34.6450,2,      136.7,0,      139.6,2
PANDORA,,023,01,, 6,,20140120,192700,-10.3048, 159.1822, 3135,   1800.9,   2.3900,    34.6290,0,  -999.0000,9,      133.5,0,     -999.0,9
PANDORA,,023,01,, 7,,20140120,192700,-10.3048, 159.1822, 3135,   1601.1,   2.7070,    34.6070,0,    34.6060,2,      131.8,0,      133.7,2
PANDORA,,023,01,, 8,,20140120,192700,-10.3048, 159.1822, 3135,   1402.4,   3.1170,    34.5800,0,  -999.0000,9,      131.8,0,     -999.0,9
PANDORA,,023,01,, 9,,20140120,192700,-10.3048, 159.1822, 3135,   1201.0,   3.6230,    34.5460,0,    34.5460,2,      135.3,0,      136.9,2
PANDORA,,023,01,,10,,20140120,192700,-10.3048, 159.1822, 3135,    999.9,   4.3250,    34.5020,0,  -999.0000,9,      146.4,0,     -999.0,9
PANDORA,,023,01,,11,,20140120,192700,-10.3048, 159.1822, 3135,    900.2,   4.7530,    34.4810,0,    34.4810,2,      153.3,0,      155.7,2
PANDORA,,023,01,,12,,20140120,192700,-10.3048, 159.1822, 3135,    802.6,   5.1890,    34.4690,0,  -999.0000,9,      158.2,0,     -999.0,9
PANDORA,,023,01,,13,,20140120,192700,-10.3048, 159.1822, 3135,    698.9,   5.7040,    34.4740,0,    34.4730,2,      159.4,0,      160.3,2
PANDORA,,023,01,,14,,20140120,192700,-10.3048, 159.1822, 3135,    602.7,   6.3510,    34.4830,0,  -999.0000,9,      163.5,0,     -999.0,9
PANDORA,,023,01,,15,,20140120,192700,-10.3048, 159.1822, 3135,    501.0,   7.0130,    34.5140,0,    34.5140,2,      161.8,0,      162.7,2
PANDORA,,023,01,,16,,20140120,192700,-10.3048, 159.1822, 3135,    400.5,   9.0740,    34.6690,0,  -999.0000,9,      144.4,0,     -999.0,9
PANDORA,,023,01,,17,,20140120,192700,-10.3048, 159.1822, 3135,    299.5,  12.4420,    34.9470,0,    34.9470,2,      116.2,0,      117.1,2
PANDORA,,023,01,,18,,20140120,192700,-10.3048, 159.1822, 3135,    198.7,  18.7110,    35.5040,0,  -999.0000,9,      117.8,0,     -999.0,9
PANDORA,,023,01,,19,,20140120,192700,-10.3048, 159.1822, 3135,    150.9,  24.7070,    35.8000,0,  -999.0000,9,      129.3,0,     -999.0,9
PANDORA,,023,01,,20,,20140120,192700,-10.3048, 159.1822, 3135,    101.8,  27.3910,    35.4910,0,  -999.0000,9,      147.0,0,     -999.0,9
PANDORA,,023,01,,21,,20140120,192700,-10.3048, 159.1822, 3135,     51.1,  28.8080,    34.8500,0,  -999.0000,9,      183.7,0,     -999.0,9
PANDORA,,023,01,,22,,20140120,192700,-10.3048, 159.1822, 3135,      9.6,  28.7630,    34.8040,0,  -999.0000,9,      186.7,0,     -999.0,9
PANDORA,,024,01,, 1,,20140120,010646,-10.4360, 158.6912, 2350,   2295.6,   2.0480,    34.6700,0,  -999.0000,9,      146.7,0,     -999.0,9
PANDORA,,024,01,, 2,,20140120,010646,-10.4360, 158.6912, 2350,   2293.6,   2.0470,    34.6700,0,    34.6700,2,      146.8,0,      151.0,2
PANDORA,,024,01,, 3,,20140120,010646,-10.4360, 158.6912, 2350,   2296.4,   2.0460,    34.6700,0,    34.6700,2,      146.4,0,      151.1,2
PANDORA,,024,01,, 4,,20140120,010646,-10.4360, 158.6912, 2350,   2244.8,   2.0640,    34.6670,0,  -999.0000,9,      145.3,0,     -999.0,9
PANDORA,,024,01,, 5,,20140120,010646,-10.4360, 158.6912, 2350,   2101.1,   2.1580,    34.6550,0,    34.6550,2,      140.6,0,      143.4,2
PANDORA,,024,01,, 6,,20140120,010646,-10.4360, 158.6912, 2350,   1865.3,   2.3010,    34.6370,0,    34.6370,2,      135.3,0,      137.9,2
PANDORA,,024,01,, 7,,20140120,010646,-10.4360, 158.6912, 2350,   1668.0,   2.5650,    34.6140,0,    34.6140,2,      132.2,0,      134.4,2
PANDORA,,024,01,, 8,,20140120,010646,-10.4360, 158.6912, 2350,   1463.7,   2.8020,    34.5980,0,    34.5970,2,      131.5,0,      137.0,3
PANDORA,,024,01,, 9,,20140120,010646,-10.4360, 158.6912, 2350,   1265.3,   3.2510,    34.5710,0,    34.5700,2,      131.0,0,      133.3,2
PANDORA,,024,01,,10,,20140120,010646,-10.4360, 158.6912, 2350,   1067.0,   3.8220,    34.5330,0,    34.5320,2,      137.9,0,      139.8,2
PANDORA,,024,01,,11,,20140120,010646,-10.4360, 158.6912, 2350,    937.0,   4.4110,    34.5110,0,  -999.0000,9,      137.5,0,     -999.0,9
PANDORA,,024,01,,12,,20140120,010646,-10.4360, 158.6912, 2350,    833.6,   4.7980,    34.4950,0,    34.4950,2,      142.4,0,      143.7,2
PANDORA,,024,01,,13,,20140120,010646,-10.4360, 158.6912, 2350,    735.1,   5.5570,    34.4900,0,  -999.0000,9,      143.5,0,     -999.0,9
PANDORA,,024,01,,14,,20140120,010646,-10.4360, 158.6912, 2350,    633.9,   6.2450,    34.4890,0,    34.4880,2,      152.0,0,      153.8,2
PANDORA,,024,01,,15,,20140120,010646,-10.4360, 158.6912, 2350,    434.2,   8.6100,    34.6250,0,    34.6240,2,      147.1,0,      147.6,3
PANDORA,,024,01,,16,,20140120,010646,-10.4360, 158.6912, 2350,    335.5,  11.3770,    34.8510,0,    34.8500,2,      124.0,0,      124.2,2
PANDORA,,024,01,,17,,20140120,010646,-10.4360, 158.6912, 2350,    265.1,  15.9250,    35.2550,0,  -999.0000,9,      120.7,0,     -999.0,9
PANDORA,,024,01,,18,,20140120,010646,-10.4360, 158.6912, 2350,    216.0,  19.1570,    35.5750,0,    35.5740,2,      133.5,0,      135.0,2
PANDORA,,024,01,,19,,20140120,010646,-10.4360, 158.6912, 2350,    166.1,  23.6350,    35.8760,0,  -999.0000,9,      130.4,0,     -999.0,9
PANDORA,,024,01,,20,,20140120,010646,-10.4360, 158.6912, 2350,    114.8,  26.8430,    35.5120,0,    35.5100,2,      146.4,0,      149.3,2
PANDORA,,024,01,,21,,20140120,010646,-10.4360, 158.6912, 2350,     59.5,  28.7890,    34.8130,0,  -999.0000,9,      186.7,0,     -999.0,9
PANDORA,,024,01,,22,,20140120,010646,-10.4360, 158.6912, 2350,      5.7,  28.8060,    34.8170,0,    34.8140,2,      187.6,0,      191.4,2
PANDORA,,025,01,, 1,,20140120,062100,-10.5592, 158.1913, 1995,   1901.2,   2.3600,    34.6330,0,    34.6330,2,      134.3,0,      137.9,2
PANDORA,,025,01,, 2,,20140120,062100,-10.5592, 158.1913, 1995,   1735.6,   2.5320,    34.6180,0,    34.6180,2,      132.3,0,      136.7,2
PANDORA,,025,01,, 3,,20140120,062100,-10.5592, 158.1913, 1995,   1537.3,   2.7520,    34.6030,0,    34.6020,2,      130.9,0,      135.1,2
PANDORA,,025,01,, 4,,20140120,062100,-10.5592, 158.1913, 1995,   1537.4,   2.7490,    34.6030,0,    34.6030,2,      130.7,0,      134.3,2
PANDORA,,025,01,, 5,,20140120,062100,-10.5592, 158.1913, 1995,   1335.5,   3.1250,    34.5780,0,    34.5770,2,      130.7,0,      134.6,2
PANDORA,,025,01,, 6,,20140120,062100,-10.5592, 158.1913, 1995,   1135.7,   3.5540,    34.5520,0,    34.5520,2,      132.7,0,      134.6,2
PANDORA,,025,01,, 7,,20140120,062100,-10.5592, 158.1913, 1995,    967.5,   4.1480,    34.5180,0,    34.5180,2,      138.5,0,      141.3,2
PANDORA,,025,01,, 8,,20140120,062100,-10.5592, 158.1913, 1995,    865.9,   4.5880,    34.5000,0,    34.5000,2,      141.9,0,      140.6,2
PANDORA,,025,01,, 9,,20140120,062100,-10.5592, 158.1913, 1995,    765.6,   5.1590,    34.4920,0,    34.4920,2,      141.5,0,      142.6,2
PANDORA,,025,01,,10,,20140120,062100,-10.5592, 158.1913, 1995,    665.5,   5.5510,    34.4810,0,    34.4810,2,      148.6,0,      145.8,3
PANDORA,,025,01,,11,,20140120,062100,-10.5592, 158.1913, 1995,    565.5,   6.5220,    34.4870,0,    34.4870,2,      161.1,0,      160.9,2
PANDORA,,025,01,,12,,20140120,062100,-10.5592, 158.1913, 1995,    466.2,   8.2150,    34.5810,0,    34.5800,2,      156.7,0,      159.4,2
PANDORA,,025,01,,13,,20140120,062100,-10.5592, 158.1913, 1995,    371.4,  10.5420,    34.7800,0,  -999.0000,9,      125.9,0,     -999.0,9
PANDORA,,025,01,,14,,20140120,062100,-10.5592, 158.1913, 1995,    286.9,  14.1750,    35.0880,0,    35.0870,2,      120.8,0,      121.6,2
PANDORA,,025,01,,15,,20140120,062100,-10.5592, 158.1913, 1995,    235.2,  18.1800,    35.4810,0,  -999.0000,9,      121.7,0,     -999.0,9
PANDORA,,025,01,,16,,20140120,062100,-10.5592, 158.1913, 1995,    185.0,  23.2270,    35.8600,0,    35.8580,2,      132.8,0,      136.5,3
PANDORA,,025,01,,17,,20140120,062100,-10.5592, 158.1913, 1995,    134.7,  25.7570,    35.7260,0,  -999.0000,9,      133.7,0,     -999.0,9
PANDORA,,025,01,,18,,20140120,062100,-10.5592, 158.1913, 1995,     99.2,  27.0280,    35.3800,0,    35.3770,2,      154.5,0,      158.9,3
PANDORA,,025,01,,19,,20140120,062100,-10.5592, 158.1913, 1995,     75.8,  28.2650,    35.0300,0,  -999.0000,9,      174.0,0,     -999.0,9
PANDORA,,025,01,,20,,20140120,062100,-10.5592, 158.1913, 1995,     50.7,  28.3850,    34.5690,0,    34.5670,2,      188.1,0,      189.8,2
PANDORA,,025,01,,21,,20140120,062100,-10.5592, 158.1913, 1995,     23.8,  28.3770,    34.5690,0,  -999.0000,9,      188.0,0,     -999.0,9
PANDORA,,025,01,,22,,20140120,062100,-10.5592, 158.1913, 1995,      9.1,  28.3730,    34.5690,0,    34.5660,2,      188.2,0,      193.3,2
PANDORA,,026,01,, 1,,20140120,113653,-10.6835, 157.7087, 1995,    780.0,   4.9900,    34.4870,0,  -999.0000,9,      148.9,0,     -999.0,9
PANDORA,,026,01,, 2,,20140120,113653,-10.6835, 157.7087, 1995,    779.0,   4.9830,    34.4860,0,  -999.0000,9,      149.1,0,     -999.0,9
PANDORA,,026,01,, 3,,20140120,113653,-10.6835, 157.7087, 1995,    779.3,   4.9770,    34.4860,0,  -999.0000,9,      150.2,0,     -999.0,9
PANDORA,,026,01,, 4,,20140120,113653,-10.6835, 157.7087, 1995,    781.9,   4.9590,    34.4850,0,  -999.0000,9,      149.4,0,     -999.0,9
PANDORA,,026,01,, 5,,20140120,113653,-10.6835, 157.7087, 1995,    780.2,   4.9690,    34.4850,0,  -999.0000,9,      149.1,0,     -999.0,9
PANDORA,,026,01,, 6,,20140120,113653,-10.6835, 157.7087, 1995,    778.3,   4.9810,    34.4860,0,  -999.0000,9,      149.5,0,     -999.0,9
PANDORA,,026,01,, 7,,20140120,113653,-10.6835, 157.7087, 1995,    779.2,   4.9720,    34.4850,0,  -999.0000,9,      150.0,0,     -999.0,9
PANDORA,,026,01,, 8,,20140120,113653,-10.6835, 157.7087, 1995,    782.2,   4.9500,    34.4830,0,    34.4830,2,      151.0,0,      150.0,2
PANDORA,,026,01,, 9,,20140120,113653,-10.6835, 157.7087, 1995,    781.8,   4.9410,    34.4830,0,    34.4830,2,      150.4,0,      152.2,2
PANDORA,,026,01,,10,,20140120,113653,-10.6835, 157.7087, 1995,    666.3,   5.5570,    34.4860,0,  -999.0000,9,      147.1,0,     -999.0,9
PANDORA,,026,01,,11,,20140120,113653,-10.6835, 157.7087, 1995,    565.9,   6.4180,    34.4940,0,    34.4940,2,      151.8,0,      152.9,2
PANDORA,,026,01,,12,,20140120,113653,-10.6835, 157.7087, 1995,    465.5,   8.3450,    34.5740,0,  -999.0000,9,      159.4,0,     -999.0,9
PANDORA,,026,01,,13,,20140120,113653,-10.6835, 157.7087, 1995,    366.4,  10.8100,    34.8040,0,    34.8030,2,      123.5,0,      123.3,2
PANDORA,,026,01,,14,,20140120,113653,-10.6835, 157.7087, 1995,    283.8,  13.5140,    35.0260,0,  -999.0000,9,      123.3,0,     -999.0,9
PANDORA,,026,01,,15,,20140120,113653,-10.6835, 157.7087, 1995,    236.4,  18.2250,    35.4710,0,    35.4700,2,      115.2,0,      115.7,2
PANDORA,,026,01,,16,,20140120,113653,-10.6835, 157.7087, 1995,    189.2,  23.1770,    35.7880,0,  -999.0000,9,      124.1,0,     -999.0,9
PANDORA,,026,01,,17,,20140120,113653,-10.6835, 157.7087, 1995,    137.1,  25.8880,    35.6030,0,  -999.0000,9,      136.3,0,     -999.0,9
PANDORA,,026,01,,18,,20140120,113653,-10.6835, 157.7087, 1995,     99.0,  28.1190,    35.3720,0,  -999.0000,9,      144.4,0,     -999.0,9
PANDORA,,026,01,,19,,20140120,113653,-10.6835, 157.7087, 1995,     72.4,  28.8470,    34.9050,0,  -999.0000,9,      173.3,0,     -999.0,9
PANDORA,,026,01,,20,,20140120,113653,-10.6835, 157.7087, 1995,     53.2,  28.7690,    34.7040,0,  -999.0000,9,      186.3,0,     -999.0,9
PANDORA,,026,01,,21,,20140120,113653,-10.6835, 157.7087, 1995,     24.5,  28.7560,    34.7020,0,    34.6990,2,      186.5,0,      190.8,2
PANDORA,,026,01,,22,,20140120,113653,-10.6835, 157.7087, 1995,     10.5,  28.7510,    34.7020,0,  -999.0000,9,      186.5,0,     -999.0,9
PANDORA,,027,01,, 1,,20140120,153744,-10.8117, 157.2075,  660,    563.2,   6.5580,    34.4950,0,  -999.0000,9,      157.4,0,     -999.0,9
PANDORA,,027,01,, 2,,20140120,153744,-10.8117, 157.2075,  660,    563.0,   6.5570,    34.4930,0,  -999.0000,9,      157.5,0,     -999.0,9
PANDORA,,027,01,, 3,,20140120,153744,-10.8117, 157.2075,  660,    561.8,   6.5670,    34.4930,0,  -999.0000,9,      157.2,0,     -999.0,9
PANDORA,,027,01,, 4,,20140120,153744,-10.8117, 157.2075,  660,    565.1,   6.5680,    34.4930,0,  -999.0000,9,      156.5,0,     -999.0,9
PANDORA,,027,01,, 5,,20140120,153744,-10.8117, 157.2075,  660,    565.9,   6.5570,    34.4950,0,  -999.0000,9,      157.5,0,     -999.0,9
PANDORA,,027,01,, 6,,20140120,153744,-10.8117, 157.2075,  660,    563.4,   6.5650,    34.4930,0,  -999.0000,9,      157.5,0,     -999.0,9
PANDORA,,027,01,, 7,,20140120,153744,-10.8117, 157.2075,  660,    564.4,   6.5680,    34.4930,0,  -999.0000,9,      156.6,0,     -999.0,9
PANDORA,,027,01,, 8,,20140120,153744,-10.8117, 157.2075,  660,    566.9,   6.5470,    34.4940,0,    34.4940,2,      156.7,0,      152.7,3
PANDORA,,027,01,, 9,,20140120,153744,-10.8117, 157.2075,  660,    564.5,   6.5600,    34.4950,0,  -999.0000,9,      157.1,0,     -999.0,9
PANDORA,,027,01,,10,,20140120,153744,-10.8117, 157.2075,  660,    564.2,   6.5580,    34.4940,0,    34.4940,2,      156.3,0,      158.2,2
PANDORA,,027,01,,11,,20140120,153744,-10.8117, 157.2075,  660,    566.6,   6.5500,    34.4940,0,    34.4940,2,      156.4,0,      157.5,2
PANDORA,,027,01,,12,,20140120,153744,-10.8117, 157.2075,  660,    499.8,   7.6120,    34.5520,0,    34.5520,2,      154.3,0,      154.6,2
PANDORA,,027,01,,13,,20140120,153744,-10.8117, 157.2075,  660,    398.5,   9.3060,    34.6550,0,  -999.0000,9,      151.2,0,     -999.0,9
PANDORA,,027,01,,14,,20140120,153744,-10.8117, 157.2075,  660,    300.0,  12.4150,    34.9200,0,    34.9190,2,      125.8,0,      126.6,2
PANDORA,,027,01,,15,,20140120,153744,-10.8117, 157.2075,  660,    251.4,  15.5680,    35.2240,0,  -999.0000,9,      112.8,0,     -999.0,9
PANDORA,,027,01,,16,,20140120,153744,-10.8117, 157.2075,  660,    199.5,  21.2640,    35.7520,0,    35.7500,2,      124.0,0,      125.3,2
PANDORA,,027,01,,17,,20140120,153744,-10.8117, 157.2075,  660,    150.3,  25.8690,    35.6260,0,  -999.0000,9,      135.2,0,     -999.0,9
PANDORA,,027,01,,18,,20140120,153744,-10.8117, 157.2075,  660,    100.1,  28.5490,    35.2540,0,  -999.0000,9,      155.1,0,     -999.0,9
PANDORA,,027,01,,19,,20140120,153744,-10.8117, 157.2075,  660,     75.6,  28.7490,    34.7510,0,    34.7480,2,      184.5,0,      188.1,2
PANDORA,,027,01,,20,,20140120,153744,-10.8117, 157.2075,  660,     48.9,  28.7390,    34.7470,0,    34.7440,2,      184.6,0,      189.4,2
PANDORA,,027,01,,21,,20140120,153744,-10.8117, 157.2075,  660,     24.4,  28.7370,    34.7480,0,  -999.0000,9,      185.8,0,     -999.0,9
PANDORA,,027,01,,22,,20140120,153744,-10.8117, 157.2075,  660,      5.1,  28.7250,    34.7480,0,  -999.0000,9,      185.1,0,     -999.0,9