BOTTLE,20140909LEGIRDAG
EXPOCODE,SECT_ID,STNNBR,CASTNO,SAMPNO,BTLNBR,BTLNBR_FLAG_W,DATE,TIME,LATITUDE,LONGITUDE,DEPTH,CTDPRS,CTDTMP,CTDSAL,CTDSAL_FLAG_W,SALNTY,SALNTY_FLAG_W,CTDOXY,CTDOXY_FLAG_W,OXYGEN,OXYGEN_FLAG_W
,,,,,,,,,,,,,DBARS,ITS-90,PSS-78,,PSS-78,,UMOL/KG,,UMOL/KG,
PANDORA,,077,09,, 1,,20140120,030830, -5.9503, 147.6627, 1043,    500.6,   8.0340,    34.5670,0,  -999.0000,9,      175.9,0,     -999.0,9
PANDORA,,077,09,, 2,,20140120,030830, -5.9503, 147.6627, 1043,    500.6,   8.0340,    34.5680,0,  -999.0000,9,      176.1,0,     -999.0,9
PANDORA,,077,09,, 3,,20140120,030830, -5.9503, 147.6627, 1043,    500.8,   8.0340,    34.5680,0,  -999.0000,9,      175.9,0,     -999.0,9
PANDORA,,077,09,, 4,,20140120,030830, -5.9503, 147.6627, 1043,    500.7,   8.0350,    34.5680,0,  -999.0000,9,      176.1,0,     -999.0,9
PANDORA,,077,09,, 5,,20140120,030830, -5.9503, 147.6627, 1043,    501.1,   8.0330,    34.5680,0,  -999.0000,9,      175.8,0,     -999.0,9
PANDORA,,077,09,, 6,,20140120,030830, -5.9503, 147.6627, 1043,    501.1,   8.0340,    34.5680,0,  -999.0000,9,      176.1,0,     -999.0,9
PANDORA,,077,09,, 7,,20140120,030830, -5.9503, 147.6627, 1043,    500.7,   8.0330,    34.5680,0,  -999.0000,9,      176.0,0,     -999.0,9
PANDORA,,077,09,, 8,,20140120,030830, -5.9503, 147.6627, 1043,    500.9,   8.0340,    34.5680,0,  -999.0000,9,      176.1,0,     -999.0,9
PANDORA,,077,09,, 9,,20140120,030830, -5.9503, 147.6627, 1043,    500.9,   8.0340,    34.5680,0,  -999.0000,9,      176.1,0,     -999.0,9
PANDORA,,077,09,,10,,20140120,030830, -5.9503, 147.6627, 1043,    500.8,   8.0350,    34.5680,0,  -999.0000,9,      175.8,0,     -999.0,9
PANDORA,,077,09,,11,,20140120,030830, -5.9503, 147.6627, 1043,    500.8,   8.0340,    34.5680,0,  -999.0000,9,      175.8,0,     -999.0,9
PANDORA,,077,09,,12,,20140120,030830, -5.9503, 147.6627, 1043,    299.7,  14.5850,    35.1550,0,  -999.0000,9,      154.7,0,     -999.0,9
PANDORA,,077,09,,13,,20140120,030830, -5.9503, 147.6627, 1043,    299.7,  14.5880,    35.1560,0,  -999.0000,9,      154.5,0,     -999.0,9
PANDORA,,077,09,,14,,20140120,030830, -5.9503, 147.6627, 1043,    300.0,  14.5830,    35.1560,0,  -999.0000,9,      154.7,0,     -999.0,9
PANDORA,,077,09,,15,,20140120,030830, -5.9503, 147.6627, 1043,    300.1,  14.5850,    35.1550,0,  -999.0000,9,      154.9,0,     -999.0,9
PANDORA,,077,09,,16,,20140120,030830, -5.9503, 147.6627, 1043,    299.9,  14.5840,    35.1560,0,  -999.0000,9,      154.6,0,     -999.0,9
PANDORA,,077,09,,17,,20140120,030830, -5.9503, 147.6627, 1043,    300.1,  14.5860,    35.1560,0,  -999.0000,9,      155.0,0,     -999.0,9
PANDORA,,077,09,,18,,20140120,030830, -5.9503, 147.6627, 1043,    300.2,  14.5850,    35.1560,0,  -999.0000,9,      154.8,0,     -999.0,9
PANDORA,,077,09,,19,,20140120,030830, -5.9503, 147.6627, 1043,    300.4,  14.5810,    35.1560,0,  -999.0000,9,      155.0,0,     -999.0,9
PANDORA,,077,09,,20,,20140120,030830, -5.9503, 147.6627, 1043,    300.1,  14.5760,    35.1550,0,  -999.0000,9,      154.8,0,     -999.0,9
PANDORA,,077,09,,21,,20140120,030830, -5.9503, 147.6627, 1043,    300.3,  14.5700,    35.1550,0,  -999.0000,9,      154.7,0,     -999.0,9
PANDORA,,077,09,,22,,20140120,030830, -5.9503, 147.6627, 1043,    300.6,  14.5700,    35.1540,0,  -999.0000,9,      154.9,0,     -999.0,9
PANDORA,,077,10,, 1,,20140120,040954, -5.9520, 147.6640, 1043,    249.9,  16.2140,    35.2960,0,  -999.0000,9,      148.1,0,     -999.0,9
PANDORA,,077,10,, 2,,20140120,040954, -5.9520, 147.6640, 1043,    249.8,  16.2090,    35.2960,0,  -999.0000,9,      148.1,0,     -999.0,9
PANDORA,,077,10,, 3,,20140120,040954, -5.9520, 147.6640, 1043,    249.7,  16.2050,    35.2960,0,  -999.0000,9,      148.2,0,     -999.0,9
PANDORA,,077,10,, 4,,20140120,040954, -5.9520, 147.6640, 1043,    249.5,  16.2050,    35.2960,0,  -999.0000,9,      148.2,0,     -999.0,9
PANDORA,,077,10,, 5,,20140120,040954, -5.9520, 147.6640, 1043,    249.5,  16.2050,    35.2960,0,  -999.0000,9,      148.0,0,     -999.0,9
PANDORA,,077,10,, 6,,20140120,040954, -5.9520, 147.6640, 1043,    249.5,  16.2030,    35.2960,0,  -999.0000,9,      148.2,0,     -999.0,9
PANDORA,,077,10,, 7,,20140120,040954, -5.9520, 147.6640, 1043,    249.6,  16.2020,    35.2960,0,  -999.0000,9,      148.4,0,     -999.0,9
PANDORA,,077,10,, 8,,20140120,040954, -5.9520, 147.6640, 1043,    249.7,  16.2000,    35.2960,0,  -999.0000,9,      148.3,0,     -999.0,9
PANDORA,,077,10,, 9,,20140120,040954, -5.9520, 147.6640, 1043,    249.8,  16.1860,    35.2950,0,  -999.0000,9,      148.1,0,     -999.0,9
PANDORA,,077,10,,10,,20140120,040954, -5.9520, 147.6640, 1043,    249.7,  16.1850,    35.2950,0,  -999.0000,9,      148.2,0,     -999.0,9
PANDORA,,077,10,,11,,20140120,040954, -5.9520, 147.6640, 1043,    249.5,  16.1870,    35.2950,0,  -999.0000,9,      148.3,0,     -999.0,9
PANDORA,,077,10,,12,,20140120,040954, -5.9520, 147.6640, 1043,    101.3,  26.3150,    35.1900,0,  -999.0000,9,      155.2,0,     -999.0,9
PANDORA,,077,10,,13,,20140120,040954, -5.9520, 147.6640, 1043,    101.0,  26.3150,    35.1910,0,  -999.0000,9,      155.2,0,     -999.0,9
PANDORA,,077,10,,14,,20140120,040954, -5.9520, 147.6640, 1043,    100.7,  26.3090,    35.1910,0,  -999.0000,9,      155.2,0,     -999.0,9
PANDORA,,077,10,,15,,20140120,040954, -5.9520, 147.6640, 1043,    101.3,  26.3210,    35.1880,0,  -999.0000,9,      155.1,0,     -999.0,9
PANDORA,,077,10,,16,,20140120,040954, -5.9520, 147.6640, 1043,    101.2,  26.3250,    35.1880,0,  -999.0000,9,      155.1,0,     -999.0,9
PANDORA,,077,10,,17,,20140120,040954, -5.9520, 147.6640, 1043,    100.9,  26.3200,    35.1880,0,  -999.0000,9,      155.8,0,     -999.0,9
PANDORA,,077,10,,18,,20140120,040954, -5.9520, 147.6640, 1043,    101.4,  26.3230,    35.1880,0,  -999.0000,9,      155.4,0,     -999.0,9
PANDORA,,077,10,,19,,20140120,040954, -5.9520, 147.6640, 1043,    101.1,  26.3220,    35.1880,0,  -999.0000,9,      155.6,0,     -999.0,9
PANDORA,,077,10,,20,,20140120,040954, -5.9520, 147.6640, 1043,    100.8,  26.3230,    35.1870,0,  -999.0000,9,      155.7,0,     -999.0,9
PANDORA,,077,10,,21,,20140120,040954, -5.9520, 147.6640, 1043,    101.3,  26.3370,    35.1840,0,  -999.0000,9,      155.1,0,     -999.0,9
PANDORA,,077,10,,22,,20140120,040954, -5.9520, 147.6640, 1043,    101.3,  26.3390,    35.1790,0,  -999.0000,9,      155.7,0,     -999.0,9
PANDORA,,078,01,, 1,,20140120,052349, -6.0143, 147.5977,  673,    610.4,   6.8940,    34.5200,0,  -999.0000,9,      164.6,0,     -999.0,9
PANDORA,,078,01,, 2,,20140120,052349, -6.0143, 147.5977,  673,    610.4,   6.9120,    34.5200,0,  -999.0000,9,      164.5,0,     -999.0,9
PANDORA,,078,01,, 3,,20140120,052349, -6.0143, 147.5977,  673,    610.3,   6.9310,    34.5210,0,  -999.0000,9,      164.5,0,     -999.0,9
PANDORA,,078,01,, 4,,20140120,052349, -6.0143, 147.5977,  673,    610.5,   6.9150,    34.5200,0,  -999.0000,9,      164.8,0,     -999.0,9
PANDORA,,078,01,, 5,,20140120,052349, -6.0143, 147.5977,  673,    610.3,   6.9160,    34.5200,0,  -999.0000,9,      164.3,0,     -999.0,9
PANDORA,,078,01,, 6,,20140120,052349, -6.0143, 147.5977,  673,    610.4,   6.9230,    34.5200,0,  -999.0000,9,      164.8,0,     -999.0,9
PANDORA,,078,01,, 7,,20140120,052349, -6.0143, 147.5977,  673,    610.2,   6.8990,    34.5200,0,  -999.0000,9,      164.7,0,     -999.0,9
PANDORA,,078,01,, 8,,20140120,052349, -6.0143, 147.5977,  673,    610.2,   6.8800,    34.5200,0,  -999.0000,9,      164.3,0,     -999.0,9
PANDORA,,078,01,, 9,,20140120,052349, -6.0143, 147.5977,  673,    610.0,   6.9100,    34.5200,0,  -999.0000,9,      164.8,0,     -999.0,9
PANDORA,,078,01,,10,,20140120,052349, -6.0143, 147.5977,  673,    560.9,   7.2330,    34.5330,0,    34.5330,2,      165.1,0,      168.2,2
PANDORA,,078,01,,11,,20140120,052349, -6.0143, 147.5977,  673,    466.1,   8.7250,    34.6210,0,  -999.0000,9,      167.4,0,     -999.0,9
PANDORA,,078,01,,12,,20140120,052349, -6.0143, 147.5977,  673,    365.9,  11.6960,    34.8860,0,  -999.0000,9,      163.0,0,     -999.0,9
PANDORA,,078,01,,13,,20140120,052349, -6.0143, 147.5977,  673,    285.9,  14.4390,    35.1410,0,    35.1400,2,      155.0,0,      158.6,2
PANDORA,,078,01,,14,,20140120,052349, -6.0143, 147.5977,  673,    236.2,  16.6980,    35.3390,0,  -999.0000,9,      148.6,0,     -999.0,9
PANDORA,,078,01,,15,,20140120,052349, -6.0143, 147.5977,  673,    186.0,  19.9900,    35.5750,0,  -999.0000,9,      139.8,0,     -999.0,9
PANDORA,,078,01,,16,,20140120,052349, -6.0143, 147.5977,  673,    135.7,  25.1430,    35.3550,0,    35.3530,2,      147.2,0,      154.9,3
PANDORA,,078,01,,17,,20140120,052349, -6.0143, 147.5977,  673,    135.7,  25.1400,    35.3560,0,  -999.0000,9,      147.0,0,     -999.0,9
PANDORA,,078,01,,18,,20140120,052349, -6.0143, 147.5977,  673,    100.4,  25.6070,    35.2660,0,  -999.0000,9,      152.2,0,     -999.0,9
PANDORA,,078,01,,19,,20140120,052349, -6.0143, 147.5977,  673,     75.2,  25.7950,    35.2110,0,    35.2090,2,      155.8,0,      161.0,2
PANDORA,,078,01,,20,,20140120,052349, -6.0143, 147.5977,  673,     49.7,  27.4390,    34.8390,0,  -999.0000,9,      183.6,0,     -999.0,9
PANDORA,,078,01,,21,,20140120,052349, -6.0143, 147.5977,  673,     24.7,  27.6960,    34.7210,0,    34.7190,2,      187.7,0,      194.1,2
PANDORA,,078,01,,22,,20140120,052349, -6.0143, 147.5977,  673,      4.9,  27.7640,    34.6800,0,  -999.0000,9,      189.4,0,     -999.0,9
PANDORA,,079,01,, 1,,20140120,071951, -5.9495, 147.6628, 1044,    999.5,   4.4330,    34.5100,0,  -999.0000,9,      139.6,0,     -999.0,9
PANDORA,,079,01,, 2,,20140120,071951, -5.9495, 147.6628, 1044,    999.7,   4.4340,    34.5100,0,  -999.0000,9,      139.4,0,     -999.0,9
PANDORA,,079,01,, 3,,20140120,071951, -5.9495, 147.6628, 1044,    999.6,   4.4340,    34.5100,0,  -999.0000,9,      139.5,0,     -999.0,9
PANDORA,,079,01,, 4,,20140120,071951, -5.9495, 147.6628, 1044,    999.7,   4.4330,    34.5100,0,  -999.0000,9,      139.3,0,     -999.0,9
PANDORA,,079,01,, 5,,20140120,071951, -5.9495, 147.6628, 1044,   1000.0,   4.4330,    34.5100,0,    34.5100,2,      139.6,0,      143.3,2
PANDORA,,079,01,, 6,,20140120,071951, -5.9495, 147.6628, 1044,   1000.0,   4.4340,    34.5100,0,  -999.0000,9,      139.6,0,     -999.0,9
PANDORA,,079,01,, 7,,20140120,071951, -5.9495, 147.6628, 1044,    999.7,   4.4340,    34.5100,0,  -999.0000,9,      139.7,0,     -999.0,9
PANDORA,,079,01,, 8,,20140120,071951, -5.9495, 147.6628, 1044,    901.1,   4.6380,    34.5010,0,    34.5000,2,      143.3,0,      146.6,2
PANDORA,,079,01,, 9,,20140120,071951, -5.9495, 147.6628, 1044,    801.2,   5.3130,    34.4790,0,  -999.0000,9,      152.6,0,     -999.0,9
PANDORA,,079,01,,10,,20140120,071951, -5.9495, 147.6628, 1044,    700.9,   5.6900,    34.4750,0,  -999.0000,9,      158.2,0,     -999.0,9
PANDORA,,079,01,,11,,20140120,071951, -5.9495, 147.6628, 1044,    600.5,   6.1770,    34.4860,0,    34.4860,2,      161.4,0,      166.3,2
PANDORA,,079,01,,12,,20140120,071951, -5.9495, 147.6628, 1044,    500.7,   7.6650,    34.5380,0,  -999.0000,9,      176.9,0,     -999.0,9
PANDORA,,079,01,,13,,20140120,071951, -5.9495, 147.6628, 1044,    400.5,  10.2640,    34.7500,0,    34.7500,2,      164.5,0,      168.7,2
PANDORA,,079,01,,14,,20140120,071951, -5.9495, 147.6628, 1044,    301.0,  14.3650,    35.1330,0,  -999.0000,9,      155.1,0,     -999.0,9
PANDORA,,079,01,,15,,20140120,071951, -5.9495, 147.6628, 1044,    251.1,  16.2240,    35.2930,0,  -999.0000,9,      148.6,0,     -999.0,9
PANDORA,,079,01,,16,,20140120,071951, -5.9495, 147.6628, 1044,    201.0,  18.5160,    35.4800,0,  -999.0000,9,      144.1,0,     -999.0,9
PANDORA,,079,01,,17,,20140120,071951, -5.9495, 147.6628, 1044,    151.2,  24.8420,    35.3800,0,    35.3770,2,      145.5,0,      151.0,2
PANDORA,,079,01,,18,,20140120,071951, -5.9495, 147.6628, 1044,     99.9,  26.3360,    35.1700,0,  -999.0000,9,      156.6,0,     -999.0,9
PANDORA,,079,01,,19,,20140120,071951, -5.9495, 147.6628, 1044,     74.6,  26.5980,    35.1160,0,    35.1140,2,      160.6,0,      166.7,2
PANDORA,,079,01,,20,,20140120,071951, -5.9495, 147.6628, 1044,     49.6,  27.5180,    34.8150,0,  -999.0000,9,      183.2,0,     -999.0,9
PANDORA,,079,01,,21,,20140120,071951, -5.9495, 147.6628, 1044,     24.5,  27.6800,    34.5890,0,    34.5860,2,      189.2,0,      196.1,2
PANDORA,,079,01,,22,,20140120,071951, -5.9495, 147.6628, 1044,      5.4,  27.6550,    34.5290,0,    34.5270,2,      189.6,0,      196.8,2
PANDORA,,080,01,, 1,,20140120,091231, -5.8882, 147.7298, 1140,    999.8,   4.2950,    34.5180,0,  -999.0000,9,      137.4,0,     -999.0,9
PANDORA,,080,01,, 2,,20140120,091231, -5.8882, 147.7298, 1140,    997.7,   4.2910,    34.5180,0,  -999.0000,9,      137.3,0,     -999.0,9
PANDORA,,080,01,, 3,,20140120,091231, -5.8882, 147.7298, 1140,    996.6,   4.2910,    34.5180,0,  -999.0000,9,      137.0,0,     -999.0,9
PANDORA,,080,01,, 4,,20140120,091231, -5.8882, 147.7298, 1140,    995.9,   4.2810,    34.5180,0,  -999.0000,9,      137.0,0,     -999.0,9
PANDORA,,080,01,, 5,,20140120,091231, -5.8882, 147.7298, 1140,    993.8,   4.2840,    34.5180,0,    34.5180,2,      137.0,0,      140.6,2
PANDORA,,080,01,, 6,,20140120,091231, -5.8882, 147.7298, 1140,    993.0,   4.2630,    34.5200,0,    34.5190,2,      136.8,0,      140.9,2
PANDORA,,080,01,, 7,,20140120,091231, -5.8882, 147.7298, 1140,    935.8,   4.6770,    34.4970,0,  -999.0000,9,      144.3,0,     -999.0,9
PANDORA,,080,01,, 8,,20140120,091231, -5.8882, 147.7298, 1140,    836.0,   5.0260,    34.4870,0,    34.4870,2,      147.4,0,      151.0,2
PANDORA,,080,01,, 9,,20140120,091231, -5.8882, 147.7298, 1140,    736.3,   5.2520,    34.4810,0,  -999.0000,9,      151.7,0,     -999.0,9
PANDORA,,080,01,,10,,20140120,091231, -5.8882, 147.7298, 1140,    635.7,   5.9150,    34.4790,0,  -999.0000,9,      156.9,0,     -999.0,9
PANDORA,,080,01,,11,,20140120,091231, -5.8882, 147.7298, 1140,    535.7,   6.9390,    34.5050,0,    34.5050,2,      170.8,0,      174.4,2
PANDORA,,080,01,,12,,20140120,091231, -5.8882, 147.7298, 1140,    436.6,   8.0230,    34.5660,0,  -999.0000,9,      175.8,0,     -999.0,9
PANDORA,,080,01,,13,,20140120,091231, -5.8882, 147.7298, 1140,    335.5,  11.1470,    34.8340,0,  -999.0000,9,      161.9,0,     -999.0,9
PANDORA,,080,01,,14,,20140120,091231, -5.8882, 147.7298, 1140,    265.8,  14.7190,    35.1690,0,    35.1680,2,      153.6,0,      157.0,2
PANDORA,,080,01,,15,,20140120,091231, -5.8882, 147.7298, 1140,    215.7,  17.5040,    35.4010,0,  -999.0000,9,      145.6,0,     -999.0,9
PANDORA,,080,01,,16,,20140120,091231, -5.8882, 147.7298, 1140,    156.1,  23.7400,    35.5090,0,  -999.0000,9,      139.3,0,     -999.0,9
PANDORA,,080,01,,17,,20140120,091231, -5.8882, 147.7298, 1140,    101.6,  26.3330,    35.2790,0,    35.2770,2,      152.0,0,      158.1,3
PANDORA,,080,01,,18,,20140120,091231, -5.8882, 147.7298, 1140,     74.9,  27.3660,    34.9740,0,  -999.0000,9,      179.1,0,     -999.0,9
PANDORA,,080,01,,19,,20140120,091231, -5.8882, 147.7298, 1140,     50.4,  27.5100,    34.9200,0,  -999.0000,9,      180.4,0,     -999.0,9
PANDORA,,080,01,,20,,20140120,091231, -5.8882, 147.7298, 1140,     25.3,  27.7690,    34.8260,0,    34.8230,2,      186.8,0,      193.8,2
PANDORA,,080,01,,21,,20140120,091231, -5.8882, 147.7298, 1140,      5.0,  27.7110,    34.6150,0,  -999.0000,9,      188.7,0,     -999.0,9
PANDORA,,080,01,,22,,20140120,091231, -5.8882, 147.7298, 1140,      5.3,  27.7220,    34.6370,0,    34.6340,2,      188.6,0,      195.2,2
PANDORA,,082,02,, 1,,20140120,025039,-13.9965, 156.0070, 2586,   2001.2,   2.3700,    34.6360,0,  -999.0000,9,      135.6,0,     -999.0,9
PANDORA,,082,02,, 2,,20140120,025039,-13.9965, 156.0070, 2586,   1801.5,   2.5470,    34.6200,0,    34.6190,2,      132.9,0,      138.0,2
PANDORA,,082,02,, 3,,20140120,025039,-13.9965, 156.0070, 2586,   1602.2,   2.7560,    34.6020,0,  -999.0000,9,      132.9,0,     -999.0,9
PANDORA,,082,02,, 4,,20140120,025039,-13.9965, 156.0070, 2586,   1350.5,   3.2680,    34.5620,0,    34.5620,2,      136.0,0,      139.9,2
PANDORA,,082,02,, 5,,20140120,025039,-13.9965, 156.0070, 2586,   1101.5,   3.8310,    34.5180,0,    34.5180,2,      143.2,0,      146.9,2
PANDORA,,082,02,, 6,,20140120,025039,-13.9965, 156.0070, 2586,   1001.7,   4.2510,    34.4920,0,  -999.0000,9,      146.5,0,     -999.0,9
PANDORA,,082,02,, 7,,20140120,025039,-13.9965, 156.0070, 2586,    901.2,   4.6270,    34.4630,0,    34.4630,2,      153.9,0,      157.4,2
PANDORA,,082,02,, 8,,20140120,025039,-13.9965, 156.0070, 2586,    801.4,   5.2020,    34.4470,0,  -999.0000,9,      159.6,0,     -999.0,9
PANDORA,,082,02,, 9,,20140120,025039,-13.9965, 156.0070, 2586,    700.0,   5.9920,    34.4630,0,    34.4620,2,      160.6,0,      164.2,2
PANDORA,,082,02,,10,,20140120,025039,-13.9965, 156.0070, 2586,    499.8,   9.1770,    34.6520,0,  -999.0000,9,      145.1,0,     -999.0,9
PANDORA,,082,02,,11,,20140120,025039,-13.9965, 156.0070, 2586,    400.2,  12.7430,    34.9450,0,    34.9440,2,      144.4,0,      147.3,2
PANDORA,,082,02,,12,,20140120,025039,-13.9965, 156.0070, 2586,    300.4,  16.7170,    35.3450,0,  -999.0000,9,      145.3,0,     -999.0,9
PANDORA,,082,02,,13,,20140120,025039,-13.9965, 156.0070, 2586,    249.8,  18.7120,    35.5330,0,    35.5310,2,      145.7,0,      150.4,2
PANDORA,,082,02,,14,,20140120,025039,-13.9965, 156.0070, 2586,    179.1,  22.9690,    35.7730,0,  -999.0000,9,      124.9,0,     -999.0,9
PANDORA,,082,02,,15,,20140120,025039,-13.9965, 156.0070, 2586,    149.6,  24.6630,    35.4910,0,  -999.0000,9,      165.4,0,     -999.0,9
PANDORA,,082,02,,16,,20140120,025039,-13.9965, 156.0070, 2586,     99.3,  25.9200,    34.9580,0,    34.9560,2,      191.3,0,      198.6,2
PANDORA,,082,02,,17,,20140120,025039,-13.9965, 156.0070, 2586,     98.4,  25.9240,    34.9570,0,  -999.0000,9,      191.0,0,     -999.0,9
PANDORA,,082,02,,18,,20140120,025039,-13.9965, 156.0070, 2586,     76.6,  26.1620,    34.9290,0,    34.9260,2,      189.9,0,      196.9,2
PANDORA,,082,02,,19,,20140120,025039,-13.9965, 156.0070, 2586,     50.2,  26.1940,    34.9270,0,  -999.0000,9,      191.1,0,     -999.0,9
PANDORA,,082,02,,20,,20140120,025039,-13.9965, 156.0070, 2586,     24.8,  26.1920,    34.9270,0,  -999.0000,9,      191.6,0,     -999.0,9
PANDORA,,082,02,,21,,20140120,025039,-13.9965, 156.0070, 2586,     24.8,  26.1910,    34.9270,0,    34.9250,2,      190.5,0,      198.3,2
PANDORA,,082,02,,22,,20140120,025039,-13.9965, 156.0070, 2586,      4.7,  26.1960,    34.9280,0,  -999.0000,9,      190.0,0,     -999.0,9