BOTTLE,20140909LEGIRDAG
EXPOCODE,SECT_ID,STNNBR,CASTNO,SAMPNO,BTLNBR,BTLNBR_FLAG_W,DATE,TIME,LATITUDE,LONGITUDE,DEPTH,CTDPRS,CTDTMP,CTDSAL,CTDSAL_FLAG_W,SALNTY,SALNTY_FLAG_W,CTDOXY,CTDOXY_FLAG_W,OXYGEN,OXYGEN_FLAG_W
,,,,,,,,,,,,,DBARS,ITS-90,PSS-78,,PSS-78,,UMOL/KG,,UMOL/KG,
PANDORA,,010,03,, 1,,20140120,063014,-12.0005, 162.9990, 5092,   4000.8,   1.7780,    34.6850,0,  -999.0000,9,      145.2,0,     -999.0,9
PANDORA,,010,03,, 2,,20140120,063014,-12.0005, 162.9990, 5092,   4000.9,   1.7780,    34.6850,0,    34.6840,2,      146.3,0,      151.9,2
PANDORA,,010,03,, 3,,20140120,063014,-12.0005, 162.9990, 5092,   3500.0,   1.7640,    34.6830,0,    34.6820,2,      144.0,0,      149.5,2
PANDORA,,010,03,, 4,,20140120,063014,-12.0005, 162.9990, 5092,   3001.5,   1.7940,    34.6790,0,    34.6790,2,      142.7,0,      147.4,2
PANDORA,,010,03,, 5,,20140120,063014,-12.0005, 162.9990, 5092,   2499.2,   1.9640,    34.6700,0,  -999.0000,9,      141.1,0,     -999.0,9
PANDORA,,010,03,, 6,,20140120,063014,-12.0005, 162.9990, 5092,   2498.8,   1.9650,    34.6700,0,    34.6690,2,      141.9,0,      146.6,2
PANDORA,,010,03,, 7,,20140120,063014,-12.0005, 162.9990, 5092,   2205.6,   2.1330,    34.6510,0,    34.6510,2,      136.5,0,      141.3,2
PANDORA,,010,03,, 8,,20140120,063014,-12.0005, 162.9990, 5092,   1935.3,   2.3380,    34.6290,0,    34.6290,2,      131.4,0,      133.0,2
PANDORA,,010,03,, 9,,20140120,063014,-12.0005, 162.9990, 5092,   1735.8,   2.5610,    34.6130,0,  -999.0000,9,      130.8,0,     -999.0,9
PANDORA,,010,03,,10,,20140120,063014,-12.0005, 162.9990, 5092,   1735.7,   2.5610,    34.6130,0,    34.6130,2,      130.7,0,      132.0,2
PANDORA,,010,03,,11,,20140120,063014,-12.0005, 162.9990, 5092,   1534.8,   2.8300,    34.5950,0,    34.5950,2,      130.5,0,      131.4,2
PANDORA,,010,03,,12,,20140120,063014,-12.0005, 162.9990, 5092,   1335.1,   3.1710,    34.5750,0,    34.5750,2,      129.4,0,      129.5,2
PANDORA,,010,03,,13,,20140120,063014,-12.0005, 162.9990, 5092,   1135.4,   3.6930,    34.5410,0,    34.5410,2,      133.9,0,      135.6,2
PANDORA,,010,03,,14,,20140120,063014,-12.0005, 162.9990, 5092,    935.3,   4.4070,    34.5070,0,  -999.0000,9,      138.2,0,     -999.0,9
PANDORA,,010,03,,15,,20140120,063014,-12.0005, 162.9990, 5092,    735.9,   5.4070,    34.4600,0,    34.4600,2,      154.8,0,      155.6,2
PANDORA,,010,03,,16,,20140120,063014,-12.0005, 162.9990, 5092,    466.0,   9.2230,    34.6330,0,  -999.0000,9,      152.0,0,     -999.0,9
PANDORA,,010,03,,17,,20140120,063014,-12.0005, 162.9990, 5092,    265.4,  17.9520,    35.4610,0,    35.4600,2,      134.2,0,      133.7,2
PANDORA,,010,03,,18,,20140120,063014,-12.0005, 162.9990, 5092,    177.5,  23.9800,    36.0310,0,    36.0280,2,      133.9,0,      134.1,2
PANDORA,,010,03,,19,,20140120,063014,-12.0005, 162.9990, 5092,    151.7,  25.4380,    35.9690,0,    35.9670,2,      136.1,0,      135.6,2
PANDORA,,010,03,,20,,20140120,063014,-12.0005, 162.9990, 5092,     86.5,  28.0210,    34.6330,0,  -999.0000,9,      188.5,0,     -999.0,9
PANDORA,,010,03,,21,,20140120,063014,-12.0005, 162.9990, 5092,     34.9,  28.0460,    34.6150,0,    34.6130,2,      189.1,0,      191.3,2
PANDORA,,010,03,,22,,20140120,063014,-12.0005, 162.9990, 5092,      3.3,  28.0330,    34.6150,0,    34.6120,2,      189.0,0,      191.4,2
PANDORA,,010,06,, 1,,20140120,193822,-11.9995, 162.9978, 5092,    399.3,  10.3770,    34.7250,0,  -999.0000,9,      143.0,0,     -999.0,9
PANDORA,,010,06,, 2,,20140120,193822,-11.9995, 162.9978, 5092,    260.6,  16.9760,    35.3540,0,  -999.0000,9,      134.5,0,     -999.0,9
PANDORA,,010,06,, 3,,20140120,193822,-11.9995, 162.9978, 5092,    261.5,  16.9100,    35.3470,0,  -999.0000,9,      134.0,0,     -999.0,9
PANDORA,,010,06,, 4,,20140120,193822,-11.9995, 162.9978, 5092,    261.3,  16.9030,    35.3460,0,  -999.0000,9,      134.2,0,     -999.0,9
PANDORA,,010,06,, 5,,20140120,193822,-11.9995, 162.9978, 5092,    261.7,  16.8720,    35.3430,0,  -999.0000,9,      134.3,0,     -999.0,9
PANDORA,,010,06,, 6,,20140120,193822,-11.9995, 162.9978, 5092,    261.4,  16.8720,    35.3420,0,  -999.0000,9,      134.4,0,     -999.0,9
PANDORA,,010,06,, 7,,20140120,193822,-11.9995, 162.9978, 5092,    261.8,  16.8550,    35.3410,0,  -999.0000,9,      134.0,0,     -999.0,9
PANDORA,,010,06,, 8,,20140120,193822,-11.9995, 162.9978, 5092,    261.6,  16.8540,    35.3400,0,  -999.0000,9,      134.6,0,     -999.0,9
PANDORA,,010,06,, 9,,20140120,193822,-11.9995, 162.9978, 5092,    261.9,  16.8540,    35.3400,0,  -999.0000,9,      134.4,0,     -999.0,9
PANDORA,,010,06,,10,,20140120,193822,-11.9995, 162.9978, 5092,    262.1,  16.8030,    35.3350,0,  -999.0000,9,      134.5,0,     -999.0,9
PANDORA,,010,06,,11,,20140120,193822,-11.9995, 162.9978, 5092,    262.8,  16.7700,    35.3320,0,  -999.0000,9,      134.5,0,     -999.0,9
PANDORA,,010,06,,12,,20140120,193822,-11.9995, 162.9978, 5092,    140.3,  26.1670,    35.8590,0,  -999.0000,9,      138.5,0,     -999.0,9
PANDORA,,010,06,,13,,20140120,193822,-11.9995, 162.9978, 5092,    139.9,  26.1610,    35.8610,0,  -999.0000,9,      138.6,0,     -999.0,9
PANDORA,,010,06,,14,,20140120,193822,-11.9995, 162.9978, 5092,    140.0,  26.1640,    35.8600,0,  -999.0000,9,      138.9,0,     -999.0,9
PANDORA,,010,06,,15,,20140120,193822,-11.9995, 162.9978, 5092,    140.1,  26.1710,    35.8580,0,  -999.0000,9,      138.7,0,     -999.0,9
PANDORA,,010,06,,16,,20140120,193822,-11.9995, 162.9978, 5092,    140.1,  26.1470,    35.8670,0,  -999.0000,9,      138.6,0,     -999.0,9
PANDORA,,010,06,,17,,20140120,193822,-11.9995, 162.9978, 5092,    139.9,  26.1390,    35.8700,0,  -999.0000,9,      138.6,0,     -999.0,9
PANDORA,,010,06,,18,,20140120,193822,-11.9995, 162.9978, 5092,    140.5,  26.1250,    35.8750,0,  -999.0000,9,      138.6,0,     -999.0,9
PANDORA,,010,06,,19,,20140120,193822,-11.9995, 162.9978, 5092,    140.8,  26.1220,    35.8760,0,  -999.0000,9,      138.9,0,     -999.0,9
PANDORA,,010,06,,20,,20140120,193822,-11.9995, 162.9978, 5092,    141.4,  26.1170,    35.8770,0,  -999.0000,9,      138.6,0,     -999.0,9
PANDORA,,010,06,,21,,20140120,193822,-11.9995, 162.9978, 5092,    141.5,  26.1010,    35.8820,0,  -999.0000,9,      138.9,0,     -999.0,9
PANDORA,,010,06,,22,,20140120,193822,-11.9995, 162.9978, 5092,    141.2,  26.1030,    35.8800,0,  -999.0000,9,      138.9,0,     -999.0,9
PANDORA,,010,07,, 1,,20140120,204328,-11.9993, 162.9988, 5092,     91.6,  27.8940,    34.6790,0,  -999.0000,9,      187.7,0,     -999.0,9
PANDORA,,010,07,, 2,,20140120,204328,-11.9993, 162.9988, 5092,     91.3,  27.8930,    34.6770,0,  -999.0000,9,      187.8,0,     -999.0,9
PANDORA,,010,07,, 3,,20140120,204328,-11.9993, 162.9988, 5092,     91.7,  27.8920,    34.6790,0,  -999.0000,9,      187.3,0,     -999.0,9
PANDORA,,010,07,, 4,,20140120,204328,-11.9993, 162.9988, 5092,     91.3,  27.8910,    34.6790,0,  -999.0000,9,      187.3,0,     -999.0,9
PANDORA,,010,07,, 5,,20140120,204328,-11.9993, 162.9988, 5092,     91.1,  27.8920,    34.6780,0,  -999.0000,9,      187.0,0,     -999.0,9
PANDORA,,010,07,, 6,,20140120,204328,-11.9993, 162.9988, 5092,     91.5,  27.8900,    34.6800,0,  -999.0000,9,      187.2,0,     -999.0,9
PANDORA,,010,07,, 7,,20140120,204328,-11.9993, 162.9988, 5092,     91.3,  27.8890,    34.6810,0,  -999.0000,9,      186.7,0,     -999.0,9
PANDORA,,010,07,, 8,,20140120,204328,-11.9993, 162.9988, 5092,     91.7,  27.8890,    34.6800,0,  -999.0000,9,      186.9,0,     -999.0,9
PANDORA,,010,07,, 9,,20140120,204328,-11.9993, 162.9988, 5092,     91.8,  27.8820,    34.6830,0,  -999.0000,9,      186.5,0,     -999.0,9
PANDORA,,010,07,,10,,20140120,204328,-11.9993, 162.9988, 5092,     91.7,  27.8800,    34.6850,0,  -999.0000,9,      186.7,0,     -999.0,9
PANDORA,,010,07,,11,,20140120,204328,-11.9993, 162.9988, 5092,     91.7,  27.8790,    34.6850,0,  -999.0000,9,      187.0,0,     -999.0,9
PANDORA,,010,07,,12,,20140120,204328,-11.9993, 162.9988, 5092,     35.6,  27.9590,    34.5940,0,  -999.0000,9,      189.1,0,     -999.0,9
PANDORA,,010,07,,13,,20140120,204328,-11.9993, 162.9988, 5092,     35.7,  27.9600,    34.5940,0,  -999.0000,9,      188.6,0,     -999.0,9
PANDORA,,010,07,,14,,20140120,204328,-11.9993, 162.9988, 5092,     35.5,  27.9600,    34.5940,0,  -999.0000,9,      188.8,0,     -999.0,9
PANDORA,,010,07,,15,,20140120,204328,-11.9993, 162.9988, 5092,     35.9,  27.9610,    34.5940,0,  -999.0000,9,      188.9,0,     -999.0,9
PANDORA,,010,07,,16,,20140120,204328,-11.9993, 162.9988, 5092,     35.9,  27.9610,    34.5940,0,  -999.0000,9,      188.8,0,     -999.0,9
PANDORA,,010,07,,17,,20140120,204328,-11.9993, 162.9988, 5092,     35.7,  27.9600,    34.5940,0,  -999.0000,9,      188.8,0,     -999.0,9
PANDORA,,010,07,,18,,20140120,204328,-11.9993, 162.9988, 5092,     35.7,  27.9600,    34.5940,0,  -999.0000,9,      189.0,0,     -999.0,9
PANDORA,,010,07,,19,,20140120,204328,-11.9993, 162.9988, 5092,     35.9,  27.9610,    34.5940,0,  -999.0000,9,      189.0,0,     -999.0,9
PANDORA,,010,07,,20,,20140120,204328,-11.9993, 162.9988, 5092,     35.6,  27.9600,    34.5940,0,  -999.0000,9,      188.8,0,     -999.0,9
PANDORA,,010,07,,21,,20140120,204328,-11.9993, 162.9988, 5092,     36.0,  27.9610,    34.5940,0,  -999.0000,9,      189.6,0,     -999.0,9
PANDORA,,010,07,,22,,20140120,204328,-11.9993, 162.9988, 5092,     35.6,  27.9610,    34.5940,0,  -999.0000,9,      189.5,0,     -999.0,9
PANDORA,,010,09,, 1,,20140120,215334,-11.9975, 163.0033, 5092,    998.3,   4.1220,    34.5190,0,  -999.0000,9,      137.0,0,     -999.0,9
PANDORA,,010,09,, 2,,20140120,215334,-11.9975, 163.0033, 5092,    998.0,   4.1230,    34.5190,0,  -999.0000,9,      136.9,0,     -999.0,9
PANDORA,,010,09,, 3,,20140120,215334,-11.9975, 163.0033, 5092,    681.3,   5.7470,    34.4610,0,  -999.0000,9,      156.9,0,     -999.0,9
PANDORA,,010,09,, 4,,20140120,215334,-11.9975, 163.0033, 5092,    681.7,   5.7480,    34.4610,0,  -999.0000,9,      157.1,0,     -999.0,9
PANDORA,,010,09,, 5,,20140120,215334,-11.9975, 163.0033, 5092,    515.7,   7.8780,    34.5330,0,  -999.0000,9,      161.7,0,     -999.0,9
PANDORA,,010,09,, 6,,20140120,215334,-11.9975, 163.0033, 5092,    515.9,   7.8760,    34.5340,0,  -999.0000,9,      161.4,0,     -999.0,9
PANDORA,,010,09,, 7,,20140120,215334,-11.9975, 163.0033, 5092,    350.5,  13.1810,    34.9560,0,  -999.0000,9,      145.5,0,     -999.0,9
PANDORA,,010,09,, 8,,20140120,215334,-11.9975, 163.0033, 5092,    350.2,  13.2290,    34.9640,0,  -999.0000,9,      144.5,0,     -999.0,9
PANDORA,,010,09,, 9,,20140120,215334,-11.9975, 163.0033, 5092,    260.7,  18.3190,    35.5030,0,  -999.0000,9,      133.7,0,     -999.0,9
PANDORA,,010,09,,10,,20140120,215334,-11.9975, 163.0033, 5092,    260.8,  18.3000,    35.5040,0,  -999.0000,9,      133.9,0,     -999.0,9
PANDORA,,010,09,,11,,20140120,215334,-11.9975, 163.0033, 5092,    185.5,  23.4650,    36.0170,0,  -999.0000,9,      134.2,0,     -999.0,9
PANDORA,,010,09,,12,,20140120,215334,-11.9975, 163.0033, 5092,    185.7,  23.4750,    36.0190,0,  -999.0000,9,      134.3,0,     -999.0,9
PANDORA,,010,09,,13,,20140120,215334,-11.9975, 163.0033, 5092,    151.4,  25.5150,    35.9560,0,  -999.0000,9,      136.4,0,     -999.0,9
PANDORA,,010,09,,14,,20140120,215334,-11.9975, 163.0033, 5092,    151.1,  25.5310,    35.9570,0,  -999.0000,9,      136.3,0,     -999.0,9
PANDORA,,010,09,,15,,20140120,215334,-11.9975, 163.0033, 5092,    100.3,  27.7850,    34.8070,0,  -999.0000,9,      181.3,0,     -999.0,9
PANDORA,,010,09,,16,,20140120,215334,-11.9975, 163.0033, 5092,     99.9,  27.7830,    34.8040,0,  -999.0000,9,      182.1,0,     -999.0,9
PANDORA,,010,09,,17,,20140120,215334,-11.9975, 163.0033, 5092,     51.0,  27.9560,    34.5910,0,  -999.0000,9,      186.5,0,     -999.0,9
PANDORA,,010,09,,18,,20140120,215334,-11.9975, 163.0033, 5092,     50.4,  27.9560,    34.5910,0,  -999.0000,9,      185.8,0,     -999.0,9
PANDORA,,010,09,,19,,20140120,215334,-11.9975, 163.0033, 5092,     34.9,  27.9530,    34.5920,0,  -999.0000,9,      187.2,0,     -999.0,9
PANDORA,,010,09,,20,,20140120,215334,-11.9975, 163.0033, 5092,     35.2,  27.9530,    34.5920,0,  -999.0000,9,      187.5,0,     -999.0,9
PANDORA,,010,09,,21,,20140120,215334,-11.9975, 163.0033, 5092,      4.5,  27.9560,    34.5930,0,  -999.0000,9,      185.9,0,     -999.0,9
PANDORA,,010,09,,22,,20140120,215334,-11.9975, 163.0033, 5092,      4.7,  27.9560,    34.5930,0,  -999.0000,9,      187.1,0,     -999.0,9
PANDORA,,011,01,, 1,,20140120,051335,-10.9988, 162.9990, 5103,   2000.5,   2.2450,    34.6410,0,  -999.0000,9,      134.5,0,     -999.0,9
PANDORA,,011,01,, 2,,20140120,051335,-10.9988, 162.9990, 5103,   1800.1,   2.4120,    34.6280,0,  -999.0000,9,      133.5,0,     -999.0,9
PANDORA,,011,01,, 3,,20140120,051335,-10.9988, 162.9990, 5103,   1600.8,   2.7270,    34.6030,0,  -999.0000,9,      131.4,0,     -999.0,9
PANDORA,,011,01,, 4,,20140120,051335,-10.9988, 162.9990, 5103,   1401.5,   3.1350,    34.5810,0,  -999.0000,9,      129.8,0,     -999.0,9
PANDORA,,011,01,, 5,,20140120,051335,-10.9988, 162.9990, 5103,   1200.7,   3.5350,    34.5580,0,  -999.0000,9,      128.3,0,     -999.0,9
PANDORA,,011,01,, 6,,20140120,051335,-10.9988, 162.9990, 5103,   1001.5,   4.4280,    34.5180,0,  -999.0000,9,      132.1,0,     -999.0,9
PANDORA,,011,01,, 7,,20140120,051335,-10.9988, 162.9990, 5103,    900.4,   4.8810,    34.5020,0,  -999.0000,9,      136.6,0,     -999.0,9
PANDORA,,011,01,, 8,,20140120,051335,-10.9988, 162.9990, 5103,    801.0,   5.2280,    34.4980,0,  -999.0000,9,      139.3,0,     -999.0,9
PANDORA,,011,01,, 9,,20140120,051335,-10.9988, 162.9990, 5103,    699.9,   5.7670,    34.5060,0,  -999.0000,9,      135.9,0,     -999.0,9
PANDORA,,011,01,,10,,20140120,051335,-10.9988, 162.9990, 5103,    599.9,   6.6760,    34.5180,0,  -999.0000,9,      140.6,0,     -999.0,9
PANDORA,,011,01,,11,,20140120,051335,-10.9988, 162.9990, 5103,    600.6,   6.6900,    34.5230,0,  -999.0000,9,      139.8,0,     -999.0,9
PANDORA,,011,01,,12,,20140120,051335,-10.9988, 162.9990, 5103,    501.7,   7.6280,    34.5710,0,  -999.0000,9,      136.9,0,     -999.0,9
PANDORA,,011,01,,13,,20140120,051335,-10.9988, 162.9990, 5103,    401.1,   8.9440,    34.6460,0,  -999.0000,9,      136.8,0,     -999.0,9
PANDORA,,011,01,,14,,20140120,051335,-10.9988, 162.9990, 5103,    299.8,  14.6940,    35.1200,0,  -999.0000,9,      134.9,0,     -999.0,9
PANDORA,,011,01,,15,,20140120,051335,-10.9988, 162.9990, 5103,    249.7,  18.4370,    35.5180,0,  -999.0000,9,      131.3,0,     -999.0,9
PANDORA,,011,01,,16,,20140120,051335,-10.9988, 162.9990, 5103,    201.2,  21.6650,    35.8660,0,  -999.0000,9,      130.9,0,     -999.0,9
PANDORA,,011,01,,17,,20140120,051335,-10.9988, 162.9990, 5103,    150.7,  25.4130,    35.8590,0,  -999.0000,9,      131.9,0,     -999.0,9
PANDORA,,011,01,,18,,20140120,051335,-10.9988, 162.9990, 5103,    100.2,  28.6350,    35.2910,0,  -999.0000,9,      170.6,0,     -999.0,9
PANDORA,,011,01,,19,,20140120,051335,-10.9988, 162.9990, 5103,     74.6,  28.5450,    34.5280,0,  -999.0000,9,      184.5,0,     -999.0,9
PANDORA,,011,01,,20,,20140120,051335,-10.9988, 162.9990, 5103,     49.9,  28.5370,    34.5140,0,  -999.0000,9,      186.8,0,     -999.0,9
PANDORA,,011,01,,21,,20140120,051335,-10.9988, 162.9990, 5103,     25.2,  28.5600,    34.5120,0,  -999.0000,9,      186.3,0,     -999.0,9
PANDORA,,011,01,,22,,20140120,051335,-10.9988, 162.9990, 5103,      5.1,  28.6080,    34.5190,0,  -999.0000,9,      186.2,0,     -999.0,9
PANDORA,,012,01,, 1,,20140120,132104, -9.9985, 162.9992, 3853,   2000.5,   2.3470,    34.6280,0,    34.6270,2,      128.7,0,      134.3,3
PANDORA,,012,01,, 2,,20140120,132104, -9.9985, 162.9992, 3853,   1900.8,   2.4480,    34.6200,0,    34.6200,2,      128.1,0,      130.9,2
PANDORA,,012,01,, 3,,20140120,132104, -9.9985, 162.9992, 3853,   1663.8,   2.6960,    34.6020,0,    34.6020,2,      129.7,0,      131.8,2
PANDORA,,012,01,, 4,,20140120,132104, -9.9985, 162.9992, 3853,   1465.4,   3.0210,    34.5830,0,    34.5830,2,      128.4,0,      129.2,2
PANDORA,,012,01,, 5,,20140120,132104, -9.9985, 162.9992, 3853,   1265.6,   3.3310,    34.5660,0,    34.5650,2,      129.5,0,      131.2,2
PANDORA,,012,01,, 6,,20140120,132104, -9.9985, 162.9992, 3853,   1065.7,   3.9470,    34.5380,0,    34.5380,2,      129.2,0,      129.9,2
PANDORA,,012,01,, 7,,20140120,132104, -9.9985, 162.9992, 3853,    936.2,   4.5220,    34.5190,0,    34.5180,2,      129.9,0,      131.9,2
PANDORA,,012,01,, 8,,20140120,132104, -9.9985, 162.9992, 3853,    835.8,   4.8690,    34.5100,0,  -999.0000,9,      129.6,0,     -999.0,9
PANDORA,,012,01,, 9,,20140120,132104, -9.9985, 162.9992, 3853,    735.8,   5.1740,    34.5050,0,    34.5040,2,      132.9,0,      133.4,2
PANDORA,,012,01,,10,,20140120,132104, -9.9985, 162.9992, 3853,    635.7,   5.7570,    34.5050,0,  -999.0000,9,      136.2,0,     -999.0,9
PANDORA,,012,01,,11,,20140120,132104, -9.9985, 162.9992, 3853,    536.0,   6.8420,    34.5260,0,    34.5260,2,      141.8,0,      142.6,2
PANDORA,,012,01,,12,,20140120,132104, -9.9985, 162.9992, 3853,    536.1,   6.8640,    34.5260,0,    34.5250,2,      142.1,0,      142.0,2
PANDORA,,012,01,,13,,20140120,132104, -9.9985, 162.9992, 3853,    435.6,   8.8520,    34.6540,0,    34.6540,2,      126.4,0,      126.2,2
PANDORA,,012,01,,14,,20140120,132104, -9.9985, 162.9992, 3853,    335.9,  11.8350,    34.8810,0,  -999.0000,9,      113.8,0,     -999.0,9
PANDORA,,012,01,,15,,20140120,132104, -9.9985, 162.9992, 3853,    265.7,  16.6520,    35.3310,0,    35.3300,2,      130.2,0,      129.2,2
PANDORA,,012,01,,16,,20140120,132104, -9.9985, 162.9992, 3853,    215.7,  19.8920,    35.6610,0,    35.6600,2,      121.8,0,      122.6,2
PANDORA,,012,01,,17,,20140120,132104, -9.9985, 162.9992, 3853,    151.0,  24.6030,    35.9110,0,    35.9090,2,      127.4,0,      129.0,2
PANDORA,,012,01,,18,,20140120,132104, -9.9985, 162.9992, 3853,    100.7,  27.2880,    35.5170,0,    35.5140,2,      146.6,0,      147.3,2
PANDORA,,012,01,,19,,20140120,132104, -9.9985, 162.9992, 3853,     74.8,  28.9000,    34.8620,0,  -999.0000,9,      179.8,0,     -999.0,9
PANDORA,,012,01,,20,,20140120,132104, -9.9985, 162.9992, 3853,     49.8,  28.9170,    34.6310,0,    34.6290,2,      186.6,0,      188.1,2
PANDORA,,012,01,,21,,20140120,132104, -9.9985, 162.9992, 3853,     24.8,  28.8880,    34.6100,0,  -999.0000,9,      186.5,0,     -999.0,9
PANDORA,,012,01,,22,,20140120,132104, -9.9985, 162.9992, 3853,      4.7,  28.8850,    34.6110,0,    34.6080,2,      186.4,0,      189.8,2