BOTTLE,20140909LEGIRDAG
EXPOCODE,SECT_ID,STNNBR,CASTNO,SAMPNO,BTLNBR,BTLNBR_FLAG_W,DATE,TIME,LATITUDE,LONGITUDE,DEPTH,CTDPRS,CTDTMP,CTDSAL,CTDSAL_FLAG_W,SALNTY,SALNTY_FLAG_W,CTDOXY,CTDOXY_FLAG_W,OXYGEN,OXYGEN_FLAG_W
,,,,,,,,,,,,,DBARS,ITS-90,PSS-78,,PSS-78,,UMOL/KG,,UMOL/KG,
PANDORA,,065,01,, 1,,20140120,042721, -7.9990, 152.5005, 4006,   2000.4,   2.2990,    34.6380,0,    34.6380,2,      123.4,0,      128.6,2
PANDORA,,065,01,, 2,,20140120,042721, -7.9990, 152.5005, 4006,   1735.4,   2.5890,    34.6180,0,  -999.0000,9,      123.7,0,     -999.0,9
PANDORA,,065,01,, 3,,20140120,042721, -7.9990, 152.5005, 4006,   1535.9,   2.8720,    34.6000,0,    34.5990,2,      123.7,0,      127.5,2
PANDORA,,065,01,, 4,,20140120,042721, -7.9990, 152.5005, 4006,   1333.7,   3.2730,    34.5710,0,    34.5710,2,      130.1,0,      133.8,2
PANDORA,,065,01,, 5,,20140120,042721, -7.9990, 152.5005, 4006,   1137.5,   3.8710,    34.5300,0,  -999.0000,9,      138.6,0,     -999.0,9
PANDORA,,065,01,, 6,,20140120,042721, -7.9990, 152.5005, 4006,   1138.2,   3.8710,    34.5300,0,    34.5300,2,      138.7,0,      141.7,2
PANDORA,,065,01,, 7,,20140120,042721, -7.9990, 152.5005, 4006,    933.9,   4.8100,    34.4780,0,    34.4780,2,      152.7,0,      156.7,2
PANDORA,,065,01,, 8,,20140120,042721, -7.9990, 152.5005, 4006,    865.8,   5.1830,    34.4610,0,  -999.0000,9,      159.5,0,     -999.0,9
PANDORA,,065,01,, 9,,20140120,042721, -7.9990, 152.5005, 4006,    765.8,   5.9550,    34.4630,0,    34.4620,2,      165.0,0,      169.5,2
PANDORA,,065,01,,10,,20140120,042721, -7.9990, 152.5005, 4006,    665.9,   6.6460,    34.4810,0,  -999.0000,9,      170.1,0,     -999.0,9
PANDORA,,065,01,,11,,20140120,042721, -7.9990, 152.5005, 4006,    565.7,   7.9420,    34.5630,0,    34.5630,2,      175.5,0,      179.4,2
PANDORA,,065,01,,12,,20140120,042721, -7.9990, 152.5005, 4006,    466.5,   8.4640,    34.6030,0,    34.6030,2,      174.8,0,      178.2,2
PANDORA,,065,01,,13,,20140120,042721, -7.9990, 152.5005, 4006,    365.1,   9.6680,    34.7040,0,  -999.0000,9,      169.8,0,     -999.0,9
PANDORA,,065,01,,14,,20140120,042721, -7.9990, 152.5005, 4006,    285.9,  11.1210,    34.8200,0,    34.8190,2,      148.5,0,      155.0,3
PANDORA,,065,01,,15,,20140120,042721, -7.9990, 152.5005, 4006,    234.6,  16.3910,    35.3110,0,  -999.0000,9,      138.5,0,     -999.0,9
PANDORA,,065,01,,16,,20140120,042721, -7.9990, 152.5005, 4006,    187.1,  20.8480,    35.6380,0,    35.6360,2,      138.7,0,      139.1,3
PANDORA,,065,01,,17,,20140120,042721, -7.9990, 152.5005, 4006,    134.7,  24.1930,    35.5180,0,  -999.0000,9,      142.5,0,     -999.0,9
PANDORA,,065,01,,18,,20140120,042721, -7.9990, 152.5005, 4006,    100.8,  27.2750,    35.4740,0,  -999.0000,9,      139.2,0,     -999.0,9
PANDORA,,065,01,,19,,20140120,042721, -7.9990, 152.5005, 4006,     74.7,  28.3240,    35.4210,0,    35.4180,2,      148.6,0,      152.8,2
PANDORA,,065,01,,20,,20140120,042721, -7.9990, 152.5005, 4006,     50.1,  28.2450,    34.7630,0,  -999.0000,9,      186.6,0,     -999.0,9
PANDORA,,065,01,,21,,20140120,042721, -7.9990, 152.5005, 4006,     25.1,  28.2850,    34.7640,0,    34.7610,2,      186.8,0,      192.0,2
PANDORA,,066,01,, 1,,20140120,080443, -8.2465, 152.4967, 4964,   1999.9,   2.2860,    34.6390,0,  -999.0000,9,      124.1,0,     -999.0,9
PANDORA,,066,01,, 2,,20140120,080443, -8.2465, 152.4967, 4964,   1901.3,   2.3930,    34.6320,0,    34.6310,2,      122.0,0,      125.8,2
PANDORA,,066,01,, 3,,20140120,080443, -8.2465, 152.4967, 4964,   1663.5,   2.6860,    34.6120,0,  -999.0000,9,      122.5,0,     -999.0,9
PANDORA,,066,01,, 4,,20140120,080443, -8.2465, 152.4967, 4964,   1466.2,   3.0310,    34.5890,0,    34.5890,2,      125.6,0,      129.3,2
PANDORA,,066,01,, 5,,20140120,080443, -8.2465, 152.4967, 4964,   1271.1,   3.5590,    34.5530,0,    34.5530,2,      133.5,0,      137.1,2
PANDORA,,066,01,, 6,,20140120,080443, -8.2465, 152.4967, 4964,   1066.8,   4.0980,    34.5170,0,  -999.0000,9,      141.5,0,     -999.0,9
PANDORA,,066,01,, 7,,20140120,080443, -8.2465, 152.4967, 4964,   1067.1,   4.0970,    34.5170,0,    34.5170,2,      141.6,0,      145.5,2
PANDORA,,066,01,, 8,,20140120,080443, -8.2465, 152.4967, 4964,    935.2,   4.8530,    34.4780,0,  -999.0000,9,      152.7,0,     -999.0,9
PANDORA,,066,01,, 9,,20140120,080443, -8.2465, 152.4967, 4964,    832.7,   5.4150,    34.4650,0,    34.4650,2,      161.7,0,      165.1,2
PANDORA,,066,01,,10,,20140120,080443, -8.2465, 152.4967, 4964,    737.8,   6.3630,    34.4730,0,  -999.0000,9,      171.3,0,     -999.0,9
PANDORA,,066,01,,11,,20140120,080443, -8.2465, 152.4967, 4964,    635.7,   6.7870,    34.4890,0,    34.4890,2,      174.9,0,      178.8,2
PANDORA,,066,01,,12,,20140120,080443, -8.2465, 152.4967, 4964,    535.6,   7.6390,    34.5370,0,  -999.0000,9,      177.6,0,     -999.0,9
PANDORA,,066,01,,13,,20140120,080443, -8.2465, 152.4967, 4964,    435.9,   8.4390,    34.6020,0,    34.6020,2,      174.7,0,      178.1,2
PANDORA,,066,01,,14,,20140120,080443, -8.2465, 152.4967, 4964,    336.1,  10.4100,    34.7740,0,  -999.0000,9,      168.7,0,     -999.0,9
PANDORA,,066,01,,15,,20140120,080443, -8.2465, 152.4967, 4964,    266.1,  15.2340,    35.2090,0,    35.2080,2,      153.7,0,      157.1,2
PANDORA,,066,01,,16,,20140120,080443, -8.2465, 152.4967, 4964,    215.8,  19.3400,    35.5520,0,  -999.0000,9,      140.1,0,     -999.0,9
PANDORA,,066,01,,17,,20140120,080443, -8.2465, 152.4967, 4964,    155.4,  22.5140,    35.6270,0,    35.6250,2,      138.3,0,      142.6,2
PANDORA,,066,01,,18,,20140120,080443, -8.2465, 152.4967, 4964,     98.0,  26.1770,    35.4280,0,    35.4260,2,      140.5,0,      144.4,2
PANDORA,,066,01,,19,,20140120,080443, -8.2465, 152.4967, 4964,     74.8,  27.2210,    35.0730,0,  -999.0000,9,      164.3,0,     -999.0,9
PANDORA,,066,01,,20,,20140120,080443, -8.2465, 152.4967, 4964,     50.6,  28.2510,    34.8500,0,    34.8470,2,      185.6,0,      191.3,2
PANDORA,,066,01,,21,,20140120,080443, -8.2465, 152.4967, 4964,     25.1,  28.1940,    34.7960,0,  -999.0000,9,      187.4,0,     -999.0,9
PANDORA,,066,01,,22,,20140120,080443, -8.2465, 152.4967, 4964,      5.3,  28.1750,    34.7910,0,    34.7890,2,      185.5,0,      193.7,2
PANDORA,,067,01,, 1,,20140120,115652, -8.4992, 152.4992, 3328,   2000.6,   2.2790,    34.6400,0,  -999.0000,9,      123.6,0,     -999.0,9
PANDORA,,067,01,, 2,,20140120,115652, -8.4992, 152.4992, 3328,   1865.4,   2.4790,    34.6260,0,    34.6260,2,      121.9,0,      126.9,2
PANDORA,,067,01,, 3,,20140120,115652, -8.4992, 152.4992, 3328,   1735.4,   2.6620,    34.6140,0,  -999.0000,9,      120.5,0,     -999.0,9
PANDORA,,067,01,, 4,,20140120,115652, -8.4992, 152.4992, 3328,   1535.8,   2.9480,    34.5960,0,    34.5960,2,      121.9,0,      125.4,2
PANDORA,,067,01,, 5,,20140120,115652, -8.4992, 152.4992, 3328,   1335.8,   3.2790,    34.5740,0,  -999.0000,9,      126.5,0,     -999.0,9
PANDORA,,067,01,, 6,,20140120,115652, -8.4992, 152.4992, 3328,   1132.9,   3.8700,    34.5310,0,    34.5310,2,      138.7,0,      142.3,2
PANDORA,,067,01,, 7,,20140120,115652, -8.4992, 152.4992, 3328,    965.4,   4.4380,    34.4970,0,  -999.0000,9,      147.8,0,     -999.0,9
PANDORA,,067,01,, 8,,20140120,115652, -8.4992, 152.4992, 3328,    865.6,   4.9550,    34.4790,0,  -999.0000,9,      152.8,0,     -999.0,9
PANDORA,,067,01,, 9,,20140120,115652, -8.4992, 152.4992, 3328,    765.4,   5.4080,    34.4620,0,    34.4620,2,      161.5,0,      166.0,2
PANDORA,,067,01,,10,,20140120,115652, -8.4992, 152.4992, 3328,    666.0,   6.7520,    34.4900,0,  -999.0000,9,      173.6,0,     -999.0,9
PANDORA,,067,01,,11,,20140120,115652, -8.4992, 152.4992, 3328,    565.6,   7.3170,    34.5220,0,    34.5220,2,      175.4,0,      179.8,2
PANDORA,,067,01,,12,,20140120,115652, -8.4992, 152.4992, 3328,    465.7,   8.0080,    34.5690,0,  -999.0000,9,      175.5,0,     -999.0,9
PANDORA,,067,01,,13,,20140120,115652, -8.4992, 152.4992, 3328,    365.1,   9.2220,    34.6700,0,    34.6700,2,      171.9,0,      176.3,2
PANDORA,,067,01,,14,,20140120,115652, -8.4992, 152.4992, 3328,    286.2,  14.3250,    35.1270,0,  -999.0000,9,      155.6,0,     -999.0,9
PANDORA,,067,01,,15,,20140120,115652, -8.4992, 152.4992, 3328,    235.2,  19.6490,    35.5670,0,    35.5660,2,      140.8,0,      144.5,2
PANDORA,,067,01,,16,,20140120,115652, -8.4992, 152.4992, 3328,    185.5,  21.1080,    35.6150,0,  -999.0000,9,      139.4,0,     -999.0,9
PANDORA,,067,01,,17,,20140120,115652, -8.4992, 152.4992, 3328,    136.2,  23.6300,    35.5830,0,    35.5800,2,      138.6,0,      141.2,2
PANDORA,,067,01,,18,,20140120,115652, -8.4992, 152.4992, 3328,    100.6,  26.3370,    35.4440,0,  -999.0000,9,      140.1,0,     -999.0,9
PANDORA,,067,01,,19,,20140120,115652, -8.4992, 152.4992, 3328,     74.9,  27.4880,    35.1660,0,    35.1630,2,      159.5,0,      160.9,2
PANDORA,,067,01,,20,,20140120,115652, -8.4992, 152.4992, 3328,     50.1,  28.0550,    34.8250,0,  -999.0000,9,      184.5,0,     -999.0,9
PANDORA,,067,01,,21,,20140120,115652, -8.4992, 152.4992, 3328,     25.0,  28.0520,    34.8250,0,    34.8230,2,      185.0,0,      191.8,2
PANDORA,,067,01,,22,,20140120,115652, -8.4992, 152.4992, 3328,      5.5,  28.0390,    34.8250,0,  -999.0000,9,      185.7,0,     -999.0,9
PANDORA,,068,01,, 1,,20140120,160638, -8.8318, 152.4835,  912,    822.7,   5.1860,    34.4750,0,  -999.0000,9,      155.9,0,     -999.0,9
PANDORA,,068,01,, 2,,20140120,160638, -8.8318, 152.4835,  912,    823.0,   5.1870,    34.4750,0,  -999.0000,9,      155.9,0,     -999.0,9
PANDORA,,068,01,, 3,,20140120,160638, -8.8318, 152.4835,  912,    801.0,   5.2390,    34.4660,0,  -999.0000,9,      160.2,0,     -999.0,9
PANDORA,,068,01,, 4,,20140120,160638, -8.8318, 152.4835,  912,    750.4,   5.5040,    34.4670,0,  -999.0000,9,      162.3,0,     -999.0,9
PANDORA,,068,02,, 1,,20140120,172352, -8.8307, 152.4850,  925,    850.3,   4.9660,    34.4780,0,  -999.0000,9,      153.1,0,     -999.0,9
PANDORA,,068,02,, 2,,20140120,172352, -8.8307, 152.4850,  925,    850.5,   4.9660,    34.4780,0,  -999.0000,9,      152.9,0,     -999.0,9
PANDORA,,068,02,, 3,,20140120,172352, -8.8307, 152.4850,  925,    850.7,   4.9660,    34.4780,0,    34.4780,2,      152.7,0,      162.0,3
PANDORA,,068,02,, 4,,20140120,172352, -8.8307, 152.4850,  925,    800.5,   5.1550,    34.4710,0,  -999.0000,9,      157.3,0,     -999.0,9
PANDORA,,068,02,, 5,,20140120,172352, -8.8307, 152.4850,  925,    699.7,   5.8720,    34.4680,0,    34.4680,2,      165.6,0,      169.4,2
PANDORA,,068,02,, 6,,20140120,172352, -8.8307, 152.4850,  925,    699.6,   5.8700,    34.4680,0,  -999.0000,9,      165.8,0,     -999.0,9
PANDORA,,068,02,, 7,,20140120,172352, -8.8307, 152.4850,  925,    600.5,   6.9720,    34.5140,0,    34.5130,2,      170.5,0,      173.7,2
PANDORA,,068,02,, 8,,20140120,172352, -8.8307, 152.4850,  925,    500.9,   7.7570,    34.5570,0,  -999.0000,9,      173.7,0,     -999.0,9
PANDORA,,068,02,, 9,,20140120,172352, -8.8307, 152.4850,  925,    400.6,   9.0590,    34.6550,0,    34.6550,2,      173.0,0,      176.6,2
PANDORA,,068,02,,10,,20140120,172352, -8.8307, 152.4850,  925,    301.9,  15.7740,    35.2570,0,  -999.0000,9,      151.8,0,     -999.0,9
PANDORA,,068,02,,11,,20140120,172352, -8.8307, 152.4850,  925,    251.7,  17.7650,    35.4380,0,    35.4370,2,      146.0,0,      150.4,2
PANDORA,,068,02,,12,,20140120,172352, -8.8307, 152.4850,  925,    200.4,  19.9980,    35.5820,0,  -999.0000,9,      140.5,0,     -999.0,9
PANDORA,,068,02,,13,,20140120,172352, -8.8307, 152.4850,  925,    151.3,  23.4620,    35.6200,0,    35.6180,2,      136.6,0,      141.0,2
PANDORA,,068,02,,14,,20140120,172352, -8.8307, 152.4850,  925,    151.6,  23.4280,    35.6250,0,  -999.0000,9,      136.5,0,     -999.0,9
PANDORA,,068,02,,15,,20140120,172352, -8.8307, 152.4850,  925,    100.6,  25.9970,    35.4860,0,    35.4840,2,      136.6,0,      142.9,2
PANDORA,,068,02,,16,,20140120,172352, -8.8307, 152.4850,  925,    100.7,  25.9780,    35.4860,0,  -999.0000,9,      137.0,0,     -999.0,9
PANDORA,,068,02,,17,,20140120,172352, -8.8307, 152.4850,  925,     74.6,  27.9910,    34.8270,0,  -999.0000,9,      184.1,0,     -999.0,9
PANDORA,,068,02,,18,,20140120,172352, -8.8307, 152.4850,  925,     49.8,  28.0050,    34.8180,0,    34.8150,2,      185.1,0,      190.2,2
PANDORA,,068,02,,19,,20140120,172352, -8.8307, 152.4850,  925,     49.7,  28.0040,    34.8170,0,  -999.0000,9,      185.5,0,     -999.0,9
PANDORA,,068,02,,20,,20140120,172352, -8.8307, 152.4850,  925,     24.9,  28.0010,    34.8180,0,  -999.0000,9,      185.1,0,     -999.0,9
PANDORA,,068,02,,21,,20140120,172352, -8.8307, 152.4850,  925,      5.3,  27.9840,    34.8180,0,    34.8160,2,      184.9,0,      191.6,2
PANDORA,,068,02,,22,,20140120,172352, -8.8307, 152.4850,  925,      5.2,  27.9890,    34.8180,0,  -999.0000,9,      184.6,0,     -999.0,9
PANDORA,,069,01,, 1,,20140120,201346, -8.8168, 152.3147,    9,    849.6,   4.7810,    34.4910,0,    34.4910,2,      147.7,0,      151.1,2
PANDORA,,069,01,, 2,,20140120,201346, -8.8168, 152.3147,    9,    849.4,   4.7800,    34.4910,0,  -999.0000,9,      147.5,0,     -999.0,9
PANDORA,,069,01,, 3,,20140120,201346, -8.8168, 152.3147,    9,    834.6,   4.7770,    34.4900,0,    34.4900,2,      148.2,0,      151.2,2
PANDORA,,069,01,, 4,,20140120,201346, -8.8168, 152.3147,    9,    834.3,   4.7770,    34.4900,0,  -999.0000,9,      148.1,0,     -999.0,9
PANDORA,,069,01,, 5,,20140120,201346, -8.8168, 152.3147,    9,    735.2,   5.4090,    34.4790,0,    34.4790,2,      155.6,0,      159.1,2
PANDORA,,069,01,, 6,,20140120,201346, -8.8168, 152.3147,    9,    636.2,   6.4120,    34.4880,0,  -999.0000,9,      167.7,0,     -999.0,9
PANDORA,,069,01,, 7,,20140120,201346, -8.8168, 152.3147,    9,    636.4,   6.4240,    34.4870,0,    34.4870,2,      167.8,0,      172.0,2
PANDORA,,069,01,, 8,,20140120,201346, -8.8168, 152.3147,    9,    535.9,   7.9150,    34.5680,0,  -999.0000,9,      173.3,0,     -999.0,9
PANDORA,,069,01,, 9,,20140120,201346, -8.8168, 152.3147,    9,    435.7,   9.4380,    34.6890,0,    34.6880,2,      170.7,0,      174.9,2
PANDORA,,069,01,,10,,20140120,201346, -8.8168, 152.3147,    9,    336.4,  11.2300,    34.8490,0,  -999.0000,9,      165.0,0,     -999.0,9
PANDORA,,069,01,,11,,20140120,201346, -8.8168, 152.3147,    9,    263.9,  15.0610,    35.1950,0,    35.1940,2,      153.9,0,      158.4,2
PANDORA,,069,01,,12,,20140120,201346, -8.8168, 152.3147,    9,    215.3,  19.2000,    35.5500,0,  -999.0000,9,      138.9,0,     -999.0,9
PANDORA,,069,01,,13,,20140120,201346, -8.8168, 152.3147,    9,    157.4,  22.4010,    35.6660,0,    35.6640,2,      134.7,0,      138.9,2
PANDORA,,069,01,,14,,20140120,201346, -8.8168, 152.3147,    9,    158.5,  22.3790,    35.6640,0,  -999.0000,9,      134.8,0,     -999.0,9
PANDORA,,069,01,,15,,20140120,201346, -8.8168, 152.3147,    9,    101.8,  26.4910,    35.4440,0,    35.4410,2,      139.4,0,      145.0,2
PANDORA,,069,01,,16,,20140120,201346, -8.8168, 152.3147,    9,    101.3,  26.5280,    35.4370,0,  -999.0000,9,      140.1,0,     -999.0,9
PANDORA,,069,01,,17,,20140120,201346, -8.8168, 152.3147,    9,     50.4,  28.1050,    34.7210,0,    34.7180,2,      185.4,0,      192.3,2
PANDORA,,069,01,,18,,20140120,201346, -8.8168, 152.3147,    9,     50.4,  28.1030,    34.7210,0,  -999.0000,9,      185.1,0,     -999.0,9
PANDORA,,069,01,,19,,20140120,201346, -8.8168, 152.3147,    9,     25.1,  28.1000,    34.7200,0,    34.7180,2,      185.2,0,      192.3,2
PANDORA,,069,01,,20,,20140120,201346, -8.8168, 152.3147,    9,     25.1,  28.0990,    34.7210,0,  -999.0000,9,      185.6,0,     -999.0,9
PANDORA,,069,01,,21,,20140120,201346, -8.8168, 152.3147,    9,      5.4,  28.0930,    34.7210,0,    34.7180,2,      185.7,0,      192.0,2
PANDORA,,069,01,,22,,20140120,201346, -8.8168, 152.3147,    9,      5.1,  28.0960,    34.7210,0,  -999.0000,9,      185.8,0,     -999.0,9
PANDORA,,070,01,, 1,,20140120,003429, -8.5912, 151.7917, 1039,   1000.7,   4.2940,    34.5130,0,    34.5120,2,      141.2,0,      145.4,2
PANDORA,,070,01,, 2,,20140120,003429, -8.5912, 151.7917, 1039,    966.0,   4.3770,    34.5070,0,  -999.0000,9,      143.1,0,     -999.0,9
PANDORA,,070,01,, 3,,20140120,003429, -8.5912, 151.7917, 1039,    865.4,   4.7540,    34.4890,0,    34.4890,2,      147.8,0,      151.6,2
PANDORA,,070,01,, 4,,20140120,003429, -8.5912, 151.7917, 1039,    765.9,   5.3220,    34.4820,0,  -999.0000,9,      153.5,0,     -999.0,9
PANDORA,,070,01,, 5,,20140120,003429, -8.5912, 151.7917, 1039,    665.5,   6.1330,    34.4710,0,  -999.0000,9,      168.4,0,     -999.0,9
PANDORA,,070,01,, 6,,20140120,003429, -8.5912, 151.7917, 1039,    565.7,   7.9590,    34.5710,0,    34.5710,2,      173.4,0,      177.6,2
PANDORA,,070,01,, 7,,20140120,003429, -8.5912, 151.7917, 1039,    465.7,   9.1760,    34.6630,0,  -999.0000,9,      172.1,0,     -999.0,9
PANDORA,,070,01,, 8,,20140120,003429, -8.5912, 151.7917, 1039,    465.6,   9.1740,    34.6630,0,    34.6630,2,      172.2,0,      176.5,2
PANDORA,,070,01,, 9,,20140120,003429, -8.5912, 151.7917, 1039,    365.6,  11.0880,    34.8310,0,    34.8310,2,      166.4,0,      169.9,2
PANDORA,,070,01,,10,,20140120,003429, -8.5912, 151.7917, 1039,    285.4,  14.4390,    35.1280,0,  -999.0000,9,      143.0,0,     -999.0,9
PANDORA,,070,01,,11,,20140120,003429, -8.5912, 151.7917, 1039,    235.6,  16.4460,    35.3140,0,    35.3130,2,      134.5,0,      139.6,2
PANDORA,,070,01,,12,,20140120,003429, -8.5912, 151.7917, 1039,    185.6,  20.1730,    35.6580,0,  -999.0000,9,      121.7,0,     -999.0,9
PANDORA,,070,01,,13,,20140120,003429, -8.5912, 151.7917, 1039,    150.1,  22.5620,    35.7270,0,    35.7250,2,      128.2,0,      131.7,2
PANDORA,,070,01,,14,,20140120,003429, -8.5912, 151.7917, 1039,    150.0,  22.5670,    35.7280,0,  -999.0000,9,      128.3,0,     -999.0,9
PANDORA,,070,01,,15,,20140120,003429, -8.5912, 151.7917, 1039,    100.4,  25.6820,    35.4510,0,    35.4490,2,      142.8,0,      146.2,2
PANDORA,,070,01,,16,,20140120,003429, -8.5912, 151.7917, 1039,    100.7,  25.6770,    35.4550,0,  -999.0000,9,      142.1,0,     -999.0,9
PANDORA,,070,01,,17,,20140120,003429, -8.5912, 151.7917, 1039,     50.0,  28.1940,    34.7630,0,    34.7610,2,      185.4,0,      191.0,2
PANDORA,,070,01,,18,,20140120,003429, -8.5912, 151.7917, 1039,     50.0,  28.1950,    34.7630,0,  -999.0000,9,      185.8,0,     -999.0,9
PANDORA,,070,01,,19,,20140120,003429, -8.5912, 151.7917, 1039,     24.8,  28.2010,    34.7620,0,    34.7590,2,      184.5,0,      190.9,2
PANDORA,,070,01,,20,,20140120,003429, -8.5912, 151.7917, 1039,     24.9,  28.2040,    34.7620,0,  -999.0000,9,      185.1,0,     -999.0,9
PANDORA,,070,01,,21,,20140120,003429, -8.5912, 151.7917, 1039,      4.9,  28.2050,    34.7630,0,    34.7600,2,      185.4,0,      193.1,2
PANDORA,,070,01,,22,,20140120,003429, -8.5912, 151.7917, 1039,      5.0,  28.2070,    34.7630,0,  -999.0000,9,      185.6,0,     -999.0,9